BEGIN:VCALENDAR
VERSION:2.0
PRODID:-//Metalhead - ECPv6.15.20//NONSGML v1.0//EN
CALSCALE:GREGORIAN
METHOD:PUBLISH
X-WR-CALNAME:Metalhead
X-ORIGINAL-URL:https://www.metalhead.it
X-WR-CALDESC:Eventi per Metalhead
REFRESH-INTERVAL;VALUE=DURATION:PT1H
X-Robots-Tag:noindex
X-PUBLISHED-TTL:PT1H
BEGIN:VTIMEZONE
TZID:Europe/Rome
BEGIN:DAYLIGHT
TZOFFSETFROM:+0100
TZOFFSETTO:+0200
TZNAME:CEST
DTSTART:20230326T010000
END:DAYLIGHT
BEGIN:STANDARD
TZOFFSETFROM:+0200
TZOFFSETTO:+0100
TZNAME:CET
DTSTART:20231029T010000
END:STANDARD
BEGIN:DAYLIGHT
TZOFFSETFROM:+0100
TZOFFSETTO:+0200
TZNAME:CEST
DTSTART:20240331T010000
END:DAYLIGHT
BEGIN:STANDARD
TZOFFSETFROM:+0200
TZOFFSETTO:+0100
TZNAME:CET
DTSTART:20241027T010000
END:STANDARD
BEGIN:DAYLIGHT
TZOFFSETFROM:+0100
TZOFFSETTO:+0200
TZNAME:CEST
DTSTART:20250330T010000
END:DAYLIGHT
BEGIN:STANDARD
TZOFFSETFROM:+0200
TZOFFSETTO:+0100
TZNAME:CET
DTSTART:20251026T010000
END:STANDARD
END:VTIMEZONE
BEGIN:VEVENT
DTSTART;TZID=Europe/Rome:20241206T193000
DTEND;TZID=Europe/Rome:20241206T233000
DTSTAMP:20260426T055539
CREATED:20240207T192440Z
LAST-MODIFIED:20240207T192440Z
UID:272055-1733513400-1733527800@www.metalhead.it
SUMMARY:THERAPY? @ Milano
DESCRIPTION:Al Legend Club. \nTHERAPY? \nTroublegum 30 – The 30th Anniversary Tour \n  \nVenerdì 6 Dicembre 2024 \nMilano\, Legend Club – viale Enrico Fermi\, 98 \nInizio concerti h. 21:00 \n  \nBiglietti disponibili su Ticketone e Ticketmaster. \nPosto unico in piedi: € 25\,00 + prev.
URL:https://www.metalhead.it/evento/therapy-milano/
LOCATION:LEGEND CLUB\, Viale Enrico Fermi\, 98\, Milano
ATTACH;FMTTYPE=image/jpeg:https://www.metalhead.it/wp-content/uploads/2023/03/Ntherapy10323.jpg
END:VEVENT
END:VCALENDAR