BEGIN:VCALENDAR
VERSION:2.0
PRODID:-//Metalhead - ECPv6.15.20//NONSGML v1.0//EN
CALSCALE:GREGORIAN
METHOD:PUBLISH
X-ORIGINAL-URL:https://www.metalhead.it
X-WR-CALDESC:Eventi per Metalhead
REFRESH-INTERVAL;VALUE=DURATION:PT1H
X-Robots-Tag:noindex
X-PUBLISHED-TTL:PT1H
BEGIN:VTIMEZONE
TZID:Europe/Rome
BEGIN:DAYLIGHT
TZOFFSETFROM:+0100
TZOFFSETTO:+0200
TZNAME:CEST
DTSTART:20230326T010000
END:DAYLIGHT
BEGIN:STANDARD
TZOFFSETFROM:+0200
TZOFFSETTO:+0100
TZNAME:CET
DTSTART:20231029T010000
END:STANDARD
BEGIN:DAYLIGHT
TZOFFSETFROM:+0100
TZOFFSETTO:+0200
TZNAME:CEST
DTSTART:20240331T010000
END:DAYLIGHT
BEGIN:STANDARD
TZOFFSETFROM:+0200
TZOFFSETTO:+0100
TZNAME:CET
DTSTART:20241027T010000
END:STANDARD
BEGIN:DAYLIGHT
TZOFFSETFROM:+0100
TZOFFSETTO:+0200
TZNAME:CEST
DTSTART:20250330T010000
END:DAYLIGHT
BEGIN:STANDARD
TZOFFSETFROM:+0200
TZOFFSETTO:+0100
TZNAME:CET
DTSTART:20251026T010000
END:STANDARD
END:VTIMEZONE
BEGIN:VEVENT
DTSTART;TZID=Europe/Rome:20241227T193000
DTEND;TZID=Europe/Rome:20241227T233000
DTSTAMP:20260426T055604
CREATED:20241216T181746Z
LAST-MODIFIED:20241216T181746Z
UID:293902-1735327800-1735342200@www.metalhead.it
SUMMARY:GRAVE MIASMA @ Erba (CO)
DESCRIPTION:Al Centrale Rock Pub \n20:30 – 21:10: Continuum of Xul\n21:30 – 22:10: Aphotic\n22:30 – 23:30: Grave Miasma \nEvento Facebook QUI
URL:https://www.metalhead.it/evento/grave-miasma-erba-co/
LOCATION:Centrale Rock Pub\, via Cascina California 9\, Erba\, CO\, Italia
ATTACH;FMTTYPE=image/jpeg:https://www.metalhead.it/wp-content/uploads/2024/12/Ngravemiasma_20241226.jpg
END:VEVENT
BEGIN:VEVENT
DTSTART;TZID=Europe/Rome:20241227T193000
DTEND;TZID=Europe/Rome:20241227T233000
DTSTAMP:20260426T055604
CREATED:20241218T182306Z
LAST-MODIFIED:20241218T182306Z
UID:293970-1735327800-1735342200@www.metalhead.it
SUMMARY:STORMLORD @ Piedimonte San Germano (FR)
DESCRIPTION:Al Metropolis Live Club con Aetheris\, Tulpa e Werewolf. \nIngresso gratuito e food ‘n’ beverage a prezzi popolari\nEvento Facebook QUI
URL:https://www.metalhead.it/evento/stormlord-piedimonte-san-germano-fr/
LOCATION:Metropolis Live Club\, Via Calatafimi\, Piedimonte San Germano (FR)\, 03030\, Italia
ATTACH;FMTTYPE=image/jpeg:https://www.metalhead.it/wp-content/uploads/2024/12/Nstormlord_20241218.jpg
END:VEVENT
END:VCALENDAR