BEGIN:VCALENDAR
VERSION:2.0
PRODID:-//Metalhead - ECPv6.15.20//NONSGML v1.0//EN
CALSCALE:GREGORIAN
METHOD:PUBLISH
X-ORIGINAL-URL:https://www.metalhead.it
X-WR-CALDESC:Eventi per Metalhead
REFRESH-INTERVAL;VALUE=DURATION:PT1H
X-Robots-Tag:noindex
X-PUBLISHED-TTL:PT1H
BEGIN:VTIMEZONE
TZID:Europe/Rome
BEGIN:DAYLIGHT
TZOFFSETFROM:+0100
TZOFFSETTO:+0200
TZNAME:CEST
DTSTART:20240331T010000
END:DAYLIGHT
BEGIN:STANDARD
TZOFFSETFROM:+0200
TZOFFSETTO:+0100
TZNAME:CET
DTSTART:20241027T010000
END:STANDARD
BEGIN:DAYLIGHT
TZOFFSETFROM:+0100
TZOFFSETTO:+0200
TZNAME:CEST
DTSTART:20250330T010000
END:DAYLIGHT
BEGIN:STANDARD
TZOFFSETFROM:+0200
TZOFFSETTO:+0100
TZNAME:CET
DTSTART:20251026T010000
END:STANDARD
BEGIN:DAYLIGHT
TZOFFSETFROM:+0100
TZOFFSETTO:+0200
TZNAME:CEST
DTSTART:20260329T010000
END:DAYLIGHT
BEGIN:STANDARD
TZOFFSETFROM:+0200
TZOFFSETTO:+0100
TZNAME:CET
DTSTART:20261025T010000
END:STANDARD
END:VTIMEZONE
BEGIN:VEVENT
DTSTART;TZID=Europe/Rome:20250118T190000
DTEND;TZID=Europe/Rome:20250118T235900
DTSTAMP:20260426T045203
CREATED:20241014T055746Z
LAST-MODIFIED:20241014T060344Z
UID:291346-1737226800-1737244740@www.metalhead.it
SUMMARY:A DAY OF DARKNESS FESTIVAL II @ Paderno Dugnano (MI)
DESCRIPTION:Nihil Prod\, Daemon Star e Orion Agency presentano  A DAY OF DARKNESS FESTIVAL II\, la seconda edizione  che si terrà sabato 18 gennaio 2025 allo Slaughter Club di Paderno Dugnano (MI)! \n– FORGOTTEN TOMB (IT) old school set\n– THY LIGHT (BRA) prima volta in italia\n– NOCTURNAL DEPRESSION (FRA) “Spleen Black Metal” set\n– PSYCHONAUT 4 (GA)\n+ more tba \n SLAUGHTER CLUB \nVia Tagliabue 4 \nPaderno Dugnano (MI) \nEvento Facebook QUI \nINGRESSO CON TESSERA ACSI. Tesseramento online QUI \nPossibilità di cenare al locale\nAmpio Parcheggio FREE \n \n 
URL:https://www.metalhead.it/evento/a-day-of-darkness-festival-ii-paderno-dugnano-mi/
LOCATION:Slaughter Club  Via Tagliabue 4 – Paderno Dugnano (MI)\, Via Tagliabue 4\, Paderno Dugnano (MI)\, MI\, Italia
ATTACH;FMTTYPE=image/jpeg:https://www.metalhead.it/wp-content/uploads/2024/10/nADAYOFDARKNESS_II_20241014-1.jpg
END:VEVENT
BEGIN:VEVENT
DTSTART;TZID=Europe/Rome:20250118T193000
DTEND;TZID=Europe/Rome:20250118T233000
DTSTAMP:20260426T045203
CREATED:20241022T191033Z
LAST-MODIFIED:20241022T191033Z
UID:291468-1737228600-1737243000@www.metalhead.it
SUMMARY:MILADY METAL FEST 7 @ Mantova
DESCRIPTION:All’Arci Tom con Frozen Crown\, Hellcats\, Volturian\, Neurasty\, Break Me Down e Vox. \nEvento Facebook QUI \nIngresso 22 euro + d.p. in prevendita\, 25 euro in cassa il giorno dell’evento. \nPrevendita QUI \nRiservato ai soci Arci con tessera 2024/2025 (è possibile farla in loco al costo di 13 euro il giorno dell’evento).
URL:https://www.metalhead.it/evento/milady-metal-fest-7-mantova/
LOCATION:ARCI TOM\, Piazza Tom Benetollo 2\, Mantova\, 46100\, Italia
ATTACH;FMTTYPE=image/jpeg:https://www.metalhead.it/wp-content/uploads/2024/10/Nmiladymetalfest_20241022.jpg
END:VEVENT
BEGIN:VEVENT
DTSTART;TZID=Europe/Rome:20250118T193000
DTEND;TZID=Europe/Rome:20250118T233000
DTSTAMP:20260426T045203
CREATED:20241128T184950Z
LAST-MODIFIED:20241128T184950Z
UID:293526-1737228600-1737243000@www.metalhead.it
SUMMARY:FROZEN CROWN @ Mantova
DESCRIPTION:All’Arci Tom
URL:https://www.metalhead.it/evento/frozen-crown-mantova/
LOCATION:ARCI TOM\, Piazza Tom Benetollo 2\, Mantova\, 46100\, Italia
ATTACH;FMTTYPE=image/jpeg:https://www.metalhead.it/wp-content/uploads/2024/11/Nfrowncrown_20241128.jpg
END:VEVENT
BEGIN:VEVENT
DTSTART;TZID=Europe/Rome:20250118T200000
DTEND;TZID=Europe/Rome:20250118T233000
DTSTAMP:20260426T045203
CREATED:20250109T200849Z
LAST-MODIFIED:20250109T201737Z
UID:294432-1737230400-1737243000@www.metalhead.it
SUMMARY:AD NOCTEM FEST @ Busto Arsizio (VA)
DESCRIPTION:Alla Comunità Giovanile con:\nShiver Down\nFamily Devotion Murder\nDemidead\nAshen Fields \nEvento Facebook QUI
URL:https://www.metalhead.it/evento/ad-noctem-fest-busto-arsizio-va/
LOCATION:Comunità Giovanile\, Vicolo Carpi\, 5\, 21052 Busto Arsizio VA\, Italie\, Busto Arsizio (VA)\, 21052\, Italy
ATTACH;FMTTYPE=image/jpeg:https://www.metalhead.it/wp-content/uploads/2025/01/Nadnoctemfest_20250109.jpg
END:VEVENT
END:VCALENDAR