BEGIN:VCALENDAR
VERSION:2.0
PRODID:-//Metalhead - ECPv6.15.20//NONSGML v1.0//EN
CALSCALE:GREGORIAN
METHOD:PUBLISH
X-WR-CALNAME:Metalhead
X-ORIGINAL-URL:https://www.metalhead.it
X-WR-CALDESC:Eventi per Metalhead
REFRESH-INTERVAL;VALUE=DURATION:PT1H
X-Robots-Tag:noindex
X-PUBLISHED-TTL:PT1H
BEGIN:VTIMEZONE
TZID:Europe/Rome
BEGIN:DAYLIGHT
TZOFFSETFROM:+0100
TZOFFSETTO:+0200
TZNAME:CEST
DTSTART:20240331T010000
END:DAYLIGHT
BEGIN:STANDARD
TZOFFSETFROM:+0200
TZOFFSETTO:+0100
TZNAME:CET
DTSTART:20241027T010000
END:STANDARD
BEGIN:DAYLIGHT
TZOFFSETFROM:+0100
TZOFFSETTO:+0200
TZNAME:CEST
DTSTART:20250330T010000
END:DAYLIGHT
BEGIN:STANDARD
TZOFFSETFROM:+0200
TZOFFSETTO:+0100
TZNAME:CET
DTSTART:20251026T010000
END:STANDARD
BEGIN:DAYLIGHT
TZOFFSETFROM:+0100
TZOFFSETTO:+0200
TZNAME:CEST
DTSTART:20260329T010000
END:DAYLIGHT
BEGIN:STANDARD
TZOFFSETFROM:+0200
TZOFFSETTO:+0100
TZNAME:CET
DTSTART:20261025T010000
END:STANDARD
END:VTIMEZONE
BEGIN:VEVENT
DTSTART;TZID=Europe/Rome:20250124T193000
DTEND;TZID=Europe/Rome:20250124T233000
DTSTAMP:20260426T045120
CREATED:20241104T184419Z
LAST-MODIFIED:20241104T184419Z
UID:292702-1737747000-1737761400@www.metalhead.it
SUMMARY:PADOVA BLACK METAL FEST @ Padova
DESCRIPTION:Al Grind House con \nEXITIUM  \nTULPA  \nBØNES  \nSTRJA  \nL’inizio è previsto per le 21\nIngresso: 10€\, riservato ai soci ACSI \nEvento Facebook QUI
URL:https://www.metalhead.it/evento/padova-black-metal-fest-padova/
LOCATION:GRIND HOUSE\, PADOVA\, PD\, Italia
ATTACH;FMTTYPE=image/jpeg:https://www.metalhead.it/wp-content/uploads/2024/11/Npadovablackmetalf_20211104.jpg
END:VEVENT
END:VCALENDAR