BEGIN:VCALENDAR
VERSION:2.0
PRODID:-//Metalhead - ECPv6.15.20//NONSGML v1.0//EN
CALSCALE:GREGORIAN
METHOD:PUBLISH
X-WR-CALNAME:Metalhead
X-ORIGINAL-URL:https://www.metalhead.it
X-WR-CALDESC:Eventi per Metalhead
REFRESH-INTERVAL;VALUE=DURATION:PT1H
X-Robots-Tag:noindex
X-PUBLISHED-TTL:PT1H
BEGIN:VTIMEZONE
TZID:Europe/Rome
BEGIN:DAYLIGHT
TZOFFSETFROM:+0100
TZOFFSETTO:+0200
TZNAME:CEST
DTSTART:20240331T010000
END:DAYLIGHT
BEGIN:STANDARD
TZOFFSETFROM:+0200
TZOFFSETTO:+0100
TZNAME:CET
DTSTART:20241027T010000
END:STANDARD
BEGIN:DAYLIGHT
TZOFFSETFROM:+0100
TZOFFSETTO:+0200
TZNAME:CEST
DTSTART:20250330T010000
END:DAYLIGHT
BEGIN:STANDARD
TZOFFSETFROM:+0200
TZOFFSETTO:+0100
TZNAME:CET
DTSTART:20251026T010000
END:STANDARD
BEGIN:DAYLIGHT
TZOFFSETFROM:+0100
TZOFFSETTO:+0200
TZNAME:CEST
DTSTART:20260329T010000
END:DAYLIGHT
BEGIN:STANDARD
TZOFFSETFROM:+0200
TZOFFSETTO:+0100
TZNAME:CET
DTSTART:20261025T010000
END:STANDARD
END:VTIMEZONE
BEGIN:VEVENT
DTSTART;TZID=Europe/Rome:20250206T220000
DTEND;TZID=Europe/Rome:20250206T233000
DTSTAMP:20260426T033453
CREATED:20250104T123958Z
LAST-MODIFIED:20250104T123958Z
UID:294334-1738879200-1738884600@www.metalhead.it
SUMMARY:OTTONE PESANTE e AINU @ Torino
DESCRIPTION:Allo Ziggy Club \nore 22 \nZiggy Club di Torino\nvia Madama Cristina 66\, Torino (TO) \nContributo artistico 12€ \nL’ingresso è riservato ai possessori di tessera ARCI. Sarà possibile sottoscrivere la tessera la sera stessa dell’evento. \nEvento Facebook QUI
URL:https://www.metalhead.it/evento/ottone-pesante-e-ainu-torino/
LOCATION:Ziggy Club\, via Madama Cristina 66\, Torino\, TO\, Italia
END:VEVENT
BEGIN:VEVENT
DTSTART;TZID=Europe/Rome:20250206T220000
DTEND;TZID=Europe/Rome:20250206T235900
DTSTAMP:20260426T033453
CREATED:20241231T094845Z
LAST-MODIFIED:20241231T095333Z
UID:294266-1738879200-1738886340@www.metalhead.it
SUMMARY:OTTONE PESANTE + AINU @ Torino
DESCRIPTION:OTTONE PESANTE + AINU \nGiovedì 6 febbraio 2025\nore 22:00\n Ziggy Club\nvia Madama Cristina 66\, Torino (TO) \nContributo artistico 12€ \nL’ingresso è riservato ai possessori di tessera ARCI. Sarà possibile sottoscrivere la tessera la sera stessa dell’evento. \nEvento Facebook QUI  
URL:https://www.metalhead.it/evento/ottone-pesante-ainu-torino/
LOCATION:Ziggy Club\, via Madama Cristina 66\, Torino\, TO\, Italia
ATTACH;FMTTYPE=image/jpeg:https://www.metalhead.it/wp-content/uploads/2024/12/nOttonePesante_20241231.jpg
END:VEVENT
END:VCALENDAR