BEGIN:VCALENDAR
VERSION:2.0
PRODID:-//Metalhead - ECPv6.15.20//NONSGML v1.0//EN
CALSCALE:GREGORIAN
METHOD:PUBLISH
X-ORIGINAL-URL:https://www.metalhead.it
X-WR-CALDESC:Eventi per Metalhead
REFRESH-INTERVAL;VALUE=DURATION:PT1H
X-Robots-Tag:noindex
X-PUBLISHED-TTL:PT1H
BEGIN:VTIMEZONE
TZID:Europe/Rome
BEGIN:DAYLIGHT
TZOFFSETFROM:+0100
TZOFFSETTO:+0200
TZNAME:CEST
DTSTART:20240331T010000
END:DAYLIGHT
BEGIN:STANDARD
TZOFFSETFROM:+0200
TZOFFSETTO:+0100
TZNAME:CET
DTSTART:20241027T010000
END:STANDARD
BEGIN:DAYLIGHT
TZOFFSETFROM:+0100
TZOFFSETTO:+0200
TZNAME:CEST
DTSTART:20250330T010000
END:DAYLIGHT
BEGIN:STANDARD
TZOFFSETFROM:+0200
TZOFFSETTO:+0100
TZNAME:CET
DTSTART:20251026T010000
END:STANDARD
BEGIN:DAYLIGHT
TZOFFSETFROM:+0100
TZOFFSETTO:+0200
TZNAME:CEST
DTSTART:20260329T010000
END:DAYLIGHT
BEGIN:STANDARD
TZOFFSETFROM:+0200
TZOFFSETTO:+0100
TZNAME:CET
DTSTART:20261025T010000
END:STANDARD
END:VTIMEZONE
BEGIN:VEVENT
DTSTART;TZID=Europe/Rome:20250222T190000
DTEND;TZID=Europe/Rome:20250222T235900
DTSTAMP:20260426T033506
CREATED:20250130T084118Z
LAST-MODIFIED:20250130T084118Z
UID:295587-1740250800-1740268740@www.metalhead.it
SUMMARY:FULCI e SLUGGORE @ Modena
DESCRIPTION:Mostro Production\, The Abyss Booking\, Trivel\, Blaster e Obscene presentano un evento imperdibile: Blaster vs Obscene! Un incontro sonoro devastante che riunisce due delle realtà più dinamiche e innovative nella scena alternativa italiana. \nDue le band protagoniste sul palco: FULCI e SLUGGORE! \nE dopo il live\, la serata entrerà nel vivo con tre diverse dancefloor in cui ballare fino a tarda notte! \nAppuntamento il 22 febbraio presso il NotteTempio di Modena \nEvento Facebook QUI \nPrevendite disponibili a 15 euro + d.p. | 20 euro in cassa \n \nSponsor: Emp Italia\, American Socks e Time to Kill \n 
URL:https://www.metalhead.it/evento/fulci-e-sluggore-modena/
LOCATION:NotteTempio\, Via Nicolò Biondo\, 194\, 41126 Modena\, Modena\, 41126\, Italia
ATTACH;FMTTYPE=image/jpeg:https://www.metalhead.it/wp-content/uploads/2025/01/bFulciSluggore_20250130.jpg
END:VEVENT
END:VCALENDAR