BEGIN:VCALENDAR
VERSION:2.0
PRODID:-//Metalhead - ECPv6.15.20//NONSGML v1.0//EN
CALSCALE:GREGORIAN
METHOD:PUBLISH
X-ORIGINAL-URL:https://www.metalhead.it
X-WR-CALDESC:Eventi per Metalhead
REFRESH-INTERVAL;VALUE=DURATION:PT1H
X-Robots-Tag:noindex
X-PUBLISHED-TTL:PT1H
BEGIN:VTIMEZONE
TZID:Europe/Rome
BEGIN:DAYLIGHT
TZOFFSETFROM:+0100
TZOFFSETTO:+0200
TZNAME:CEST
DTSTART:20240331T010000
END:DAYLIGHT
BEGIN:STANDARD
TZOFFSETFROM:+0200
TZOFFSETTO:+0100
TZNAME:CET
DTSTART:20241027T010000
END:STANDARD
BEGIN:DAYLIGHT
TZOFFSETFROM:+0100
TZOFFSETTO:+0200
TZNAME:CEST
DTSTART:20250330T010000
END:DAYLIGHT
BEGIN:STANDARD
TZOFFSETFROM:+0200
TZOFFSETTO:+0100
TZNAME:CET
DTSTART:20251026T010000
END:STANDARD
BEGIN:DAYLIGHT
TZOFFSETFROM:+0100
TZOFFSETTO:+0200
TZNAME:CEST
DTSTART:20260329T010000
END:DAYLIGHT
BEGIN:STANDARD
TZOFFSETFROM:+0200
TZOFFSETTO:+0100
TZNAME:CET
DTSTART:20261025T010000
END:STANDARD
END:VTIMEZONE
BEGIN:VEVENT
DTSTART;TZID=Europe/Rome:20250227T193000
DTEND;TZID=Europe/Rome:20250227T233000
DTSTAMP:20260426T021352
CREATED:20250215T091611Z
LAST-MODIFIED:20250215T091611Z
UID:296488-1740684600-1740699000@www.metalhead.it
SUMMARY:PLANET OF ZEUS @ Torino
DESCRIPTION:Con i Bottomless \nBlah Blah Club – Via Po 21 – TORINO \nINGRESSO: 15€ in cassa\, 12€ + D.P. in prevendita \nPREVENDITE QUI \nEVENTO FACEBOOK QUI \n  \nPer maggiori info e aggiornamenti: \n\nBurning Tower facebook \nBurning Tower Instagram
URL:https://www.metalhead.it/evento/planet-of-zeus-torino/
LOCATION:BLAH BLAH
ATTACH;FMTTYPE=image/jpeg:https://www.metalhead.it/wp-content/uploads/2025/02/Nplanetofzeus_20250215.jpg
END:VEVENT
END:VCALENDAR