BEGIN:VCALENDAR
VERSION:2.0
PRODID:-//Metalhead - ECPv6.15.20//NONSGML v1.0//EN
CALSCALE:GREGORIAN
METHOD:PUBLISH
X-ORIGINAL-URL:https://www.metalhead.it
X-WR-CALDESC:Eventi per Metalhead
REFRESH-INTERVAL;VALUE=DURATION:PT1H
X-Robots-Tag:noindex
X-PUBLISHED-TTL:PT1H
BEGIN:VTIMEZONE
TZID:Europe/Rome
BEGIN:DAYLIGHT
TZOFFSETFROM:+0100
TZOFFSETTO:+0200
TZNAME:CEST
DTSTART:20240331T010000
END:DAYLIGHT
BEGIN:STANDARD
TZOFFSETFROM:+0200
TZOFFSETTO:+0100
TZNAME:CET
DTSTART:20241027T010000
END:STANDARD
BEGIN:DAYLIGHT
TZOFFSETFROM:+0100
TZOFFSETTO:+0200
TZNAME:CEST
DTSTART:20250330T010000
END:DAYLIGHT
BEGIN:STANDARD
TZOFFSETFROM:+0200
TZOFFSETTO:+0100
TZNAME:CET
DTSTART:20251026T010000
END:STANDARD
BEGIN:DAYLIGHT
TZOFFSETFROM:+0100
TZOFFSETTO:+0200
TZNAME:CEST
DTSTART:20260329T010000
END:DAYLIGHT
BEGIN:STANDARD
TZOFFSETFROM:+0200
TZOFFSETTO:+0100
TZNAME:CET
DTSTART:20261025T010000
END:STANDARD
END:VTIMEZONE
BEGIN:VEVENT
DTSTART;TZID=Europe/Rome:20250301T193000
DTEND;TZID=Europe/Rome:20250301T233000
DTSTAMP:20260426T033505
CREATED:20241228T093813Z
LAST-MODIFIED:20241228T094603Z
UID:294250-1740857400-1740871800@www.metalhead.it
SUMMARY:UNHOLY DEAD FEST @ Pinerolo (TO)
DESCRIPTION:Presso Chiesa Sconsacrata di Pinerolo (TO)\, Via San Giuseppe 50 \nNARGAROTH \nSPECIAL GUEST: Adversam (IT)\, Black Raptus (IT)\, Demonium Ascension (IT) \nBIGLIETTI DISPONIBILI: 200 (CAPACITA’ MASSIMA DELLA CHIESA) \nLINK PAYPAL PER PREVENDITE: churchofcrow@libero.it \nPREZZO: 35 EURO (SPECIFICARE DATA\, LUOGO E NOME EVENTO) \nBIGLIETTI ALLA PORTA: Tba \nEvento Facebook QUI \nINFO: churchofcrow@libero.it
URL:https://www.metalhead.it/evento/unholy-dead-fest-pinerolo-to/
LOCATION:Chiesa Sconsacrata di Pinerolo\, Via San Giuseppe 50\, Pinerolo (TO)
ATTACH;FMTTYPE=image/jpeg:https://www.metalhead.it/wp-content/uploads/2024/12/Nunholydeadfest_20242712.jpg
END:VEVENT
BEGIN:VEVENT
DTSTART;TZID=Europe/Rome:20250301T193000
DTEND;TZID=Europe/Rome:20250301T233000
DTSTAMP:20260426T033505
CREATED:20250203T193532Z
LAST-MODIFIED:20250203T193532Z
UID:295870-1740857400-1740871800@www.metalhead.it
SUMMARY:DISTRUZIONE @ Piedimonte San Germano (FR)
DESCRIPTION:Al Metropolis con Criminal Madhouse Conspiracy\, Lesnar Suplex. \nINGRESSO GRATUITO\, fiumi di birra e panini a prezzi popolari. \nEvento Facebook QUI
URL:https://www.metalhead.it/evento/distruzione-piedimonte-san-germano-fr/
LOCATION:Metropolis Live Club\, Via Calatafimi\, Piedimonte San Germano (FR)\, 03030\, Italia
ATTACH;FMTTYPE=image/jpeg:https://www.metalhead.it/wp-content/uploads/2025/02/Ndistruzione_20250203.jpg
END:VEVENT
END:VCALENDAR