BEGIN:VCALENDAR
VERSION:2.0
PRODID:-//Metalhead - ECPv6.15.20//NONSGML v1.0//EN
CALSCALE:GREGORIAN
METHOD:PUBLISH
X-WR-CALNAME:Metalhead
X-ORIGINAL-URL:https://www.metalhead.it
X-WR-CALDESC:Eventi per Metalhead
REFRESH-INTERVAL;VALUE=DURATION:PT1H
X-Robots-Tag:noindex
X-PUBLISHED-TTL:PT1H
BEGIN:VTIMEZONE
TZID:Europe/Rome
BEGIN:DAYLIGHT
TZOFFSETFROM:+0100
TZOFFSETTO:+0200
TZNAME:CEST
DTSTART:20240331T010000
END:DAYLIGHT
BEGIN:STANDARD
TZOFFSETFROM:+0200
TZOFFSETTO:+0100
TZNAME:CET
DTSTART:20241027T010000
END:STANDARD
BEGIN:DAYLIGHT
TZOFFSETFROM:+0100
TZOFFSETTO:+0200
TZNAME:CEST
DTSTART:20250330T010000
END:DAYLIGHT
BEGIN:STANDARD
TZOFFSETFROM:+0200
TZOFFSETTO:+0100
TZNAME:CET
DTSTART:20251026T010000
END:STANDARD
BEGIN:DAYLIGHT
TZOFFSETFROM:+0100
TZOFFSETTO:+0200
TZNAME:CEST
DTSTART:20260329T010000
END:DAYLIGHT
BEGIN:STANDARD
TZOFFSETFROM:+0200
TZOFFSETTO:+0100
TZNAME:CET
DTSTART:20261025T010000
END:STANDARD
END:VTIMEZONE
BEGIN:VEVENT
DTSTART;TZID=Europe/Rome:20250307T220000
DTEND;TZID=Europe/Rome:20250307T233000
DTSTAMP:20260426T022143
CREATED:20250303T192209Z
LAST-MODIFIED:20250303T192209Z
UID:297239-1741384800-1741390200@www.metalhead.it
SUMMARY:STORMLORD @ Ciampino (RM)
DESCRIPTION:All’Orion con i Black Therapy \nPrevendita su Dice\nIngresso ore 22\n10€ + diritto di prevendita\nIngresso in cassa 15€ \nINFO/ Prevendite\n3455919515 <<< Black Out\n 068901 3645 <<< Orion\ninfo@blackoutrockclub.it\ninfo@orionliveclub.com \nBlack Out c/o Orion\nViale J.F. Kennedy\, 52\, 00043\nCiapino (RM) \nCome raggiungerci QUI
URL:https://www.metalhead.it/evento/stormlord-ciampino-rm/
LOCATION:ORION Viale John Fitzgerald Kennedy\, 52\, 00043 Ciampino Roma\, Viale John Fitzgerald Kennedy\, 52\,\, Ciampino Roma\, 00043
ATTACH;FMTTYPE=image/jpeg:https://www.metalhead.it/wp-content/uploads/2025/03/Nstorlord_20250303.jpg
END:VEVENT
END:VCALENDAR