BEGIN:VCALENDAR
VERSION:2.0
PRODID:-//Metalhead - ECPv6.15.20//NONSGML v1.0//EN
CALSCALE:GREGORIAN
METHOD:PUBLISH
X-WR-CALNAME:Metalhead
X-ORIGINAL-URL:https://www.metalhead.it
X-WR-CALDESC:Eventi per Metalhead
REFRESH-INTERVAL;VALUE=DURATION:PT1H
X-Robots-Tag:noindex
X-PUBLISHED-TTL:PT1H
BEGIN:VTIMEZONE
TZID:Europe/Rome
BEGIN:DAYLIGHT
TZOFFSETFROM:+0100
TZOFFSETTO:+0200
TZNAME:CEST
DTSTART:20240331T010000
END:DAYLIGHT
BEGIN:STANDARD
TZOFFSETFROM:+0200
TZOFFSETTO:+0100
TZNAME:CET
DTSTART:20241027T010000
END:STANDARD
BEGIN:DAYLIGHT
TZOFFSETFROM:+0100
TZOFFSETTO:+0200
TZNAME:CEST
DTSTART:20250330T010000
END:DAYLIGHT
BEGIN:STANDARD
TZOFFSETFROM:+0200
TZOFFSETTO:+0100
TZNAME:CET
DTSTART:20251026T010000
END:STANDARD
BEGIN:DAYLIGHT
TZOFFSETFROM:+0100
TZOFFSETTO:+0200
TZNAME:CEST
DTSTART:20260329T010000
END:DAYLIGHT
BEGIN:STANDARD
TZOFFSETFROM:+0200
TZOFFSETTO:+0100
TZNAME:CET
DTSTART:20261025T010000
END:STANDARD
END:VTIMEZONE
BEGIN:VEVENT
DTSTART;TZID=Europe/Rome:20250314T170000
DTEND;TZID=Europe/Rome:20250314T233000
DTSTAMP:20260426T021401
CREATED:20250224T181713Z
LAST-MODIFIED:20250224T182107Z
UID:296705-1741971600-1741995000@www.metalhead.it
SUMMARY:HYPE METAL ASSAULT @ Castel Volturno (CE)
DESCRIPTION:Presso Hype Live Club con Stormlord\, Madvice\, MauleD\, In Aevum Agere\, Downburst \nPrevendita su Xceed al prezzo speciale di €10\,00 in first release QUI.
URL:https://www.metalhead.it/evento/hype-metal-assault-casrtel-volturno-ce/
LOCATION:Hype – discoteca / live club\, Via Mezzagni\, Castel Volturno (CE)\, 81030\, Italy
ATTACH;FMTTYPE=image/jpeg:https://www.metalhead.it/wp-content/uploads/2025/02/Nhypemetalassault_20250224.jpg
END:VEVENT
BEGIN:VEVENT
DTSTART;TZID=Europe/Rome:20250314T180000
DTEND;TZID=Europe/Rome:20250314T235900
DTSTAMP:20260426T021401
CREATED:20250209T214617Z
LAST-MODIFIED:20250209T214617Z
UID:296347-1741975200-1741996740@www.metalhead.it
SUMMARY:INFERNUM METALLUM FEST @ San Germano (FR)
DESCRIPTION:L’ INFERNUM METALLUM FEST vede il grande ritorno sul palco del Metropolis Live Club di Piedimonte San Germano (FR) di una vera leggenda del metal tricolore\, i seminali NECRODEATH!!! \nAppuntamento il 14 marzo! \nA supporto: \n-i baresi DEWFALL con il loro poderoso epic black metal. La band nata nel 2003 è molto attiva sia in Italia che all’estero dove ha condiviso il palco con nomi di rilievo della scena metal ed ha recentemente rilasciato il suo terzo album “Landhaskur” che sta riscuotendo ottimi responsi in giro per il mondo.\n \n-i cassinati USURPER band dedita totalmente all’oscuro ed estremo verbo dei Celtic Frost\, \n-i romani ORGG in procinto di rilasciare il loro terzo album\, la loro proposta è un black metal con liriche che trattano il tema degli orrori della guerra\, soprattutto su quella tra l’impero Austro Ungarico e l’Italia concentrandosi sul contrasto creato dagli orribili avvenimenti bellici e la natura maestosa e stupenda dello scenario dolomitico. \n-in apertura i capitolini VOX INFERI che propongono un black/death metal che alterna liriche in inglese a quella in lingua madre con tematiche che analizzano in modo spietato le miserie del presente.\n \nUn Festival che si preannuncia decisamente imperdibile per tutti gli amanti delle sonorità estreme al quale voi non dovrete assolutamente mancare e poi come se non bastasse INGRESSO GRATUITO e food ‘n’ beverage a prezzi popolari!!! \n 
URL:https://www.metalhead.it/evento/infernum-metallum-fest-san-germano-fr/
LOCATION:Metropolis Live Club\, Via Calatafimi\, Piedimonte San Germano (FR)\, 03030\, Italia
ATTACH;FMTTYPE=image/jpeg:https://www.metalhead.it/wp-content/uploads/2025/02/nINFERNUMMETALLUMFEST_20250209.jpg
END:VEVENT
BEGIN:VEVENT
DTSTART;TZID=Europe/Rome:20250314T193000
DTEND;TZID=Europe/Rome:20250314T233000
DTSTAMP:20260426T021401
CREATED:20250312T205109Z
LAST-MODIFIED:20250312T205109Z
UID:297424-1741980600-1741995000@www.metalhead.it
SUMMARY:OCTOBER TIDE @ Torino
DESCRIPTION:Al Blah Blah con Laargoo \nStart ore 21 \nBiglietti in prevendita: 18€ \nBiglietti alla porta: 20€ \nInfo prevendite: \n–       Inviare l’importo di 18€ al seguente indirizzo: http://bit.ly/PrevBlahBlah \n–       Indicare nella sezione “Aggiungi Messaggio” tramite Paypal la causale: “ ” indicando anche e \n–       Comunicare in cassa il proprio il giorno dell’evento. \nInfo & Contatti: Lorenzo Moffa: 329.4270625 \n  \nEvento Facebook QUI
URL:https://www.metalhead.it/evento/october-tide-torino/
LOCATION:BLAH BLAH
ATTACH;FMTTYPE=image/jpeg:https://www.metalhead.it/wp-content/uploads/2025/03/Noctobertide_20250312.jpg
END:VEVENT
END:VCALENDAR