BEGIN:VCALENDAR
VERSION:2.0
PRODID:-//Metalhead - ECPv6.15.20//NONSGML v1.0//EN
CALSCALE:GREGORIAN
METHOD:PUBLISH
X-ORIGINAL-URL:https://www.metalhead.it
X-WR-CALDESC:Eventi per Metalhead
REFRESH-INTERVAL;VALUE=DURATION:PT1H
X-Robots-Tag:noindex
X-PUBLISHED-TTL:PT1H
BEGIN:VTIMEZONE
TZID:Europe/Rome
BEGIN:DAYLIGHT
TZOFFSETFROM:+0100
TZOFFSETTO:+0200
TZNAME:CEST
DTSTART:20240331T010000
END:DAYLIGHT
BEGIN:STANDARD
TZOFFSETFROM:+0200
TZOFFSETTO:+0100
TZNAME:CET
DTSTART:20241027T010000
END:STANDARD
BEGIN:DAYLIGHT
TZOFFSETFROM:+0100
TZOFFSETTO:+0200
TZNAME:CEST
DTSTART:20250330T010000
END:DAYLIGHT
BEGIN:STANDARD
TZOFFSETFROM:+0200
TZOFFSETTO:+0100
TZNAME:CET
DTSTART:20251026T010000
END:STANDARD
BEGIN:DAYLIGHT
TZOFFSETFROM:+0100
TZOFFSETTO:+0200
TZNAME:CEST
DTSTART:20260329T010000
END:DAYLIGHT
BEGIN:STANDARD
TZOFFSETFROM:+0200
TZOFFSETTO:+0100
TZNAME:CET
DTSTART:20261025T010000
END:STANDARD
END:VTIMEZONE
BEGIN:VEVENT
DTSTART;TZID=Europe/Rome:20250315T193000
DTEND;TZID=Europe/Rome:20250315T233000
DTSTAMP:20260426T021352
CREATED:20241221T053903Z
LAST-MODIFIED:20241221T053903Z
UID:294071-1742067000-1742081400@www.metalhead.it
SUMMARY:SPREADING DARKNESS FESTIVAL @ Bologna
DESCRIPTION:All’Alchemica con: \nForgotten Tomb \nOctober Tide \nDevoid Of Thought (death metal) \nBurial (doom-death metal) \nInvernoir (Gothic-doom metal) \nSinister Ghost (black metal) \n  \n  \nAlchemica Music Club – Bologna \nIngresso: 25€ in cassa | Prevendite disponibili su PowerTik.
URL:https://www.metalhead.it/evento/spreading-darkness-festival-bologna/
LOCATION:Alchemica\, Via dei Lapidari\, 8/B\, Bologna\, BO\, Italia
ATTACH;FMTTYPE=image/jpeg:https://www.metalhead.it/wp-content/uploads/2024/12/Nspreadingdarkness_20241221.jpg
END:VEVENT
END:VCALENDAR