BEGIN:VCALENDAR
VERSION:2.0
PRODID:-//Metalhead - ECPv6.15.20//NONSGML v1.0//EN
CALSCALE:GREGORIAN
METHOD:PUBLISH
X-ORIGINAL-URL:https://www.metalhead.it
X-WR-CALDESC:Eventi per Metalhead
REFRESH-INTERVAL;VALUE=DURATION:PT1H
X-Robots-Tag:noindex
X-PUBLISHED-TTL:PT1H
BEGIN:VTIMEZONE
TZID:Europe/Rome
BEGIN:DAYLIGHT
TZOFFSETFROM:+0100
TZOFFSETTO:+0200
TZNAME:CEST
DTSTART:20240331T010000
END:DAYLIGHT
BEGIN:STANDARD
TZOFFSETFROM:+0200
TZOFFSETTO:+0100
TZNAME:CET
DTSTART:20241027T010000
END:STANDARD
BEGIN:DAYLIGHT
TZOFFSETFROM:+0100
TZOFFSETTO:+0200
TZNAME:CEST
DTSTART:20250330T010000
END:DAYLIGHT
BEGIN:STANDARD
TZOFFSETFROM:+0200
TZOFFSETTO:+0100
TZNAME:CET
DTSTART:20251026T010000
END:STANDARD
BEGIN:DAYLIGHT
TZOFFSETFROM:+0100
TZOFFSETTO:+0200
TZNAME:CEST
DTSTART:20260329T010000
END:DAYLIGHT
BEGIN:STANDARD
TZOFFSETFROM:+0200
TZOFFSETTO:+0100
TZNAME:CET
DTSTART:20261025T010000
END:STANDARD
END:VTIMEZONE
BEGIN:VEVENT
DTSTART;TZID=Europe/Rome:20250320T190000
DTEND;TZID=Europe/Rome:20250320T235900
DTSTAMP:20260426T021356
CREATED:20250227T082535Z
LAST-MODIFIED:20250227T082535Z
UID:296796-1742497200-1742515140@www.metalhead.it
SUMMARY:L'IRA DEL BACCANO @ San Donà di Piave (VE)
DESCRIPTION:L’IRA DEL BACCANO \n20.3.2025 \nPresso  \nGarage Guinguette Baladin \nVia XIII Martiri\, 52\,  \n30027 – San Donà di Piave (VE) \n 
URL:https://www.metalhead.it/evento/lira-del-baccano-san-dona-di-piave-ve/
LOCATION:Garage Guinguette Baladin\, Via XIII Martiri\, 52\, San Donà di Piave (VE)\, 30027
ATTACH;FMTTYPE=image/jpeg:https://www.metalhead.it/wp-content/uploads/2025/02/nIradelBaccano_20250227.jpg
END:VEVENT
BEGIN:VEVENT
DTSTART;TZID=Europe/Rome:20250320T193000
DTEND;TZID=Europe/Rome:20250320T233000
DTSTAMP:20260426T021356
CREATED:20250212T185012Z
LAST-MODIFIED:20250212T185012Z
UID:296414-1742499000-1742513400@www.metalhead.it
SUMMARY:WARRIOR SOUL @ Cremona
DESCRIPTION:Al Music Factory con Love Machine e Blax \nEvento Facebook QUI
URL:https://www.metalhead.it/evento/warrior-soul-cremona/
LOCATION:Music Factory Live\, Via Diritta\, 9b\, Cremona\, 26100\, Italy
ATTACH;FMTTYPE=image/jpeg:https://www.metalhead.it/wp-content/uploads/2025/02/Nwarriorsoul_20250212.jpg
END:VEVENT
END:VCALENDAR