BEGIN:VCALENDAR
VERSION:2.0
PRODID:-//Metalhead - ECPv6.15.20//NONSGML v1.0//EN
CALSCALE:GREGORIAN
METHOD:PUBLISH
X-WR-CALNAME:Metalhead
X-ORIGINAL-URL:https://www.metalhead.it
X-WR-CALDESC:Eventi per Metalhead
REFRESH-INTERVAL;VALUE=DURATION:PT1H
X-Robots-Tag:noindex
X-PUBLISHED-TTL:PT1H
BEGIN:VTIMEZONE
TZID:Europe/Rome
BEGIN:DAYLIGHT
TZOFFSETFROM:+0100
TZOFFSETTO:+0200
TZNAME:CEST
DTSTART:20240331T010000
END:DAYLIGHT
BEGIN:STANDARD
TZOFFSETFROM:+0200
TZOFFSETTO:+0100
TZNAME:CET
DTSTART:20241027T010000
END:STANDARD
BEGIN:DAYLIGHT
TZOFFSETFROM:+0100
TZOFFSETTO:+0200
TZNAME:CEST
DTSTART:20250330T010000
END:DAYLIGHT
BEGIN:STANDARD
TZOFFSETFROM:+0200
TZOFFSETTO:+0100
TZNAME:CET
DTSTART:20251026T010000
END:STANDARD
BEGIN:DAYLIGHT
TZOFFSETFROM:+0100
TZOFFSETTO:+0200
TZNAME:CEST
DTSTART:20260329T010000
END:DAYLIGHT
BEGIN:STANDARD
TZOFFSETFROM:+0200
TZOFFSETTO:+0100
TZNAME:CET
DTSTART:20261025T010000
END:STANDARD
END:VTIMEZONE
BEGIN:VEVENT
DTSTART;TZID=Europe/Rome:20250322T173000
DTEND;TZID=Europe/Rome:20250322T233000
DTSTAMP:20260426T022142
CREATED:20250104T125543Z
LAST-MODIFIED:20250104T125543Z
UID:294337-1742664600-1742686200@www.metalhead.it
SUMMARY:MASS EXTERMINATION FEST @ San Cesario Sul Panaro (MO)
DESCRIPTION:Devils Area – Bikers Corne \n– NECROMORBID\n– IGNOBLETH\n– URANIAVORE GOATPHAGO\n– NECROBLASPHEMER \nPrezzo: 5.00€ \nCAPIENZA MASSIMA 150 POSTI\nPrevendita via email a: mass.extermination.fest@gmail.com \nEvento Facebook QUI \nIngresso con tessera ENCAP (disponibile al locale a 5€)
URL:https://www.metalhead.it/evento/mass-extermination-fest-san-cesario-sul-panaro-mo/
LOCATION:Devils Area – Bikers Corner\, Via della Tecnica\, 2\, Panaro (MO)\, 41018\, Italy
ATTACH;FMTTYPE=image/jpeg:https://www.metalhead.it/wp-content/uploads/2025/01/Nmassexterminationfest_20250104.jpg
END:VEVENT
BEGIN:VEVENT
DTSTART;TZID=Europe/Rome:20250322T190000
DTEND;TZID=Europe/Rome:20250322T235500
DTSTAMP:20260426T022142
CREATED:20241011T061703Z
LAST-MODIFIED:20241011T061703Z
UID:291018-1742670000-1742687700@www.metalhead.it
SUMMARY:LE ORME @ Padova
DESCRIPTION:OLTRE 2 ORE DI MUSICA E SCENOGRAFIE SPETTACOLARI PER UNO SHOW DEDICATO A VENEZIA\, LA CITTÀ DA CUI SONO PARTITI \nLE ORME \nFESTEGGIANO 60 ANNI DI ATTIVITÀ CON IL NUOVO PROGETTO \n“LE ORME PLAYS VENICE” \n22 MARZO 2025 – GRAN TEATRO GEOX @ PADOVA \n23 MARZO 2025 – TEATRO CLERICI @ BRESCIA
URL:https://www.metalhead.it/evento/le-orme-padova/
LOCATION:GRAN TEATRO GEOX PADOVA\, PADOVA\, PD
ATTACH;FMTTYPE=image/jpeg:https://www.metalhead.it/wp-content/uploads/2024/10/nLeorme_20241011_2.jpg
END:VEVENT
BEGIN:VEVENT
DTSTART;TZID=Europe/Rome:20250322T193000
DTEND;TZID=Europe/Rome:20250322T233000
DTSTAMP:20260426T022142
CREATED:20250122T202700Z
LAST-MODIFIED:20250122T202700Z
UID:294858-1742671800-1742686200@www.metalhead.it
SUMMARY:MARCHE FUNEBRE @ ROMA
DESCRIPTION:Con Invernoir e Still Wave al Traffic di Roma. \nPREVENDITE SU DICE: 12€ + d.d.p QUI \nEvento Facebook QUI \nNo Sun Music\nTraffic Live
URL:https://www.metalhead.it/evento/marche-funebre-roma/
LOCATION:TRAFFIC CLUB\, Via Prenestina\, 738\, Roma\, RM\, 00155\, Italia
ATTACH;FMTTYPE=image/jpeg:https://www.metalhead.it/wp-content/uploads/2025/01/51aa95ac-8022-f919-f672-f83719288890.jpg
END:VEVENT
BEGIN:VEVENT
DTSTART;TZID=Europe/Rome:20250322T193000
DTEND;TZID=Europe/Rome:20250322T233000
DTSTAMP:20260426T022142
CREATED:20250212T185350Z
LAST-MODIFIED:20250212T185350Z
UID:296417-1742671800-1742686200@www.metalhead.it
SUMMARY:WARRIOR SOUL @ Piedimonte San Germano (FR)
DESCRIPTION:Al Metropolis Live Club con Helligators\, Blax e i Rado 8 \nEvento Facebook QUI
URL:https://www.metalhead.it/evento/warrior-soul-piedimonte-san-germano-fr/
LOCATION:Metropolis Live Club\, Via Calatafimi\, Piedimonte San Germano (FR)\, 03030\, Italia
ATTACH;FMTTYPE=image/jpeg:https://www.metalhead.it/wp-content/uploads/2025/02/Nwarriorsoul_20250212.jpg
END:VEVENT
END:VCALENDAR