BEGIN:VCALENDAR
VERSION:2.0
PRODID:-//Metalhead - ECPv6.15.20//NONSGML v1.0//EN
CALSCALE:GREGORIAN
METHOD:PUBLISH
X-WR-CALNAME:Metalhead
X-ORIGINAL-URL:https://www.metalhead.it
X-WR-CALDESC:Eventi per Metalhead
REFRESH-INTERVAL;VALUE=DURATION:PT1H
X-Robots-Tag:noindex
X-PUBLISHED-TTL:PT1H
BEGIN:VTIMEZONE
TZID:Europe/Rome
BEGIN:DAYLIGHT
TZOFFSETFROM:+0100
TZOFFSETTO:+0200
TZNAME:CEST
DTSTART:20240331T010000
END:DAYLIGHT
BEGIN:STANDARD
TZOFFSETFROM:+0200
TZOFFSETTO:+0100
TZNAME:CET
DTSTART:20241027T010000
END:STANDARD
BEGIN:DAYLIGHT
TZOFFSETFROM:+0100
TZOFFSETTO:+0200
TZNAME:CEST
DTSTART:20250330T010000
END:DAYLIGHT
BEGIN:STANDARD
TZOFFSETFROM:+0200
TZOFFSETTO:+0100
TZNAME:CET
DTSTART:20251026T010000
END:STANDARD
BEGIN:DAYLIGHT
TZOFFSETFROM:+0100
TZOFFSETTO:+0200
TZNAME:CEST
DTSTART:20260329T010000
END:DAYLIGHT
BEGIN:STANDARD
TZOFFSETFROM:+0200
TZOFFSETTO:+0100
TZNAME:CET
DTSTART:20261025T010000
END:STANDARD
END:VTIMEZONE
BEGIN:VEVENT
DTSTART;TZID=Europe/Rome:20250323T190000
DTEND;TZID=Europe/Rome:20250323T235900
DTSTAMP:20260426T022228
CREATED:20241011T061706Z
LAST-MODIFIED:20241011T061706Z
UID:291019-1742756400-1742774340@www.metalhead.it
SUMMARY:LE ORME @ Brescia
DESCRIPTION:OLTRE 2 ORE DI MUSICA E SCENOGRAFIE SPETTACOLARI PER UNO SHOW DEDICATO A VENEZIA\, LA CITTÀ DA CUI SONO PARTITI \nLE ORME \nFESTEGGIANO 60 ANNI DI ATTIVITÀ CON IL NUOVO PROGETTO \n“LE ORME PLAYS VENICE” \n22 MARZO 2025 – GRAN TEATRO GEOX @ PADOVA \n23 MARZO 2025 – TEATRO CLERICI @ BRESCIA
URL:https://www.metalhead.it/evento/le-orme-brescia/
LOCATION:TEATRO CLERICI\, Via S. Zeno\, 168\,\, BRESCIA\, BS\, 25124\, Italy
ATTACH;FMTTYPE=image/jpeg:https://www.metalhead.it/wp-content/uploads/2024/10/nLeorme_20241011_2.jpg
END:VEVENT
BEGIN:VEVENT
DTSTART;TZID=Europe/Rome:20250323T193000
DTEND;TZID=Europe/Rome:20250323T233000
DTSTAMP:20260426T022228
CREATED:20250212T191653Z
LAST-MODIFIED:20250212T191653Z
UID:296419-1742758200-1742772600@www.metalhead.it
SUMMARY:WARRIOR SOUL @ Matera
DESCRIPTION:AL Midnight con Blax e Another Cross \nEvento Facebook QUI
URL:https://www.metalhead.it/evento/warrior-soul-matera/
LOCATION:Midnight Pub\, Via dell'Agricoltura\, Matera\, 75100\, Italia
ATTACH;FMTTYPE=image/jpeg:https://www.metalhead.it/wp-content/uploads/2025/02/Nwarriorsoul_20250212.jpg
END:VEVENT
END:VCALENDAR