BEGIN:VCALENDAR
VERSION:2.0
PRODID:-//Metalhead - ECPv6.15.20//NONSGML v1.0//EN
CALSCALE:GREGORIAN
METHOD:PUBLISH
X-WR-CALNAME:Metalhead
X-ORIGINAL-URL:https://www.metalhead.it
X-WR-CALDESC:Eventi per Metalhead
REFRESH-INTERVAL;VALUE=DURATION:PT1H
X-Robots-Tag:noindex
X-PUBLISHED-TTL:PT1H
BEGIN:VTIMEZONE
TZID:Europe/Rome
BEGIN:DAYLIGHT
TZOFFSETFROM:+0100
TZOFFSETTO:+0200
TZNAME:CEST
DTSTART:20240331T010000
END:DAYLIGHT
BEGIN:STANDARD
TZOFFSETFROM:+0200
TZOFFSETTO:+0100
TZNAME:CET
DTSTART:20241027T010000
END:STANDARD
BEGIN:DAYLIGHT
TZOFFSETFROM:+0100
TZOFFSETTO:+0200
TZNAME:CEST
DTSTART:20250330T010000
END:DAYLIGHT
BEGIN:STANDARD
TZOFFSETFROM:+0200
TZOFFSETTO:+0100
TZNAME:CET
DTSTART:20251026T010000
END:STANDARD
BEGIN:DAYLIGHT
TZOFFSETFROM:+0100
TZOFFSETTO:+0200
TZNAME:CEST
DTSTART:20260329T010000
END:DAYLIGHT
BEGIN:STANDARD
TZOFFSETFROM:+0200
TZOFFSETTO:+0100
TZNAME:CET
DTSTART:20261025T010000
END:STANDARD
END:VTIMEZONE
BEGIN:VEVENT
DTSTART;TZID=Europe/Rome:20250419T190000
DTEND;TZID=Europe/Rome:20250419T235900
DTSTAMP:20260426T010500
CREATED:20250303T141101Z
LAST-MODIFIED:20250303T141101Z
UID:297032-1745089200-1745107140@www.metalhead.it
SUMMARY:BENEDICTION @ Parma
DESCRIPTION:BENEDICTION (unica data italiana)\, DISTRUZIONE + Altre band da annunciare.\nCampus Industry\, Parma \nEvento Facebook QUI \nBiglietto Solo Concerto: \n25€ + d.p. in prevendita su Ticketone\, 30€ alla cassa. \nBiglietto “Carrozza Bus 666”: 45€ (include viaggio in Bus 666\, ingresso al concerto al Campus Industry\, shot di benvenuto ad ogni tappa e buffet). Disponibile solo tramite prenotazione via e-mail
URL:https://www.metalhead.it/evento/benediction-parma/
LOCATION:Campus Industry\, Parma\, Parma
ATTACH;FMTTYPE=image/jpeg:https://www.metalhead.it/wp-content/uploads/2025/03/nBenediction_20250303.jpg
END:VEVENT
BEGIN:VEVENT
DTSTART;TZID=Europe/Rome:20250419T193000
DTEND;TZID=Europe/Rome:20250419T233000
DTSTAMP:20260426T010500
CREATED:20250113T201446Z
LAST-MODIFIED:20250113T201446Z
UID:294486-1745091000-1745105400@www.metalhead.it
SUMMARY:HERETOIR @ Roma
DESCRIPTION:Al Traffic con Svnth e Blaze of Sorrow. \nPrevendite su Dice\nEvento Facebook QUI
URL:https://www.metalhead.it/evento/heretoir-roma/
LOCATION:TRAFFIC CLUB\, Via Prenestina\, 738\, Roma\, RM\, 00155\, Italia
ATTACH;FMTTYPE=image/jpeg:https://www.metalhead.it/wp-content/uploads/2025/01/Nheretoir_20250113_2.jpg
END:VEVENT
BEGIN:VEVENT
DTSTART;TZID=Europe/Rome:20250419T193000
DTEND;TZID=Europe/Rome:20250419T233000
DTSTAMP:20260426T010500
CREATED:20250329T065256Z
LAST-MODIFIED:20250329T065256Z
UID:298597-1745091000-1745105400@www.metalhead.it
SUMMARY:ERISU @ Genova
DESCRIPTION:Con i Malombra al Crazy Bull \nINIZIO ore 21\,00\nPrezzo 15 € \nPer informazioni e prenotazioni\nCRAZY BULL Cafè\nVia Eustachio Degola\, 4 R\n16151-Genova Sampierdarena\ninfo@crazybullgenova.it\nTel. 347 9832744 \nBLACK WIDOW RECORDS\nTel. 010 24617 08\nblackwidow@blackwidow.it \n \n 
URL:https://www.metalhead.it/evento/erisu-genova/
LOCATION:CRAZY BULL\, Via Eustachio Degola\, 4R\, Genova Sampierdarena\, GE\, 16151\, Italia
ATTACH;FMTTYPE=image/jpeg:https://www.metalhead.it/wp-content/uploads/2025/03/Nmalombra_20250329_1.jpg
END:VEVENT
BEGIN:VEVENT
DTSTART;TZID=Europe/Rome:20250419T193000
DTEND;TZID=Europe/Rome:20250419T233000
DTSTAMP:20260426T010500
CREATED:20250406T121042Z
LAST-MODIFIED:20250406T121042Z
UID:299090-1745091000-1745105400@www.metalhead.it
SUMMARY:DEATHLESS LEFACY @ Scandicci (FI)
DESCRIPTION:Con Hellfox + Sinister Ghost al VHS – Retró \nL’evento si svolgerà presso VHS – Retró Club\, via 4 Novembre\, Scandicci (FI)  \nIngresso riservato ai soli soci ACSI con tessera e documento valido da presentare alla porta. \nEvento Facebook QUI
URL:https://www.metalhead.it/evento/deathless-lefacy-scandicci-fi/
LOCATION:Viper Theatre\, Via Pistoiese\, 309\, Firenze\, 50145\, Italia
ATTACH;FMTTYPE=image/jpeg:https://www.metalhead.it/wp-content/uploads/2025/04/Ndeathlesslegacy_20250406.jpg
END:VEVENT
END:VCALENDAR