BEGIN:VCALENDAR
VERSION:2.0
PRODID:-//Metalhead - ECPv6.15.20//NONSGML v1.0//EN
CALSCALE:GREGORIAN
METHOD:PUBLISH
X-WR-CALNAME:Metalhead
X-ORIGINAL-URL:https://www.metalhead.it
X-WR-CALDESC:Eventi per Metalhead
REFRESH-INTERVAL;VALUE=DURATION:PT1H
X-Robots-Tag:noindex
X-PUBLISHED-TTL:PT1H
BEGIN:VTIMEZONE
TZID:Europe/Rome
BEGIN:DAYLIGHT
TZOFFSETFROM:+0100
TZOFFSETTO:+0200
TZNAME:CEST
DTSTART:20240331T010000
END:DAYLIGHT
BEGIN:STANDARD
TZOFFSETFROM:+0200
TZOFFSETTO:+0100
TZNAME:CET
DTSTART:20241027T010000
END:STANDARD
BEGIN:DAYLIGHT
TZOFFSETFROM:+0100
TZOFFSETTO:+0200
TZNAME:CEST
DTSTART:20250330T010000
END:DAYLIGHT
BEGIN:STANDARD
TZOFFSETFROM:+0200
TZOFFSETTO:+0100
TZNAME:CET
DTSTART:20251026T010000
END:STANDARD
BEGIN:DAYLIGHT
TZOFFSETFROM:+0100
TZOFFSETTO:+0200
TZNAME:CEST
DTSTART:20260329T010000
END:DAYLIGHT
BEGIN:STANDARD
TZOFFSETFROM:+0200
TZOFFSETTO:+0100
TZNAME:CET
DTSTART:20261025T010000
END:STANDARD
END:VTIMEZONE
BEGIN:VEVENT
DTSTART;TZID=Europe/Rome:20250501T190000
DTEND;TZID=Europe/Rome:20250501T235900
DTSTAMP:20260425T234647
CREATED:20241225T104956Z
LAST-MODIFIED:20241225T104956Z
UID:294219-1746126000-1746143940@www.metalhead.it
SUMMARY:DARK TRANQUILLITY @ Padova
DESCRIPTION:DARK TRANQUILLITY! \n+MOONSPELL \n+HIRAES \nL’appuntamento a l’Hall di Padova\, per il 1° maggio 2025. \nI biglietti saranno in vendita su MC2Live.it e Vivaticket.com dalle ore 10:00 del 30 dicembre. \nEvento Facebook QUI
URL:https://www.metalhead.it/evento/dark-tranquillity-padova/
LOCATION:HALL\, Via Nona Strada 11b\, Padova\, 35124
ATTACH;FMTTYPE=image/jpeg:https://www.metalhead.it/wp-content/uploads/2024/12/nDarkTranquillity_20241225.jpg
END:VEVENT
END:VCALENDAR