BEGIN:VCALENDAR
VERSION:2.0
PRODID:-//Metalhead - ECPv6.15.20//NONSGML v1.0//EN
CALSCALE:GREGORIAN
METHOD:PUBLISH
X-ORIGINAL-URL:https://www.metalhead.it
X-WR-CALDESC:Eventi per Metalhead
REFRESH-INTERVAL;VALUE=DURATION:PT1H
X-Robots-Tag:noindex
X-PUBLISHED-TTL:PT1H
BEGIN:VTIMEZONE
TZID:Europe/Rome
BEGIN:DAYLIGHT
TZOFFSETFROM:+0100
TZOFFSETTO:+0200
TZNAME:CEST
DTSTART:20240331T010000
END:DAYLIGHT
BEGIN:STANDARD
TZOFFSETFROM:+0200
TZOFFSETTO:+0100
TZNAME:CET
DTSTART:20241027T010000
END:STANDARD
BEGIN:DAYLIGHT
TZOFFSETFROM:+0100
TZOFFSETTO:+0200
TZNAME:CEST
DTSTART:20250330T010000
END:DAYLIGHT
BEGIN:STANDARD
TZOFFSETFROM:+0200
TZOFFSETTO:+0100
TZNAME:CET
DTSTART:20251026T010000
END:STANDARD
BEGIN:DAYLIGHT
TZOFFSETFROM:+0100
TZOFFSETTO:+0200
TZNAME:CEST
DTSTART:20260329T010000
END:DAYLIGHT
BEGIN:STANDARD
TZOFFSETFROM:+0200
TZOFFSETTO:+0100
TZNAME:CET
DTSTART:20261025T010000
END:STANDARD
END:VTIMEZONE
BEGIN:VEVENT
DTSTART;TZID=Europe/Rome:20250517T170000
DTEND;TZID=Europe/Rome:20250517T233000
DTSTAMP:20260425T234712
CREATED:20250213T183716Z
LAST-MODIFIED:20250213T183716Z
UID:296444-1747501200-1747524600@www.metalhead.it
SUMMARY:KILL THE BRAIN FEST @ Roma
DESCRIPTION:Al Traffic Live con: \nPUTRID PILE (USA)\nJIG-AI (CZ)\nTEETHING (ES)\nBLOODTRUTH\nDISFORIA\nSPEED TEST \nDisponibili i biglietti sia in prevendita su Dice a 23€ che in cassa la sera dell’evento a 25€.\nDurante la serata selezioni musicali Disco\, 80s\, 90s\, Extreme Metal. Dopo la serata DJ-Set: IL VESCOVO – Techno-Metal\, Industrial\, Darkwave & Delirio. \nSABATO 17 MAGGIO 2025\nTraffic Live\nVia Prenestina 738\, Roma\nPrevendite QUI\nEvento Facebook QUI
URL:https://www.metalhead.it/evento/kill-the-brain-fest-roma-2/
LOCATION:TRAFFIC CLUB\, Via Prenestina\, 738\, Roma\, RM\, 00155\, Italia
ATTACH;FMTTYPE=image/jpeg:https://www.metalhead.it/wp-content/uploads/2025/02/Nkillthebrainfest_20250213.jpg
END:VEVENT
BEGIN:VEVENT
DTSTART;TZID=Europe/Rome:20250517T193000
DTEND;TZID=Europe/Rome:20250517T233000
DTSTAMP:20260425T234712
CREATED:20250512T175820Z
LAST-MODIFIED:20250512T175820Z
UID:301792-1747510200-1747524600@www.metalhead.it
SUMMARY:RAW POWER @ Modena
DESCRIPTION:Al Centrale 66 \nRaw Power + Call the Cops + Cancer Spreading \nSTAGE TIME : \n21.00 – Apertura locale \n21.45 – 22.15 Cancer Spreading \n22.30 – 23.15 Call the Cops \n23.30 – 00.30 Raw Power \n  \nContributo band: 10 Euro \nEvento Facebook QUI
URL:https://www.metalhead.it/evento/raw-power-modena/
LOCATION:Centrale 66\, via Nicolò dell’Abate 66\, Modena\, Italia
ATTACH;FMTTYPE=image/jpeg:https://www.metalhead.it/wp-content/uploads/2025/05/Nrawpower_20250512.jpg
END:VEVENT
END:VCALENDAR