BEGIN:VCALENDAR
VERSION:2.0
PRODID:-//Metalhead - ECPv6.15.20//NONSGML v1.0//EN
CALSCALE:GREGORIAN
METHOD:PUBLISH
X-WR-CALNAME:Metalhead
X-ORIGINAL-URL:https://www.metalhead.it
X-WR-CALDESC:Eventi per Metalhead
REFRESH-INTERVAL;VALUE=DURATION:PT1H
X-Robots-Tag:noindex
X-PUBLISHED-TTL:PT1H
BEGIN:VTIMEZONE
TZID:Europe/Rome
BEGIN:DAYLIGHT
TZOFFSETFROM:+0100
TZOFFSETTO:+0200
TZNAME:CEST
DTSTART:20240331T010000
END:DAYLIGHT
BEGIN:STANDARD
TZOFFSETFROM:+0200
TZOFFSETTO:+0100
TZNAME:CET
DTSTART:20241027T010000
END:STANDARD
BEGIN:DAYLIGHT
TZOFFSETFROM:+0100
TZOFFSETTO:+0200
TZNAME:CEST
DTSTART:20250330T010000
END:DAYLIGHT
BEGIN:STANDARD
TZOFFSETFROM:+0200
TZOFFSETTO:+0100
TZNAME:CET
DTSTART:20251026T010000
END:STANDARD
BEGIN:DAYLIGHT
TZOFFSETFROM:+0100
TZOFFSETTO:+0200
TZNAME:CEST
DTSTART:20260329T010000
END:DAYLIGHT
BEGIN:STANDARD
TZOFFSETFROM:+0200
TZOFFSETTO:+0100
TZNAME:CET
DTSTART:20261025T010000
END:STANDARD
END:VTIMEZONE
BEGIN:VEVENT
DTSTART;TZID=Europe/Rome:20250705T200000
DTEND;TZID=Europe/Rome:20250705T233000
DTSTAMP:20260425T210537
CREATED:20250630T165020Z
LAST-MODIFIED:20250630T165020Z
UID:305456-1751745600-1751758200@www.metalhead.it
SUMMARY:SWEAT AND RUST METAL FEST @ Abbiategrasso (MI)
DESCRIPTION:SCALA MERCALLI \nVICOLO INFERNO \nEVILIZERS \nCROMO \nAl Coop Rinascita \nInizio concerti h 20.00\nINGRESSO GRATUITO \nEvento Facebook QUI \nrinascita.eventi@gmail.com
URL:https://www.metalhead.it/evento/sweat-and-rust-metal-fest-abbiategrasso-mi/
LOCATION:Cooperativa Rinascita Abbiatense\, Via Novara 2\, Abbiategrasso (MI)\, Italia
ATTACH;FMTTYPE=image/jpeg:https://www.metalhead.it/wp-content/uploads/2025/06/Nscalamercalli_20250630.jpg
END:VEVENT
BEGIN:VEVENT
DTSTART;TZID=Europe/Rome:20250705T213000
DTEND;TZID=Europe/Rome:20250705T233000
DTSTAMP:20260425T210537
CREATED:20250625T183022Z
LAST-MODIFIED:20250625T183022Z
UID:305269-1751751000-1751758200@www.metalhead.it
SUMMARY:SEXTRASH @ Erba (CO)
DESCRIPTION:Con i Sodomizer e Dead Chasm \nRunning order:\nSextrash      23.30\nSodomizer  22.30\nDead Chasm 21.30 \n\nOpen: 20.00\nTicket: 20€ \n\nInfo: Gravesinbookings@hotmail.com
URL:https://www.metalhead.it/evento/sextrash-erba-co/
LOCATION:Centrale Rock Pub\, via Cascina California 9\, Erba\, CO\, Italia
END:VEVENT
END:VCALENDAR