BEGIN:VCALENDAR
VERSION:2.0
PRODID:-//Metalhead - ECPv6.15.20//NONSGML v1.0//EN
CALSCALE:GREGORIAN
METHOD:PUBLISH
X-ORIGINAL-URL:https://www.metalhead.it
X-WR-CALDESC:Eventi per Metalhead
REFRESH-INTERVAL;VALUE=DURATION:PT1H
X-Robots-Tag:noindex
X-PUBLISHED-TTL:PT1H
BEGIN:VTIMEZONE
TZID:Europe/Rome
BEGIN:DAYLIGHT
TZOFFSETFROM:+0100
TZOFFSETTO:+0200
TZNAME:CEST
DTSTART:20240331T010000
END:DAYLIGHT
BEGIN:STANDARD
TZOFFSETFROM:+0200
TZOFFSETTO:+0100
TZNAME:CET
DTSTART:20241027T010000
END:STANDARD
BEGIN:DAYLIGHT
TZOFFSETFROM:+0100
TZOFFSETTO:+0200
TZNAME:CEST
DTSTART:20250330T010000
END:DAYLIGHT
BEGIN:STANDARD
TZOFFSETFROM:+0200
TZOFFSETTO:+0100
TZNAME:CET
DTSTART:20251026T010000
END:STANDARD
BEGIN:DAYLIGHT
TZOFFSETFROM:+0100
TZOFFSETTO:+0200
TZNAME:CEST
DTSTART:20260329T010000
END:DAYLIGHT
BEGIN:STANDARD
TZOFFSETFROM:+0200
TZOFFSETTO:+0100
TZNAME:CET
DTSTART:20261025T010000
END:STANDARD
END:VTIMEZONE
BEGIN:VEVENT
DTSTART;TZID=Europe/Rome:20250708T193000
DTEND;TZID=Europe/Rome:20250708T233000
DTSTAMP:20260425T210535
CREATED:20250116T203303Z
LAST-MODIFIED:20250116T204903Z
UID:294564-1752003000-1752017400@www.metalhead.it
SUMMARY:ALICE COOPER @ Bologna
DESCRIPTION:Bologna\, Sequoie Music Park / Parco delle Caserme Rosse – via di Saliceto\, 75 \nInizio concerti h. 21:45 \n  \nBiglietti disponibili su Ticketone e Boxerticket. \nPit in piedi: € 85\,00 + prev. \nPrato in piedi: € 50\,00 + prev. \nTribuna numerata a sedere: € 78\,00 + prev.
URL:https://www.metalhead.it/evento/alice-cooper-bologna/
LOCATION:Sequoie Music Park\, Via di Saliceto\, 75\, Bologna\, 40128\, Italy
ATTACH;FMTTYPE=image/jpeg:https://www.metalhead.it/wp-content/uploads/2023/11/nAliceCooper_20231106.jpg
END:VEVENT
END:VCALENDAR