BEGIN:VCALENDAR
VERSION:2.0
PRODID:-//Metalhead - ECPv6.15.20//NONSGML v1.0//EN
CALSCALE:GREGORIAN
METHOD:PUBLISH
X-WR-CALNAME:Metalhead
X-ORIGINAL-URL:https://www.metalhead.it
X-WR-CALDESC:Eventi per Metalhead
REFRESH-INTERVAL;VALUE=DURATION:PT1H
X-Robots-Tag:noindex
X-PUBLISHED-TTL:PT1H
BEGIN:VTIMEZONE
TZID:Europe/Rome
BEGIN:DAYLIGHT
TZOFFSETFROM:+0100
TZOFFSETTO:+0200
TZNAME:CEST
DTSTART:20240331T010000
END:DAYLIGHT
BEGIN:STANDARD
TZOFFSETFROM:+0200
TZOFFSETTO:+0100
TZNAME:CET
DTSTART:20241027T010000
END:STANDARD
BEGIN:DAYLIGHT
TZOFFSETFROM:+0100
TZOFFSETTO:+0200
TZNAME:CEST
DTSTART:20250330T010000
END:DAYLIGHT
BEGIN:STANDARD
TZOFFSETFROM:+0200
TZOFFSETTO:+0100
TZNAME:CET
DTSTART:20251026T010000
END:STANDARD
BEGIN:DAYLIGHT
TZOFFSETFROM:+0100
TZOFFSETTO:+0200
TZNAME:CEST
DTSTART:20260329T010000
END:DAYLIGHT
BEGIN:STANDARD
TZOFFSETFROM:+0200
TZOFFSETTO:+0100
TZNAME:CET
DTSTART:20261025T010000
END:STANDARD
END:VTIMEZONE
BEGIN:VEVENT
DTSTART;TZID=Europe/Rome:20250713T170000
DTEND;TZID=Europe/Rome:20250713T233000
DTSTAMP:20260425T210537
CREATED:20250616T184301Z
LAST-MODIFIED:20250616T184301Z
UID:305133-1752426000-1752449400@www.metalhead.it
SUMMARY:GARAGE INFERNO SUMMER LIVE @ San Donà di Piave (VE)
DESCRIPTION:Evento Facebook QUI \nDomenica 13 luglio 2025 – dalle ore 21:00 \nFREYA + RIG TIME! + CLOUDKILL \nGarage Guinguette Baladin \nVia XIII Martiri 52\, San Donà di Piave (VE). \nINGRESSO GRATUITO \nInfo: \n1911collective@gmail.com
URL:https://www.metalhead.it/evento/garage-inferno-summer-live-san-dona-di-piave-ve/
LOCATION:Garage Guinguette Baladin\, Via XIII Martiri\, 52\, San Donà di Piave (VE)\, 30027
ATTACH;FMTTYPE=image/jpeg:https://www.metalhead.it/wp-content/uploads/2025/06/Ngarageinfernosummerfestival_20250616.jpg
END:VEVENT
END:VCALENDAR