BEGIN:VCALENDAR
VERSION:2.0
PRODID:-//Metalhead - ECPv6.15.20//NONSGML v1.0//EN
CALSCALE:GREGORIAN
METHOD:PUBLISH
X-WR-CALNAME:Metalhead
X-ORIGINAL-URL:https://www.metalhead.it
X-WR-CALDESC:Eventi per Metalhead
REFRESH-INTERVAL;VALUE=DURATION:PT1H
X-Robots-Tag:noindex
X-PUBLISHED-TTL:PT1H
BEGIN:VTIMEZONE
TZID:Europe/Rome
BEGIN:DAYLIGHT
TZOFFSETFROM:+0100
TZOFFSETTO:+0200
TZNAME:CEST
DTSTART:20240331T010000
END:DAYLIGHT
BEGIN:STANDARD
TZOFFSETFROM:+0200
TZOFFSETTO:+0100
TZNAME:CET
DTSTART:20241027T010000
END:STANDARD
BEGIN:DAYLIGHT
TZOFFSETFROM:+0100
TZOFFSETTO:+0200
TZNAME:CEST
DTSTART:20250330T010000
END:DAYLIGHT
BEGIN:STANDARD
TZOFFSETFROM:+0200
TZOFFSETTO:+0100
TZNAME:CET
DTSTART:20251026T010000
END:STANDARD
BEGIN:DAYLIGHT
TZOFFSETFROM:+0100
TZOFFSETTO:+0200
TZNAME:CEST
DTSTART:20260329T010000
END:DAYLIGHT
BEGIN:STANDARD
TZOFFSETFROM:+0200
TZOFFSETTO:+0100
TZNAME:CET
DTSTART:20261025T010000
END:STANDARD
END:VTIMEZONE
BEGIN:VEVENT
DTSTART;TZID=Europe/Rome:20250911T080000
DTEND;TZID=Europe/Rome:20250911T170000
DTSTAMP:20260425T182943
CREATED:20250911T215129Z
LAST-MODIFIED:20250911T215129Z
UID:308944-1757577600-1757610000@www.metalhead.it
SUMMARY:RUDENFEST 2025 @ Ponte nelle Alpi (BL)
DESCRIPTION:Come cantavano i Manowar\, “avevamo detto che saremo tornati\, ed eccoci qui”! \nRUDENFEST\, il festival metal del bellunese a ingresso libero\, torna al PalaQuantin il 20 Settembre 2025  con una nuova line-up\, più band\, più sorprese e soprattutto più ruggine! \nLa line-up 2025 è capitanata dai Domine\, band storica del panorama Power Metal Europeo\, attiva dagli anni ‘80\, con quattro EP e cinque album all’attivo\, che incendierà la serata facendovi marciare al suono di travolgenti inni di vittoria. E non è tutto: Ardytion e Gates of Prophecy si uniscono alla crociata Power Metal. Ma ce n’è per tutti i gusti: gli elitisti del metal estremo troveranno pane per i loro denti con Chronic Hate\, Membrance ed Exhaustion\, mentre Anterra e Cangianti terranno alta la bandiera del rock’n’roll. A fare da collante\, il granitico dj set di Mario Tio (direttamente dai microfoni di Materiale Resistente) vi martellerà per tutta la giornata con una selezione di classici e tesori nascosti. \nMa Rudenfest non è solo musica: una rinnovata selezione di espositori provenienti dal mondo della grafica\, dei dischi da ascoltare\, dei comics&games e dell’artigianato vi aspetta\, la cucina del comitato frazionale di Quantin sarà sempre aperta e -ovviamente- le spine non smetteranno mai di far scorrere la birra. \nRudenfest si terrà al PalaQuantin (in località Quantin\, Ponte nelle Alpi\, Belluno). Apertura cancelli ore 13:00 \, le esibizioni delle band inizieranno alle 15:30. \nL’organizzazione ringrazia per il sostegno tutti quelli che in questi mesi ci hanno aiutato a preparare il terreno per l’evento: il comitato frazionale di Quantin\, il comune di Ponte nelle Alpi e ovviamente i nostri sponsor: Il Mattone\, Grafiche Longaronesi\, De Dea Gelisio Onoranze Funebri\, Burigo Italo\, Panificio Collarini\, Birroteca IBU\, La Baita Mussoi\, Autofficina Fanna\, Bistrò 51\, Galvanica S.F.\, Ten Bells Snack Bar e Autosalone Longarone.  \n15:30/16:10 Cangianti\n16:30/17:10 Gates of Prophecy\n17:30/18:10 Exhaustion\n18:30/19:10 Membrance\n19:45/20:25 Anterra\n20:40 /21:20 Ardityon\n21:35/22:20 Chronic Hate\n22:45/00:15 DOMINE \nEvento Facebook QUI
URL:https://www.metalhead.it/evento/rudenfest-2025-ponte-nelle-alpi-bl/
LOCATION:PD
ATTACH;FMTTYPE=image/jpeg:https://www.metalhead.it/wp-content/uploads/2025/09/nRudenfest_20250911.jpg
END:VEVENT
END:VCALENDAR