BEGIN:VCALENDAR
VERSION:2.0
PRODID:-//Metalhead - ECPv6.15.20//NONSGML v1.0//EN
CALSCALE:GREGORIAN
METHOD:PUBLISH
X-ORIGINAL-URL:https://www.metalhead.it
X-WR-CALDESC:Eventi per Metalhead
REFRESH-INTERVAL;VALUE=DURATION:PT1H
X-Robots-Tag:noindex
X-PUBLISHED-TTL:PT1H
BEGIN:VTIMEZONE
TZID:Europe/Rome
BEGIN:DAYLIGHT
TZOFFSETFROM:+0100
TZOFFSETTO:+0200
TZNAME:CEST
DTSTART:20240331T010000
END:DAYLIGHT
BEGIN:STANDARD
TZOFFSETFROM:+0200
TZOFFSETTO:+0100
TZNAME:CET
DTSTART:20241027T010000
END:STANDARD
BEGIN:DAYLIGHT
TZOFFSETFROM:+0100
TZOFFSETTO:+0200
TZNAME:CEST
DTSTART:20250330T010000
END:DAYLIGHT
BEGIN:STANDARD
TZOFFSETFROM:+0200
TZOFFSETTO:+0100
TZNAME:CET
DTSTART:20251026T010000
END:STANDARD
BEGIN:DAYLIGHT
TZOFFSETFROM:+0100
TZOFFSETTO:+0200
TZNAME:CEST
DTSTART:20260329T010000
END:DAYLIGHT
BEGIN:STANDARD
TZOFFSETFROM:+0200
TZOFFSETTO:+0100
TZNAME:CET
DTSTART:20261025T010000
END:STANDARD
END:VTIMEZONE
BEGIN:VEVENT
DTSTART;TZID=Europe/Rome:20251031T193000
DTEND;TZID=Europe/Rome:20251031T233000
DTSTAMP:20260425T153736
CREATED:20250514T183235Z
LAST-MODIFIED:20250514T183424Z
UID:301836-1761939000-1761953400@www.metalhead.it
SUMMARY:TENEBRO @ Verona
DESCRIPTION:Con Grumo e Grave Ghoul al Demage Inc
URL:https://www.metalhead.it/evento/tenebro-verona/
LOCATION:Damage Inc\, Via XXIV Maggio\, 60\, San Giovanni Lupatolo (VR)\, 37057\, Italy
ATTACH;FMTTYPE=image/jpeg:https://www.metalhead.it/wp-content/uploads/2025/05/Ntenebro_20250514.jpg
END:VEVENT
BEGIN:VEVENT
DTSTART;TZID=Europe/Rome:20251031T210000
DTEND;TZID=Europe/Rome:20251031T235900
DTSTAMP:20260425T153736
CREATED:20251016T144808Z
LAST-MODIFIED:20251016T144808Z
UID:310445-1761944400-1761955140@www.metalhead.it
SUMMARY:MAGIA NERA @ Sarzana (SP)
DESCRIPTION:Il 31 ottobre prossimo presso il TEATRO DEGLI IMPAVIDI di Sarzana (SP) si terrà un evento speciale dei Magia Nera che porteranno il loro album “Vlad” a teatro! \nL’album è sostanzialmente la trascrizione in musica del romanzo che il leader Cencetti ha scritto\, un libro che narra una storia del famoso vampiro\, spiegando con drammaticità e amore\, il perché della sua sete di sangue\, il perché della sua dannazione. \nL’opera rock verrà riprodotta con la voce narrante recitata da Laura Martorano la quale leggerà un copione tratto dal libro. Inoltre farà eco a Morgana un coro greco virtuale proiettato con immagini di Simone De Lucia\, intensificati dai pezzi live corrispondenti\, il tutto arricchito da video relativi ai pezzi suonati. \nBiglietti QUI \nTEATRO DEGLI IMPAVIDI\nvia Mazzini\, 77\nSARZANA (SP)
URL:https://www.metalhead.it/evento/magia-nera-sarzana-sp/
LOCATION:TEATRO DEGLI IMPAVIDI\, via Mazzini\, 77\, Sarzana\, SP\, Italy
ATTACH;FMTTYPE=image/jpeg:https://www.metalhead.it/wp-content/uploads/2025/10/nMagiaNera_20251016.jpg
END:VEVENT
END:VCALENDAR