BEGIN:VCALENDAR
VERSION:2.0
PRODID:-//Metalhead - ECPv6.15.20//NONSGML v1.0//EN
CALSCALE:GREGORIAN
METHOD:PUBLISH
X-ORIGINAL-URL:https://www.metalhead.it
X-WR-CALDESC:Eventi per Metalhead
REFRESH-INTERVAL;VALUE=DURATION:PT1H
X-Robots-Tag:noindex
X-PUBLISHED-TTL:PT1H
BEGIN:VTIMEZONE
TZID:Europe/Rome
BEGIN:DAYLIGHT
TZOFFSETFROM:+0100
TZOFFSETTO:+0200
TZNAME:CEST
DTSTART:20240331T010000
END:DAYLIGHT
BEGIN:STANDARD
TZOFFSETFROM:+0200
TZOFFSETTO:+0100
TZNAME:CET
DTSTART:20241027T010000
END:STANDARD
BEGIN:DAYLIGHT
TZOFFSETFROM:+0100
TZOFFSETTO:+0200
TZNAME:CEST
DTSTART:20250330T010000
END:DAYLIGHT
BEGIN:STANDARD
TZOFFSETFROM:+0200
TZOFFSETTO:+0100
TZNAME:CET
DTSTART:20251026T010000
END:STANDARD
BEGIN:DAYLIGHT
TZOFFSETFROM:+0100
TZOFFSETTO:+0200
TZNAME:CEST
DTSTART:20260329T010000
END:DAYLIGHT
BEGIN:STANDARD
TZOFFSETFROM:+0200
TZOFFSETTO:+0100
TZNAME:CET
DTSTART:20261025T010000
END:STANDARD
END:VTIMEZONE
BEGIN:VEVENT
DTSTART;TZID=Europe/Rome:20251115T150000
DTEND;TZID=Europe/Rome:20251115T233000
DTSTAMP:20260425T153733
CREATED:20251025T151345Z
LAST-MODIFIED:20251025T151813Z
UID:310646-1763218800-1763249400@www.metalhead.it
SUMMARY:VALLE CAUDINA METAL FEST @ Forchia (BN)
DESCRIPTION:Info utili sull’evento: \nFree Parking\nInizio concerti ore 19:30\nFood & Drinks: disponibili presso il bar interno e attività limitrofe\nLocation: Sporting Forchia\, Via Misciuni\, 82011 Forchia (BN)\nEvento per i soci dell’Associazione Vault Lab\, il ticket d’ingresso per chi non è tesserato può essere fatto in loco oppure online\, esso comprende la quota di sottoscrizione associativa ed il contributo per gli artisti \nBiglietti QUI. \nLineup: \nWild N’ Wasted – Thrash/Groove Metal da Roma\nBlack Symmetry – Groove Death Metal da Potenza\nJumpscare – Melodic Death Metal da Napoli\nNot Another Prayer – Progressive Alternative Metal da Palermo
URL:https://www.metalhead.it/evento/valle-caudina-metal-fest-forchia-bn/
LOCATION:Sporting Center Forchia\, Via Misciuni\, Forchia (BN)\, 82011
ATTACH;FMTTYPE=image/jpeg:https://www.metalhead.it/wp-content/uploads/2025/10/Nvallecaudinametalfest_20251025.jpg
END:VEVENT
BEGIN:VEVENT
DTSTART;TZID=Europe/Rome:20251115T193000
DTEND;TZID=Europe/Rome:20251115T233000
DTSTAMP:20260425T153733
CREATED:20251113T194811Z
LAST-MODIFIED:20251113T194811Z
UID:311455-1763235000-1763249400@www.metalhead.it
SUMMARY:DIRTY RAIN FEST @ Bologna
DESCRIPTION:IL PROGRAMMA DELLA SERATA \n• 21:00 – Apertura porte \n• 21:30 – DJ Set e spettacolare apertura con 15 pole dancers \nche porteranno in scena un’esibizione sensuale e potente\, accompagnata da selezioni musicali firmate Mariotio Selector e DJ Maury Bert\, in esclusiva dai migliori rock club del Triveneto. \n• 22:30 – LIVE SHOW con RAIN & Dirty Dianas exotic pole dancers \nI RAIN\, tra le band più iconiche della scena hard rock metal italiana\, tornano con un set infuocato: i loro grandi classici e le cover anthemiche più potenti del panorama rock e metal internazionale. \n• 00:30 – DJ Set Finale \nLa notte continuerà fino a tardi con un set esplosivo\, per chi non vuole smettere di ballare e sudare rock! \n  \nINFO BIGLIETTI \nPrevendite online: dirtyrainfest.onrender.com – €12 \n Biglietto in cassa: €15 \n(ingresso riservato ai soci AICS con tessera in corso di validità) \n  \n Prevendite quasi esaurite – SOLD OUT annunciato!
URL:https://www.metalhead.it/evento/dirty-rain-fest-bologna/
LOCATION:Alchemica\, Via dei Lapidari\, 8/B\, Bologna\, BO\, Italia
ATTACH;FMTTYPE=image/jpeg:https://www.metalhead.it/wp-content/uploads/2025/11/Ndirtyrqinfest_20251113_2.jpg
END:VEVENT
END:VCALENDAR