BEGIN:VCALENDAR
VERSION:2.0
PRODID:-//Metalhead - ECPv6.15.20//NONSGML v1.0//EN
CALSCALE:GREGORIAN
METHOD:PUBLISH
X-WR-CALNAME:Metalhead
X-ORIGINAL-URL:https://www.metalhead.it
X-WR-CALDESC:Eventi per Metalhead
REFRESH-INTERVAL;VALUE=DURATION:PT1H
X-Robots-Tag:noindex
X-PUBLISHED-TTL:PT1H
BEGIN:VTIMEZONE
TZID:Europe/Rome
BEGIN:DAYLIGHT
TZOFFSETFROM:+0100
TZOFFSETTO:+0200
TZNAME:CEST
DTSTART:20240331T010000
END:DAYLIGHT
BEGIN:STANDARD
TZOFFSETFROM:+0200
TZOFFSETTO:+0100
TZNAME:CET
DTSTART:20241027T010000
END:STANDARD
BEGIN:DAYLIGHT
TZOFFSETFROM:+0100
TZOFFSETTO:+0200
TZNAME:CEST
DTSTART:20250330T010000
END:DAYLIGHT
BEGIN:STANDARD
TZOFFSETFROM:+0200
TZOFFSETTO:+0100
TZNAME:CET
DTSTART:20251026T010000
END:STANDARD
BEGIN:DAYLIGHT
TZOFFSETFROM:+0100
TZOFFSETTO:+0200
TZNAME:CEST
DTSTART:20260329T010000
END:DAYLIGHT
BEGIN:STANDARD
TZOFFSETFROM:+0200
TZOFFSETTO:+0100
TZNAME:CET
DTSTART:20261025T010000
END:STANDARD
END:VTIMEZONE
BEGIN:VEVENT
DTSTART;TZID=Europe/Rome:20251122T170000
DTEND;TZID=Europe/Rome:20251122T233000
DTSTAMP:20260425T153649
CREATED:20250528T171321Z
LAST-MODIFIED:20250528T171321Z
UID:303289-1763830800-1763854200@www.metalhead.it
SUMMARY:SPREADING DARKNESS @ Bologna
DESCRIPTION:Alchemica Music Club con Nailed To Obscurity\, Yoth Iria\,Oak Ash & Thorn\, Assumption\, Strega\nPrevendite disponibili su Powertik QUI\nEvento Facebook QUI\nFestival organizzato da Orion Agency e Death Over Rome Booking.
URL:https://www.metalhead.it/evento/spreading-darkness-bologna/
LOCATION:Alchemica\, Via dei Lapidari\, 8/B\, Bologna\, BO\, Italia
ATTACH;FMTTYPE=image/jpeg:https://www.metalhead.it/wp-content/uploads/2025/05/Nspreadingdarkness_20250528.jpg
END:VEVENT
BEGIN:VEVENT
DTSTART;TZID=Europe/Rome:20251122T193000
DTEND;TZID=Europe/Rome:20251122T233000
DTSTAMP:20260425T153649
CREATED:20251113T195034Z
LAST-MODIFIED:20251113T195034Z
UID:311457-1763839800-1763854200@www.metalhead.it
SUMMARY:NECRODEATH @ Bari
DESCRIPTION:Necrodeath \nCruentus – thrash/death metal\, Bari\, dal 1989 \nGory Blister – technical death metal\, Taranto\, dal 1991 \nBrainsore – grindcore\, Modena \n  \nEvento Facebook QUI \nOrario esibizioni: 20:00 \nTickets: \nPrevendita su DICE: 15€ + dp → Acquista QUI \nIn cassa la sera dell’evento: 20€ \n  \nTesseramento: Extreme Music Academy QUI
URL:https://www.metalhead.it/evento/necrodeath-bari/
LOCATION:PD
ATTACH;FMTTYPE=image/jpeg:https://www.metalhead.it/wp-content/uploads/2025/11/Nnecrodeath_20251113.jpg
END:VEVENT
END:VCALENDAR