BEGIN:VCALENDAR
VERSION:2.0
PRODID:-//Metalhead - ECPv6.15.20//NONSGML v1.0//EN
CALSCALE:GREGORIAN
METHOD:PUBLISH
X-WR-CALNAME:Metalhead
X-ORIGINAL-URL:https://www.metalhead.it
X-WR-CALDESC:Eventi per Metalhead
REFRESH-INTERVAL;VALUE=DURATION:PT1H
X-Robots-Tag:noindex
X-PUBLISHED-TTL:PT1H
BEGIN:VTIMEZONE
TZID:Europe/Rome
BEGIN:DAYLIGHT
TZOFFSETFROM:+0100
TZOFFSETTO:+0200
TZNAME:CEST
DTSTART:20240331T010000
END:DAYLIGHT
BEGIN:STANDARD
TZOFFSETFROM:+0200
TZOFFSETTO:+0100
TZNAME:CET
DTSTART:20241027T010000
END:STANDARD
BEGIN:DAYLIGHT
TZOFFSETFROM:+0100
TZOFFSETTO:+0200
TZNAME:CEST
DTSTART:20250330T010000
END:DAYLIGHT
BEGIN:STANDARD
TZOFFSETFROM:+0200
TZOFFSETTO:+0100
TZNAME:CET
DTSTART:20251026T010000
END:STANDARD
BEGIN:DAYLIGHT
TZOFFSETFROM:+0100
TZOFFSETTO:+0200
TZNAME:CEST
DTSTART:20260329T010000
END:DAYLIGHT
BEGIN:STANDARD
TZOFFSETFROM:+0200
TZOFFSETTO:+0100
TZNAME:CET
DTSTART:20261025T010000
END:STANDARD
END:VTIMEZONE
BEGIN:VEVENT
DTSTART;TZID=Europe/Rome:20251213T170000
DTEND;TZID=Europe/Rome:20251213T233000
DTSTAMP:20260425T142123
CREATED:20250807T093711Z
LAST-MODIFIED:20250807T093711Z
UID:306139-1765645200-1765668600@www.metalhead.it
SUMMARY:BLACK WINTER FEST XVII @ Paderno Dugnano (MI)
DESCRIPTION:Allo Slaughter Cliub con \nTaake  \nTsjuder  \nHiems  \nNel Buio  \nAlkhemia \nApocryphal  \nMorcolac\n  \nSlaughter Club – Paderno Dugnano (MI) \n️ Biglietti: 40€ + d.d.p. su DIY Ticket QUI.\nEvento Facebook QUI.\nIngresso riservato ai tesserati ACSI
URL:https://www.metalhead.it/evento/black-winter-fest-xvii-paderno-dugnano-mi/
LOCATION:Slaughter Club  Via Tagliabue 4 – Paderno Dugnano (MI)\, Via Tagliabue 4\, Paderno Dugnano (MI)\, MI\, Italia
ATTACH;FMTTYPE=image/jpeg:https://www.metalhead.it/wp-content/uploads/2025/08/Nblackwinterfest_20250807.jpg
END:VEVENT
END:VCALENDAR