BEGIN:VCALENDAR
VERSION:2.0
PRODID:-//Metalhead - ECPv6.15.20//NONSGML v1.0//EN
CALSCALE:GREGORIAN
METHOD:PUBLISH
X-ORIGINAL-URL:https://www.metalhead.it
X-WR-CALDESC:Eventi per Metalhead
REFRESH-INTERVAL;VALUE=DURATION:PT1H
X-Robots-Tag:noindex
X-PUBLISHED-TTL:PT1H
BEGIN:VTIMEZONE
TZID:Europe/Rome
BEGIN:DAYLIGHT
TZOFFSETFROM:+0100
TZOFFSETTO:+0200
TZNAME:CEST
DTSTART:20250330T010000
END:DAYLIGHT
BEGIN:STANDARD
TZOFFSETFROM:+0200
TZOFFSETTO:+0100
TZNAME:CET
DTSTART:20251026T010000
END:STANDARD
BEGIN:DAYLIGHT
TZOFFSETFROM:+0100
TZOFFSETTO:+0200
TZNAME:CEST
DTSTART:20260329T010000
END:DAYLIGHT
BEGIN:STANDARD
TZOFFSETFROM:+0200
TZOFFSETTO:+0100
TZNAME:CET
DTSTART:20261025T010000
END:STANDARD
BEGIN:DAYLIGHT
TZOFFSETFROM:+0100
TZOFFSETTO:+0200
TZNAME:CEST
DTSTART:20270328T010000
END:DAYLIGHT
BEGIN:STANDARD
TZOFFSETFROM:+0200
TZOFFSETTO:+0100
TZNAME:CET
DTSTART:20271031T010000
END:STANDARD
END:VTIMEZONE
BEGIN:VEVENT
DTSTART;TZID=Europe/Rome:20260724T080000
DTEND;TZID=Europe/Rome:20260726T233000
DTSTAMP:20260425T130304
CREATED:20260329T090021Z
LAST-MODIFIED:20260329T090021Z
UID:316644-1784880000-1785108600@www.metalhead.it
SUMMARY:PADOVA METAL FEST @ Padova
DESCRIPTION:Line-up completa \nVenerdì 24 luglio 2026\nLitania\nMidryasi’s Kult\nSlyther\nNeither\nManuada \nSabato 25 luglio 2026\nVanexa\nPerpetual Fire\nRespiro Nocivo\nEonia Rise\nMr. Jack & Friends \nDomenica 26 luglio 2026\nDisharmonic Orchestra\nThrone\nStrega\nSum Herald\nKrodah \nInformazioni \nPADOVA METAL FEST 2026\n24 / 25 / 26 luglio 2026\nParco degli Alpini\nVia Capitello\, 66 – 35136 Padova \ningresso libero e gratuito \nFacebook QUI\nInstagram QUI
URL:https://www.metalhead.it/evento/padova-metal-fest-padova/
LOCATION:Parco degli Alpini Padova\, via capitello\, Padova\, PD\, 35136\, Italia
ATTACH;FMTTYPE=image/jpeg:https://www.metalhead.it/wp-content/uploads/2026/03/Npadovametalfest_20260329.jpg
END:VEVENT
END:VCALENDAR