BEGIN:VCALENDAR
VERSION:2.0
PRODID:-//Metalhead - ECPv6.15.20//NONSGML v1.0//EN
CALSCALE:GREGORIAN
METHOD:PUBLISH
X-ORIGINAL-URL:https://www.metalhead.it
X-WR-CALDESC:Eventi per Metalhead
REFRESH-INTERVAL;VALUE=DURATION:PT1H
X-Robots-Tag:noindex
X-PUBLISHED-TTL:PT1H
BEGIN:VTIMEZONE
TZID:Europe/Rome
BEGIN:DAYLIGHT
TZOFFSETFROM:+0100
TZOFFSETTO:+0200
TZNAME:CEST
DTSTART:20250330T010000
END:DAYLIGHT
BEGIN:STANDARD
TZOFFSETFROM:+0200
TZOFFSETTO:+0100
TZNAME:CET
DTSTART:20251026T010000
END:STANDARD
BEGIN:DAYLIGHT
TZOFFSETFROM:+0100
TZOFFSETTO:+0200
TZNAME:CEST
DTSTART:20260329T010000
END:DAYLIGHT
BEGIN:STANDARD
TZOFFSETFROM:+0200
TZOFFSETTO:+0100
TZNAME:CET
DTSTART:20261025T010000
END:STANDARD
BEGIN:DAYLIGHT
TZOFFSETFROM:+0100
TZOFFSETTO:+0200
TZNAME:CEST
DTSTART:20270328T010000
END:DAYLIGHT
BEGIN:STANDARD
TZOFFSETFROM:+0200
TZOFFSETTO:+0100
TZNAME:CET
DTSTART:20271031T010000
END:STANDARD
END:VTIMEZONE
BEGIN:VEVENT
DTSTART;TZID=Europe/Rome:20260906T163000
DTEND;TZID=Europe/Rome:20260906T233000
DTSTAMP:20260425T141929
CREATED:20260224T193643Z
LAST-MODIFIED:20260224T193643Z
UID:315292-1788712200-1788737400@www.metalhead.it
SUMMARY:ADUNATA OPEN AIR @ Milano
DESCRIPTION:Al Circolo Magnolia \nALESTORM\n Trick Or Treat\n Kanseil\n LionSoul\n Valkanorr\n TiTania DJ Set (Radiofreccia)\nBlack Sails Band\ne molti altri! \nTre palchi – Area food & drink – Mercatini – Talk – GDR – Dj Set \nNon indugiare\, sodale! Assicurati il tuo lasciapassare per la prima storica ADUNATA OPEN AIR! \nInfo:\n Bagana Music\nAdunata Live \nTicketOne / Mailticket
URL:https://www.metalhead.it/evento/adunata-open-air-milano/
LOCATION:Circolo Magnolia\, ia Circonvallazione Idroscalo\, 41 Novegro-Tregarezzo MI\, 20090\, Italia
ATTACH;FMTTYPE=image/jpeg:https://www.metalhead.it/wp-content/uploads/2026/02/Nadunatalive_20260224.jpg
END:VEVENT
END:VCALENDAR