BEGIN:VCALENDAR
VERSION:2.0
PRODID:-//Metalhead - ECPv6.15.20//NONSGML v1.0//EN
CALSCALE:GREGORIAN
METHOD:PUBLISH
X-WR-CALNAME:Metalhead
X-ORIGINAL-URL:https://www.metalhead.it
X-WR-CALDESC:Eventi per Metalhead
REFRESH-INTERVAL;VALUE=DURATION:PT1H
X-Robots-Tag:noindex
X-PUBLISHED-TTL:PT1H
BEGIN:VTIMEZONE
TZID:Europe/Rome
BEGIN:DAYLIGHT
TZOFFSETFROM:+0100
TZOFFSETTO:+0200
TZNAME:CEST
DTSTART:20250330T010000
END:DAYLIGHT
BEGIN:STANDARD
TZOFFSETFROM:+0200
TZOFFSETTO:+0100
TZNAME:CET
DTSTART:20251026T010000
END:STANDARD
BEGIN:DAYLIGHT
TZOFFSETFROM:+0100
TZOFFSETTO:+0200
TZNAME:CEST
DTSTART:20260329T010000
END:DAYLIGHT
BEGIN:STANDARD
TZOFFSETFROM:+0200
TZOFFSETTO:+0100
TZNAME:CET
DTSTART:20261025T010000
END:STANDARD
BEGIN:DAYLIGHT
TZOFFSETFROM:+0100
TZOFFSETTO:+0200
TZNAME:CEST
DTSTART:20270328T010000
END:DAYLIGHT
BEGIN:STANDARD
TZOFFSETFROM:+0200
TZOFFSETTO:+0100
TZNAME:CET
DTSTART:20271031T010000
END:STANDARD
END:VTIMEZONE
BEGIN:VEVENT
DTSTART;TZID=Europe/Rome:20260624T193000
DTEND;TZID=Europe/Rome:20260624T233000
DTSTAMP:20260425T164507
CREATED:20260224T192056Z
LAST-MODIFIED:20260224T192056Z
UID:315287-1782329400-1782343800@www.metalhead.it
SUMMARY:HATEBREED @ Milano
DESCRIPTION:Ai Magazzini Generali di Milano. \nEvento Facebook QUI \n*Prevendite live esclusivamente su Ticketone a partire da ora a €35 più dp
URL:https://www.metalhead.it/evento/hatebreed-milano/
LOCATION:MAGAZZINI GENERALI\, Via Pietrasanta 16\, Milano\, 20141
ATTACH;FMTTYPE=image/jpeg:https://www.metalhead.it/wp-content/uploads/2026/02/Nhatebreed_20260224.jpg
END:VEVENT
BEGIN:VEVENT
DTSTART;TZID=Europe/Rome:20260620T193000
DTEND;TZID=Europe/Rome:20260620T233000
DTSTAMP:20260425T164507
CREATED:20260307T070558Z
LAST-MODIFIED:20260307T070558Z
UID:315949-1781983800-1781998200@www.metalhead.it
SUMMARY:THE STRONG HEART OF WOMEN @ Ranica (BG)
DESCRIPTION:Moon Wizard (USA)\nStinking Lizaveta (USA)\nThe Overness (IT)\nSonic Wolves (IT) \n\nDRUSO\nvia Antonio Locatelli 17\nRanica BG\nPorte 20:00 | Concerti ore 21:00\nFood Truck Attivo\nIngresso 15€\nPrevendita QUI \nEvento organizzato in favore di Aiuto Donna Bergamo
URL:https://www.metalhead.it/evento/the-strong-heart-of-women-ranica-bg/
LOCATION:PD
ATTACH;FMTTYPE=image/jpeg:https://www.metalhead.it/wp-content/uploads/2026/03/Nthestrongheartofwomen_20260307.jpg
END:VEVENT
BEGIN:VEVENT
DTSTART;TZID=Europe/Rome:20260601T160000
DTEND;TZID=Europe/Rome:20260601T233000
DTSTAMP:20260425T164507
CREATED:20260307T064949Z
LAST-MODIFIED:20260307T064949Z
UID:315943-1780329600-1780356600@www.metalhead.it
SUMMARY:SLAM DUNK FESTIVAL @ Milano
DESCRIPTION:Al Circolo Magnolia con: \nKNOCKED LOOSE – PALEFACE SWISS – GORILLA BISCUITS – STAND ATLANTIC – HAWTHORNE HEIGHTS – STATIC DRESS – HOLYWTR – SWEET PILL \nSLAM DUNK FESTIVAL ITALY 2026: I BIGLIETTI\nI biglietti del festival sono disponibili:\n– in prevendita esclusiva da ora su metalitalia.com\n– in vendita generale a partire da giovedì 19 febbraio dalle ore 10.00 su ticketmaster.it\n \nMedia Partner:     Metalitalia — Rock Hard Italia — Salad Days Magazine\n \nSLAM DUNK FESTIVAL ITALY\n1 GIUGNO 2026\nCIRCOLO MAGNOLIA – MILANO \nInformazioni QUI\nÈ una produzione HUB Music Factory
URL:https://www.metalhead.it/evento/slam-dunk-festival-milano/
LOCATION:Circolo Magnolia\, ia Circonvallazione Idroscalo\, 41 Novegro-Tregarezzo MI\, 20090\, Italia
ATTACH;FMTTYPE=image/jpeg:https://www.metalhead.it/wp-content/uploads/2026/03/Nslumdunk_20260307.jpg
END:VEVENT
BEGIN:VEVENT
DTSTART;TZID=Europe/Rome:20260530T193000
DTEND;TZID=Europe/Rome:20260530T233000
DTSTAMP:20260425T164507
CREATED:20260208T165722Z
LAST-MODIFIED:20260208T170202Z
UID:314890-1780169400-1780183800@www.metalhead.it
SUMMARY:KILL THE BRAIN FEST @ Roma
DESCRIPTION:Al Traffic Live Club di Roma \nGUTALAX (CZ)\nPLF (USA)\nHOUR OF PENANCE\nJESUS AIN’T IN POLAND\nERASER\nCRANIAL TORMENT \nINFO \n 
URL:https://www.metalhead.it/evento/kill-the-brain-fest-roma-3/
LOCATION:PD
END:VEVENT
BEGIN:VEVENT
DTSTART;TZID=Europe/Rome:20260523T193000
DTEND;TZID=Europe/Rome:20260523T233000
DTSTAMP:20260425T164507
CREATED:20250918T183140Z
LAST-MODIFIED:20250918T183140Z
UID:309725-1779564600-1779579000@www.metalhead.it
SUMMARY:THE GATHERING @ Trezzo sull'Adda (MI)
DESCRIPTION:Al Live Club \nBIGLIETTI:\n40€ + diritti di prevendita su Ticketone e Mailticket \nINFO E PREVENDITE:  | Ticketone | Mailticket
URL:https://www.metalhead.it/evento/the-gathering-trezzo-sulladda-mi/
LOCATION:Live Club\, Trezzo Sull’Adda\, Trezzo sull'Adda\, Italia
ATTACH;FMTTYPE=image/jpeg:https://www.metalhead.it/wp-content/uploads/2025/09/Nthegathering_20250918.jpg
END:VEVENT
BEGIN:VEVENT
DTSTART;TZID=Europe/Rome:20260522T193000
DTEND;TZID=Europe/Rome:20260522T233000
DTSTAMP:20260425T164507
CREATED:20260417T184210Z
LAST-MODIFIED:20260417T184210Z
UID:317575-1779478200-1779492600@www.metalhead.it
SUMMARY:IN PADOVA WE BLAST @ Padova
DESCRIPTION:Al Grind House con: \n500 HORSE POWER\nS.Pollution\nBrothers Of No One \nEvento organizzato da LMP Music Agency
URL:https://www.metalhead.it/evento/in-padova-we-blast-padova/
LOCATION:GRIND HOUSE\, PADOVA\, PD\, Italia
ATTACH;FMTTYPE=image/jpeg:https://www.metalhead.it/wp-content/uploads/2026/04/Ninpadovaweblast_20260417.jpg
END:VEVENT
BEGIN:VEVENT
DTSTART;TZID=Europe/Rome:20260522T193000
DTEND;TZID=Europe/Rome:20260522T233000
DTSTAMP:20260425T164507
CREATED:20260202T192547Z
LAST-MODIFIED:20260202T192547Z
UID:314705-1779478200-1779492600@www.metalhead.it
SUMMARY:PONTE DEL DIAVOLO @ Roma
DESCRIPTION:Al Traffic con Aganoor e Sonum \nEvento Facebook QUI
URL:https://www.metalhead.it/evento/ponte-del-diavolo-roma-2/
LOCATION:TRAFFIC CLUB\, Via Prenestina\, 738\, Roma\, RM\, 00155\, Italia
ATTACH;FMTTYPE=image/jpeg:https://www.metalhead.it/wp-content/uploads/2026/02/Npontedeldiavolo_20260202.jpg
END:VEVENT
BEGIN:VEVENT
DTSTART;TZID=Europe/Rome:20260516T160000
DTEND;TZID=Europe/Rome:20260516T235900
DTSTAMP:20260425T164507
CREATED:20260129T070812Z
LAST-MODIFIED:20260129T070812Z
UID:314341-1778947200-1778975940@www.metalhead.it
SUMMARY:VENEZIA HARDCORE FEST 2026 Day 2 @ Venezia
DESCRIPTION:Venezia Hardcore Fest\, 15 e 16 maggio 2026 \nEvento Facebook QUI \nCentro Sociale Rivolta \nVia Fratelli Bandiera\, 45 \n30175 VE
URL:https://www.metalhead.it/evento/venezia-hardcore-fest-2026-day-2-venezia/
LOCATION:PD
ATTACH;FMTTYPE=image/jpeg:https://www.metalhead.it/wp-content/uploads/2026/01/nVENEZIAHARDCOREFEST2026.jpg
END:VEVENT
BEGIN:VEVENT
DTSTART;TZID=Europe/Rome:20260515T160000
DTEND;TZID=Europe/Rome:20260515T235900
DTSTAMP:20260425T164507
CREATED:20260129T070822Z
LAST-MODIFIED:20260129T070822Z
UID:314340-1778860800-1778889540@www.metalhead.it
SUMMARY:VENEZIA HARDCORE FEST 2026 Day 1 @ Venezia
DESCRIPTION:Venezia Hardcore Fest\, 15 e 16 maggio 2026 \nEvento Facebook QUI \nCentro Sociale Rivolta \nVia Fratelli Bandiera\, 45 \n30175 VE
URL:https://www.metalhead.it/evento/venezia-hardcore-fest-2026-day-1-venezia/
LOCATION:CS RIVOLTA\, Via Fratelli Bandiera\, 45\, Marghera\, VE\, Italia
ATTACH;FMTTYPE=image/jpeg:https://www.metalhead.it/wp-content/uploads/2026/01/nVENEZIAHARDCOREFEST2026.jpg
END:VEVENT
BEGIN:VEVENT
DTSTART;TZID=Europe/Rome:20260503T200000
DTEND;TZID=Europe/Rome:20260503T235900
DTSTAMP:20260425T164507
CREATED:20260129T071900Z
LAST-MODIFIED:20260129T071900Z
UID:314350-1777838400-1777852740@www.metalhead.it
SUMMARY:OPERA IX @ Paderno Dugnano (MI)
DESCRIPTION:La Grave Sin bookings presenta due date speciali degli OPERA IX\, dedicate alla presentazione del nuovo album “Veneficium” \nUn rituale sonoro fra oscurità\, magia e potenza estrema. \nCon loro sul palco i finlandesi Asphodelus. \nGli Opera IX dichiarano: “Un’esperienza immersiva nelle nuove atmosfere ritualistiche e occulte che caratterizzano il nostro prossimo capitolo musicale. Nuovi brani\, vecchi classici e la nostra energia sul palco come non mai. Non mancate. Il culto continua.” \n\nGli appuntamenti sono agli inizi di Maggio: \n2 Maggio – Defrag  (Roma)\n3 Maggio – Slaughter Club (Paderno Dugnano – Milano)\n  \n \n\n 
URL:https://www.metalhead.it/evento/opera-ix-paderno-dugnano-mi/
LOCATION:Slaughter Club  Via Tagliabue 4 – Paderno Dugnano (MI)\, Via Tagliabue 4\, Paderno Dugnano (MI)\, MI\, Italia
ATTACH;FMTTYPE=image/jpeg:https://www.metalhead.it/wp-content/uploads/2026/01/nOperaIX_20260129.jpg
END:VEVENT
BEGIN:VEVENT
DTSTART;TZID=Europe/Rome:20260503T160000
DTEND;TZID=Europe/Rome:20260503T233000
DTSTAMP:20260425T164507
CREATED:20260227T175141Z
LAST-MODIFIED:20260227T175141Z
UID:315715-1777824000-1777851000@www.metalhead.it
SUMMARY:HEAVY PSYCH SOUNDS FEST @ Torino
DESCRIPTION:Presso El Barrio\, biglietti QUI \nNaxatras\nBelzebong\nNightstalker\nWeedpecker\n-(16)-\nThe Lords of Altamont\nTons*\nOreyeon\nLord Elephant\nDesert Storm\nMonsternaut\nLitania\nAvo
URL:https://www.metalhead.it/evento/heavy-psych-sounds-fest-torino/
LOCATION:El Barrio\, Strada Provinciale Torino - Cuorgnè\, 81\, Torino\, 10156\, Italia
ATTACH;FMTTYPE=image/jpeg:https://www.metalhead.it/wp-content/uploads/2026/02/Nheavypsychsoundsfest_20260227.jpg
END:VEVENT
BEGIN:VEVENT
DTSTART;TZID=Europe/Rome:20260502T200000
DTEND;TZID=Europe/Rome:20260502T235900
DTSTAMP:20260425T164507
CREATED:20260129T071909Z
LAST-MODIFIED:20260129T071909Z
UID:314351-1777752000-1777766340@www.metalhead.it
SUMMARY:OPERA IX @ Roma
DESCRIPTION:La Grave Sin bookings presenta due date speciali degli OPERA IX\, dedicate alla presentazione del nuovo album “Veneficium” \nUn rituale sonoro fra oscurità\, magia e potenza estrema. \nCon loro sul palco i finlandesi Asphodelus. \nGli Opera IX dichiarano: “Un’esperienza immersiva nelle nuove atmosfere ritualistiche e occulte che caratterizzano il nostro prossimo capitolo musicale. Nuovi brani\, vecchi classici e la nostra energia sul palco come non mai. Non mancate. Il culto continua.” \n\nGli appuntamenti sono agli inizi di Maggio: \n2 Maggio – Defrag  (Roma)\n3 Maggio – Slaughter Club (Paderno Dugnano – Milano)\n  \n \n\n 
URL:https://www.metalhead.it/evento/opera-ix-roma/
LOCATION:Defrag\, Via delle Isole Curzolane\, 75\, Roma\, Italia
ATTACH;FMTTYPE=image/jpeg:https://www.metalhead.it/wp-content/uploads/2026/01/nOperaIX_20260129.jpg
END:VEVENT
BEGIN:VEVENT
DTSTART;TZID=Europe/Rome:20260502T160000
DTEND;TZID=Europe/Rome:20260502T233000
DTSTAMP:20260425T164507
CREATED:20260227T174642Z
LAST-MODIFIED:20260227T174924Z
UID:315711-1777737600-1777764600@www.metalhead.it
SUMMARY:HEAVY PSYCH SOUNDS FEST @ Bologna
DESCRIPTION:All’Estragon Club \nNaxatras\nBelzebong\nNightstalker\nWeedpecker\n-(16)-\nThe Lords of Altamont\nGiöbia \nOreyeon\nLord Elephant\nDesert Storm\nMonsternaut\nLitania\nAvo\nDesert Rock\nHollow Ship
URL:https://www.metalhead.it/evento/heavy-psych-sounds-fest-bologna-2/
LOCATION:Estragon Club\, Via Stalingrado\, 83\, Bologna\, 40128\, Italy
ATTACH;FMTTYPE=image/jpeg:https://www.metalhead.it/wp-content/uploads/2026/02/Nheavypsychsoundsfest_20260227.jpg
END:VEVENT
BEGIN:VEVENT
DTSTART;TZID=Europe/Rome:20260501T143000
DTEND;TZID=Europe/Rome:20260502T233000
DTSTAMP:20260425T164507
CREATED:20260416T182917Z
LAST-MODIFIED:20260416T182917Z
UID:317555-1777645800-1777764600@www.metalhead.it
SUMMARY:CHURCH OF CROW DOOM FESTIVAL @ Pinerolo (TO)
DESCRIPTION:Presso la Chiesa Sconsacrata \nINFO band\, indirizzi e altro QUI \nSupport Ticket: Esaurito\nAbbonamento: 54 €\nGiornaliero: 35 € \nAcquisto tramite PayPal: churchofcrow@libero.it \nEvento Facebook QUI
URL:https://www.metalhead.it/evento/church-of-crow-doom-festival-pinerolo-to/
LOCATION:Chiesa Sconsacrata di Pinerolo\, Via San Giuseppe 50\, Pinerolo (TO)
ATTACH;FMTTYPE=image/jpeg:https://www.metalhead.it/wp-content/uploads/2026/04/Nchurchofcrowdoom_20260416_1.jpg
END:VEVENT
BEGIN:VEVENT
DTSTART;TZID=Europe/Rome:20260430T213000
DTEND;TZID=Europe/Rome:20260430T233000
DTSTAMP:20260425T164507
CREATED:20260303T184726Z
LAST-MODIFIED:20260304T184408Z
UID:315832-1777584600-1777591800@www.metalhead.it
SUMMARY:GORGON @ Erba (CO)
DESCRIPTION:Al Centrale Rock Pub con Cold Raven e Vrim. \nEvento Facebook QUI
URL:https://www.metalhead.it/evento/gorgon-erba-co/
LOCATION:PD
ATTACH;FMTTYPE=image/jpeg:https://www.metalhead.it/wp-content/uploads/2026/03/Ngorgon_20260303.jpg
END:VEVENT
BEGIN:VEVENT
DTSTART;TZID=Europe/Rome:20260426T190000
DTEND;TZID=Europe/Rome:20260426T235900
DTSTAMP:20260425T164507
CREATED:20251201T132730Z
LAST-MODIFIED:20251201T132730Z
UID:312106-1777230000-1777247940@www.metalhead.it
SUMMARY:EXHUMED @ Paderno Dugnano (MI)
DESCRIPTION:A cinque anni dall’ultima parentesi italiana al Frantic Fest\, Hellfire Booking Agency annuncia il gran ritorno degli EXHUMED! \n26 APRILE 2026 | SLAUGHTER CLUB\, MILANO \nVia Angelo Tagliabue\, 4\, 20037 Paderno Dugnano (MI) \nEvento Facebook QUI 
URL:https://www.metalhead.it/evento/exhumed-paderno-dugnano-mi/
LOCATION:Slaughter Club  Via Tagliabue 4 – Paderno Dugnano (MI)\, Via Tagliabue 4\, Paderno Dugnano (MI)\, MI\, Italia
ATTACH;FMTTYPE=image/jpeg:https://www.metalhead.it/wp-content/uploads/2025/12/nEXHUMED_20251201.jpg
END:VEVENT
BEGIN:VEVENT
DTSTART;TZID=Europe/Rome:20260425T190000
DTEND;TZID=Europe/Rome:20260425T235900
DTSTAMP:20260425T164507
CREATED:20260113T225125Z
LAST-MODIFIED:20260113T225153Z
UID:313769-1777143600-1777161540@www.metalhead.it
SUMMARY:LASTELLE @ Milano
DESCRIPTION:Per la prima volta in Italia\, Hellfire Booking Agency annuncia i LASTELLE! \n\n25 APRILE 2026 | QHUB\, MILANO \nVia Mecenate\, 76B/31\, 20138 Milano MI \nEvento Facebook QUI \n  \n  \n \n 
URL:https://www.metalhead.it/evento/lastelle-milano/
LOCATION:Q HUB\, VIA MECENATE 76B/31\, MILANO\, MI\, Italy
ATTACH;FMTTYPE=image/jpeg:https://www.metalhead.it/wp-content/uploads/2026/01/nLASTELLE_20260113_1.jpg
END:VEVENT
BEGIN:VEVENT
DTSTART;TZID=Europe/Rome:20260425T190000
DTEND;TZID=Europe/Rome:20260425T235900
DTSTAMP:20260425T164507
CREATED:20260113T222056Z
LAST-MODIFIED:20260113T222056Z
UID:313746-1777143600-1777161540@www.metalhead.it
SUMMARY:KRODA @ Cusano Milanino
DESCRIPTION:Sabato 25 aprile arrivano per la prima volta in Italia gli ucraini KRODA! \nCon loro sul palco:\nImago Mortis (ITA)\nRawness Obsolete (ITA)\nBlack Raptus (ITA)\nDemonium Ascension (ITA) \nAppuntamento sabato 25 aprile 2026 \nLA CRIPTA CLUB\nvia Giuseppe Zucchi 39G\, 20095\, Cusano Milanino. \nINGRESSO CON TESSERA ACSI  \nwww.facebook.com/nihil.prod \nEvento Facebook QUI
URL:https://www.metalhead.it/evento/kroda-cusano-milanino/
LOCATION:LA CRIPTA CLUB\, via Giuseppe Zucchi 39G\, Cusano Milanino\, MI\, 20095\, Italy
ATTACH;FMTTYPE=image/jpeg:https://www.metalhead.it/wp-content/uploads/2026/01/nKRODA_20260113.jpg
END:VEVENT
BEGIN:VEVENT
DTSTART;TZID=Europe/Rome:20260425T190000
DTEND;TZID=Europe/Rome:20260425T235900
DTSTAMP:20260425T164507
CREATED:20251201T132734Z
LAST-MODIFIED:20251201T132734Z
UID:312107-1777143600-1777161540@www.metalhead.it
SUMMARY:EXHUMED @ Roma
DESCRIPTION:A cinque anni dall’ultima parentesi italiana al Frantic Fest\, Hellfire Booking Agency annuncia il gran ritorno degli EXHUMED! \n\n25 APRILE 2026 | TRAFFIC CLUB\, ROMA \nVia Prenestina\, 738\, 00155 Roma \nEvento Facebook QUI
URL:https://www.metalhead.it/evento/exhumed-roma/
LOCATION:TRAFFIC CLUB\, Via Prenestina\, 738\, Roma\, RM\, 00155\, Italia
ATTACH;FMTTYPE=image/jpeg:https://www.metalhead.it/wp-content/uploads/2025/12/nEXHUMED_20251201.jpg
END:VEVENT
BEGIN:VEVENT
DTSTART;TZID=Europe/Rome:20260411T193000
DTEND;TZID=Europe/Rome:20260411T233000
DTSTAMP:20260425T164507
CREATED:20260219T195726Z
LAST-MODIFIED:20260219T195726Z
UID:315178-1775935800-1775950200@www.metalhead.it
SUMMARY:METAL WITCHES FEST @ Abbiategrasso (MI)
DESCRIPTION:Cooperativa Rinascita – Via Novara 2 – Abbiategrasso (MI) \n\nSabato 11 aprile – apertura porte h 20\,30 – inizio live h 21\,00 \n\nINGRESSO: 10 euro – solo contanti \nEvento Facebook QUI \ncon Hellfox\, Eveline\, Wicked Wave\, Increased Decay
URL:https://www.metalhead.it/evento/metal-witches-fest-abbiategrasso-mi/
LOCATION:PD
ATTACH;FMTTYPE=image/jpeg:https://www.metalhead.it/wp-content/uploads/2026/02/Nmetalwitches_20260219.jpg
END:VEVENT
BEGIN:VEVENT
DTSTART;TZID=Europe/Rome:20260321T193000
DTEND;TZID=Europe/Rome:20260322T233000
DTSTAMP:20260425T164507
CREATED:20260309T193813Z
LAST-MODIFIED:20260309T193813Z
UID:316000-1774121400-1774222200@www.metalhead.it
SUMMARY:ROCKIN' CREMONA @ Cremona
DESCRIPTION:Al kkk \nEvento Facebook QUI \n  \n\nSabato 21 Marzo: \nGHOST OPERA\nICE ON FIRE\nANCIENT TRAIL\nPROSIT\nSONUS AERIS \n  \nDomenica 22 Marzo: \nBRUTOSS\nCHRYSALIS\nTHE OLD FUCKERS (HAND OF DOOM – REUNION)\nSNAKE IN BRAKES \nIngresso: 10 euro un giorno/ 15 euro abbonamento per due giorni \nINFO EVENTO:ROCKIN CREMONA\n21-22 Marzo 2026\nNO NAME (Ex Midian Live Cremona)\napertura sabato 19:00 – inizio live 20.00 \napertura domenica 17.30 – inizio live 18.30 \n  \nMUSIC FACTORY QUI e QUI \nBRIXIA METAL FEST QUI e QUI
URL:https://www.metalhead.it/evento/rockin-cremona-cremona/
LOCATION:No Name\, Via delle Industrie\, 24\, Cremona\, 26100\, Italy
ATTACH;FMTTYPE=image/jpeg:https://www.metalhead.it/wp-content/uploads/2026/03/Nrockincremona_20260309.jpg
END:VEVENT
BEGIN:VEVENT
DTSTART;TZID=Europe/Rome:20260313T200000
DTEND;TZID=Europe/Rome:20260313T235900
DTSTAMP:20260425T164507
CREATED:20250815T131837Z
LAST-MODIFIED:20250815T131837Z
UID:307019-1773432000-1773446340@www.metalhead.it
SUMMARY:BETWEEN THE BURIED AND ME @ Milano
DESCRIPTION:I Between the Buried and Me\, assenti dai nostri spalti da ben tre anni ormai\, faranno collassare Milano su sé stessa il prossimo marzo. Credeteci\, una devastazione simile non l’avete mai vista. \nL’appuntamento è fissato per il 13 MARZO 2026 al LEGEND CLUB\, Viale Enrico Fermi\, 98\, 20161 Milano \nEvento Facebook QUI
URL:https://www.metalhead.it/evento/between-the-buried-and-me-milano/
LOCATION:LEGEND CLUB\, Viale Enrico Fermi\, 98\, Milano
ATTACH;FMTTYPE=image/jpeg:https://www.metalhead.it/wp-content/uploads/2025/08/nbetweentheburiedandme_20250815_2.jpg
END:VEVENT
BEGIN:VEVENT
DTSTART;TZID=Europe/Rome:20260307T193000
DTEND;TZID=Europe/Rome:20260307T233000
DTSTAMP:20260425T164507
CREATED:20250925T185824Z
LAST-MODIFIED:20250925T185824Z
UID:309899-1772911800-1772926200@www.metalhead.it
SUMMARY:UNHOLY DEAD FEST @ Pinerolo (TO)
DESCRIPTION:Presso la chiesa sconsacrata di Pinerolo (TO) \nEvento Facebook QUI \nSull’altare\, insieme ad Impaled Nazarene\, si esibiranno/sacrificheranno Stormcrow\, Azrath\, Rawness Obsolete e Kaivs. \nIMPALED NAZARENE\nSTORMCROW\nAZRATH\nRAWNESS OBSOLETE\nKAIVS \n  \nEvento organizzato da CHURCH OF CROW RECORDS\, NIHIL PRODUCTIONS e WINE AND FOG PRODUCTIONS.
URL:https://www.metalhead.it/evento/unholy-dead-fest-pinerolo-to-2/
LOCATION:Chiesa Sconsacrata di Pinerolo\, Via San Giuseppe 50\, Pinerolo (TO)
ATTACH;FMTTYPE=image/jpeg:https://www.metalhead.it/wp-content/uploads/2025/09/Nunholydeadfest_20250925.jpg
END:VEVENT
BEGIN:VEVENT
DTSTART;TZID=Europe/Rome:20260302T190000
DTEND;TZID=Europe/Rome:20260302T235900
DTSTAMP:20260425T164507
CREATED:20260113T224221Z
LAST-MODIFIED:20260113T224221Z
UID:313756-1772478000-1772495940@www.metalhead.it
SUMMARY:BØLZER @ Paderno Dugnano (MI)
DESCRIPTION:I BØLZER saranno protagonisti dell’unica data italiana del Rex Revenant Tour\, in programma lunedì 2 marzo 2026 allo Slaughter Club di Paderno Dugnano (MI). \nIl progetto svizzero\, noto per la propria interpretazione personale di death e black metal\, farà tappa in Italia per un appuntamento esclusivo. \nAd accompagnare i Bølzer sarà una line-up eterogenea e di rilievo internazionale: \nThe Ruins of Beverast\, storico progetto tra atmospheric black metal e doom \nVitriol\, tra le realtà più riconosciute del technical death metal contemporaneo \nTrepaneringsritualen\, progetto svedese tra dark ambient e industrial \nData: 2 marzo 2026 \nLuogo: Slaughter Club\, Paderno Dugnano (MI) \nPrevendite: Mailticket\nEvento Facebook QUI \nIngresso riservato ai possessori di tessera ACSI
URL:https://www.metalhead.it/evento/bolzer-paderno-dugnano-mi/
LOCATION:Slaughter Club  Via Tagliabue 4 – Paderno Dugnano (MI)\, Via Tagliabue 4\, Paderno Dugnano (MI)\, MI\, Italia
ATTACH;FMTTYPE=image/jpeg:https://www.metalhead.it/wp-content/uploads/2026/01/nBolzer_20260113.jpg
END:VEVENT
BEGIN:VEVENT
DTSTART;TZID=Europe/Rome:20260228T193000
DTEND;TZID=Europe/Rome:20260228T233000
DTSTAMP:20260425T164507
CREATED:20251020T170708Z
LAST-MODIFIED:20251020T170708Z
UID:310551-1772307000-1772321400@www.metalhead.it
SUMMARY:HARAKIRI FOR THE SKY @ Milano
DESCRIPTION:Al Legend Club \nEvento Facebook QUI
URL:https://www.metalhead.it/evento/harakiri-for-the-sky-milano/
LOCATION:LEGEND CLUB\, Viale Enrico Fermi\, 98\, Milano
ATTACH;FMTTYPE=image/jpeg:https://www.metalhead.it/wp-content/uploads/2025/10/NHarakiriForTheSky_20251020.jpg
END:VEVENT
BEGIN:VEVENT
DTSTART;TZID=Europe/Rome:20260228T190000
DTEND;TZID=Europe/Rome:20260228T235900
DTSTAMP:20260425T164507
CREATED:20260201T104635Z
LAST-MODIFIED:20260201T104635Z
UID:314669-1772305200-1772323140@www.metalhead.it
SUMMARY:THE METAL INJECTION FEST @ Paderno Dugnano (MI)
DESCRIPTION:Nasce il “THE METAL INJECTION FEST”: prima edizione il 28 febbraio 2026 allo Slaughter Club di Paderno Dugnano (MI). \nSabato 28 febbraio 2026 lo Slaughter Club di Paderno Dugnano (Milano) ospiterà la prima edizione del THE METAL INJECTION FEST\, nuovo appuntamento dedicato alla scena heavy metal italiana. \nPer questa edizione inaugurale\, l’evento vedrà come headliner i Genus Ordinis Dei\, che celebreranno proprio in questa occasione il release party ufficiale del nuovo album “The Land East of Eden”. La band ha dichiarato che quello previsto sarà lo show più grande e strutturato mai realizzato fino ad oggi. \nAccanto ai Genus Ordinis Dei\, il festival presenterà una line-up composta da alcune delle realtà più rilevanti e rappresentative del panorama metal nazionale quali: \nUlvedharr \nThe Modern Age Slavery\nNever Obey Again\nSpiritual Deception \nPath of Sorrow \nLe prevendite sono già disponibili al seguente link:  \nhttps://www.mailticket.it/evento/51034/the-metal-injection-fest \nA conclusione dei concerti è previsto un after show DJ set a tema heavy metal! \nIngresso con tessera ACSI. \nEvento Facebook QUI
URL:https://www.metalhead.it/evento/the-metal-injection-fest-paderno-dugnano-mi/
LOCATION:Slaughter Club  Via Tagliabue 4 – Paderno Dugnano (MI)\, Via Tagliabue 4\, Paderno Dugnano (MI)\, MI\, Italia
ATTACH;FMTTYPE=image/jpeg:https://www.metalhead.it/wp-content/uploads/2026/02/nTHEMETALINJECTIONFEST_20260201.jpg
END:VEVENT
BEGIN:VEVENT
DTSTART;TZID=Europe/Rome:20260227T193000
DTEND;TZID=Europe/Rome:20260227T233000
DTSTAMP:20260425T164507
CREATED:20260224T191402Z
LAST-MODIFIED:20260224T191402Z
UID:315282-1772220600-1772235000@www.metalhead.it
SUMMARY:PADOVA BLACK METAL FEST @ Padova
DESCRIPTION:Al Grindhouse \nUnviâr – atmospheric black metal dal Friuli \nApocryphal – black metal da Verona \nAskesis – black/death metal da Venezia \nTol Morwen – viking/melodic death metal da Modena \n  \nORARI\n21:30 – Apertura porte \n21:45 – 22:15 – Tol Morwen \n22:30 – 23:00 – Askesis \n23:15 – 23:45 – Apocryphal \n00:00 – Unviâr \n  \n\nIngresso riservato ai soci AICS – tessera 10€ \nEvento organizzato da BBB – Band Booster\, in collaborazione con Orion Agency \n\nPer informazioni: bbandbooster@gmail.com
URL:https://www.metalhead.it/evento/padova-black-metal-fest-padova-2/
LOCATION:GRIND HOUSE\, PADOVA\, PD\, Italia
ATTACH;FMTTYPE=image/jpeg:https://www.metalhead.it/wp-content/uploads/2026/02/Npadovablackmetalfest_20260224.jpg
END:VEVENT
BEGIN:VEVENT
DTSTART;TZID=Europe/Rome:20260226T193000
DTEND;TZID=Europe/Rome:20260226T233000
DTSTAMP:20260425T164507
CREATED:20251020T170134Z
LAST-MODIFIED:20251020T170153Z
UID:310547-1772134200-1772148600@www.metalhead.it
SUMMARY:HARAKIRI FOR THE SKY @ Roma
DESCRIPTION:Presso LArgo venue \nEvento Facebook QUI
URL:https://www.metalhead.it/evento/harakiri-for-the-sky-roma/
LOCATION:Largo venue\, Via Biordo Michelotti\, 2\, Roma\, RM\, 00176\, Italia
ATTACH;FMTTYPE=image/jpeg:https://www.metalhead.it/wp-content/uploads/2025/10/NHarakiriForTheSky_20251020.jpg
END:VEVENT
BEGIN:VEVENT
DTSTART;TZID=Europe/Rome:20260221T193000
DTEND;TZID=Europe/Rome:20260221T233000
DTSTAMP:20260425T164507
CREATED:20260217T200121Z
LAST-MODIFIED:20260217T200121Z
UID:315138-1771702200-1771716600@www.metalhead.it
SUMMARY:HATE & MERDA @ San Donà di Piave (PD)
DESCRIPTION:HATE & MERDA + WOJTEK\n@Garage Club Baladin\nVia XIII Martiri\, 52\, San Donà di Piave (VE)\nFREE ENTRY\nInfo: 1911_collective@gmail.com
URL:https://www.metalhead.it/evento/hate-merda-san-dona-di-piave-pd/
LOCATION:PD
ATTACH;FMTTYPE=image/jpeg:https://www.metalhead.it/wp-content/uploads/2026/02/Nhateemerda_20260217.jpg
END:VEVENT
BEGIN:VEVENT
DTSTART;TZID=Europe/Rome:20260221T160000
DTEND;TZID=Europe/Rome:20260221T235900
DTSTAMP:20260425T164507
CREATED:20260128T073644Z
LAST-MODIFIED:20260128T074133Z
UID:314303-1771689600-1771718340@www.metalhead.it
SUMMARY:STIGE FEST VI @ Milano
DESCRIPTION:Torna lo STIGE FEST\, ormai alla sesta edizione\, appuntamento fisso per tutti i cultori del black metal e death metal underground. \nNegli anni sul palco dello STIGE si sono alternati Blasphemy\, Revenge\, Tormentor\, Death SS\, Mysticum e moltissimi altri. \nUn appuntamento imperdibile che quest’anno si svolgerà il 21 Febbraio presso il Legend Club di Milano. \nIl programma della serata: \nApertura porte ore 16.00 \n▪️IGNOBLETH 17.00/17.30 \n▪️WOUNDEAD 17.50/18.20 \n▪️ARS GOATIA 18.50/19.40 \n▪️TENEBRO 20.00/20.50 \n▪️URGEHAL 21.20/22.20 \n▪️HELLBUTCHER 22.50/23.50 \n▪️After Show OF THE KING 00.10/00.50 \nEvento Facebook QUI \nBiglietti QUI
URL:https://www.metalhead.it/evento/stige-fest-vi-milano/
LOCATION:LEGEND CLUB\, Viale Enrico Fermi\, 98\, Milano
ATTACH;FMTTYPE=image/jpeg:https://www.metalhead.it/wp-content/uploads/2026/01/nStigeFestVI_20260128-1.jpg
END:VEVENT
END:VCALENDAR