BEGIN:VCALENDAR
VERSION:2.0
PRODID:-//Metalhead - ECPv6.15.20//NONSGML v1.0//EN
CALSCALE:GREGORIAN
METHOD:PUBLISH
X-WR-CALNAME:Metalhead
X-ORIGINAL-URL:https://www.metalhead.it
X-WR-CALDESC:Eventi per Metalhead
REFRESH-INTERVAL;VALUE=DURATION:PT1H
X-Robots-Tag:noindex
X-PUBLISHED-TTL:PT1H
BEGIN:VTIMEZONE
TZID:Europe/Rome
BEGIN:DAYLIGHT
TZOFFSETFROM:+0100
TZOFFSETTO:+0200
TZNAME:CEST
DTSTART:20250330T010000
END:DAYLIGHT
BEGIN:STANDARD
TZOFFSETFROM:+0200
TZOFFSETTO:+0100
TZNAME:CET
DTSTART:20251026T010000
END:STANDARD
BEGIN:DAYLIGHT
TZOFFSETFROM:+0100
TZOFFSETTO:+0200
TZNAME:CEST
DTSTART:20260329T010000
END:DAYLIGHT
BEGIN:STANDARD
TZOFFSETFROM:+0200
TZOFFSETTO:+0100
TZNAME:CET
DTSTART:20261025T010000
END:STANDARD
BEGIN:DAYLIGHT
TZOFFSETFROM:+0100
TZOFFSETTO:+0200
TZNAME:CEST
DTSTART:20270328T010000
END:DAYLIGHT
BEGIN:STANDARD
TZOFFSETFROM:+0200
TZOFFSETTO:+0100
TZNAME:CET
DTSTART:20271031T010000
END:STANDARD
END:VTIMEZONE
BEGIN:VEVENT
DTSTART;TZID=Europe/Rome:20260731T080000
DTEND;TZID=Europe/Rome:20260731T170000
DTSTAMP:20260425T171940
CREATED:20260224T194314Z
LAST-MODIFIED:20260224T194314Z
UID:315297-1785484800-1785517200@www.metalhead.it
SUMMARY:PRIMUS @ Milano
DESCRIPTION:PRIMUS \nUK + EUROPE 2026 \n  \nVenerdì 31 Luglio 2026 \nMilano\, Circolo Magnolia – via Circonvallazione Idroscalo\, 41 \nInizio concerti h. 19:30 \n  \nBiglietti disponibili su Ticketone. \nPosto unico in piedi: € 45\,00 + prev. / € 50\,00 in cassa la sera del concerto
URL:https://www.metalhead.it/evento/primus-milano/
LOCATION:Circolo Magnolia\, ia Circonvallazione Idroscalo\, 41 Novegro-Tregarezzo MI\, 20090\, Italia
ATTACH;FMTTYPE=image/jpeg:https://www.metalhead.it/wp-content/uploads/2026/02/Nprimus_20269224.jpg
END:VEVENT
BEGIN:VEVENT
DTSTART;TZID=Europe/Rome:20260804T173000
DTEND;TZID=Europe/Rome:20260804T233000
DTSTAMP:20260425T171940
CREATED:20260327T193024Z
LAST-MODIFIED:20260327T193024Z
UID:316620-1785864600-1785886200@www.metalhead.it
SUMMARY:OUTBURST FEST @ Segrate (MI)
DESCRIPTION:OUTBURST FEST\, MILANO \nAl Circolo Magnolia con The Ghost Inside\, Terror\, lastelle e altri \nEvento Facebook QUI
URL:https://www.metalhead.it/evento/outburst-fest-segrate-mi/
LOCATION:Circolo Magnolia\, ia Circonvallazione Idroscalo\, 41 Novegro-Tregarezzo MI\, 20090\, Italia
ATTACH;FMTTYPE=image/jpeg:https://www.metalhead.it/wp-content/uploads/2026/03/Noutburstfest_20260327.jpg
END:VEVENT
BEGIN:VEVENT
DTSTART;TZID=Europe/Rome:20260906T163000
DTEND;TZID=Europe/Rome:20260906T233000
DTSTAMP:20260425T171940
CREATED:20260224T193643Z
LAST-MODIFIED:20260224T193643Z
UID:315292-1788712200-1788737400@www.metalhead.it
SUMMARY:ADUNATA OPEN AIR @ Milano
DESCRIPTION:Al Circolo Magnolia \nALESTORM\n Trick Or Treat\n Kanseil\n LionSoul\n Valkanorr\n TiTania DJ Set (Radiofreccia)\nBlack Sails Band\ne molti altri! \nTre palchi – Area food & drink – Mercatini – Talk – GDR – Dj Set \nNon indugiare\, sodale! Assicurati il tuo lasciapassare per la prima storica ADUNATA OPEN AIR! \nInfo:\n Bagana Music\nAdunata Live \nTicketOne / Mailticket
URL:https://www.metalhead.it/evento/adunata-open-air-milano/
LOCATION:Circolo Magnolia\, ia Circonvallazione Idroscalo\, 41 Novegro-Tregarezzo MI\, 20090\, Italia
ATTACH;FMTTYPE=image/jpeg:https://www.metalhead.it/wp-content/uploads/2026/02/Nadunatalive_20260224.jpg
END:VEVENT
BEGIN:VEVENT
DTSTART;TZID=Europe/Rome:20260912T170000
DTEND;TZID=Europe/Rome:20260912T233000
DTSTAMP:20260425T171940
CREATED:20260324T190342Z
LAST-MODIFIED:20260324T190342Z
UID:316558-1789232400-1789255800@www.metalhead.it
SUMMARY:ARCANUM FEST IV @ San Giovanni Lupatato (VR)
DESCRIPTION:Al Damage Inc \n• Hellripper – black/speed metal dalla Scozia\, headliner della serata \n• Mercyless – death metal old school francese\, celebreranno Abject Offerings (1992) \n• Whiskey Ritual – black’n’roll italiano con special punk show \n• Duir – secret release show (full album premiere – AOP Records) \n• Stygian – black metal italiano oscuro e ritualistico \n• Keres – death/black metal infernale \n• Spettro – black metal italiano  \n  \nINFO BIGLIETTI \n30 euro in prevendita QUI \n35 euro in cassa la sera dell’evento
URL:https://www.metalhead.it/evento/arcanum-fest-iv-san-giovanni-lupatato-vr/
LOCATION:PD
ATTACH;FMTTYPE=image/jpeg:https://www.metalhead.it/wp-content/uploads/2026/03/Narcanumfest_20260324.jpg
END:VEVENT
BEGIN:VEVENT
DTSTART;TZID=Europe/Rome:20261026T193000
DTEND;TZID=Europe/Rome:20261026T233000
DTSTAMP:20260425T171940
CREATED:20260226T192558Z
LAST-MODIFIED:20260226T192558Z
UID:315703-1793043000-1793057400@www.metalhead.it
SUMMARY:ELEINE @ Paderno Dugnano (MI)
DESCRIPTION:Allo Slaughter Club (MI)
URL:https://www.metalhead.it/evento/eleine-paderno-dugnano-mi/
LOCATION:Slaughter Club  Via Tagliabue 4 – Paderno Dugnano (MI)\, Via Tagliabue 4\, Paderno Dugnano (MI)\, MI\, Italia
ATTACH;FMTTYPE=image/jpeg:https://www.metalhead.it/wp-content/uploads/2026/02/Neleine_20260226.jpg
END:VEVENT
BEGIN:VEVENT
DTSTART;TZID=Europe/Rome:20261101T173000
DTEND;TZID=Europe/Rome:20261101T233000
DTSTAMP:20260425T171940
CREATED:20260216T193316Z
LAST-MODIFIED:20260216T193316Z
UID:315122-1793554200-1793575800@www.metalhead.it
SUMMARY:DOOM OVER NAPLES @ Pozzuoli (NA)
DESCRIPTION:NOVEMBRE\nThe Foreshadowing\nIn Aevum Agere\nThe Apulian Blues Foundation\nIl Malpertugio \nDOMENICA 1 NOVEMBRE 2026\nDuel Club – Via Antiniana 2\, Pozzuoli (NA) \nPrevendita (18€ + dp) QUI \nEvento Facebook QUI \nDOOM OVER NAPLES è una produzione Up The Irons Group in collaborazione com Bagana
URL:https://www.metalhead.it/evento/doom-over-naples-pozzuoli-na/
LOCATION:Duel Club\, Via Antiniana\, Pozzuoli (NA)\, 80078\, Italy
ATTACH;FMTTYPE=image/jpeg:https://www.metalhead.it/wp-content/uploads/2026/02/Ndoomovernaples_20260216.jpg
END:VEVENT
END:VCALENDAR