BEGIN:VCALENDAR
VERSION:2.0
PRODID:-//Metalhead - ECPv6.15.20//NONSGML v1.0//EN
CALSCALE:GREGORIAN
METHOD:PUBLISH
X-ORIGINAL-URL:https://www.metalhead.it
X-WR-CALDESC:Eventi per Metalhead
REFRESH-INTERVAL;VALUE=DURATION:PT1H
X-Robots-Tag:noindex
X-PUBLISHED-TTL:PT1H
BEGIN:VTIMEZONE
TZID:Europe/Rome
BEGIN:DAYLIGHT
TZOFFSETFROM:+0100
TZOFFSETTO:+0200
TZNAME:CEST
DTSTART:20240331T010000
END:DAYLIGHT
BEGIN:STANDARD
TZOFFSETFROM:+0200
TZOFFSETTO:+0100
TZNAME:CET
DTSTART:20241027T010000
END:STANDARD
BEGIN:DAYLIGHT
TZOFFSETFROM:+0100
TZOFFSETTO:+0200
TZNAME:CEST
DTSTART:20250330T010000
END:DAYLIGHT
BEGIN:STANDARD
TZOFFSETFROM:+0200
TZOFFSETTO:+0100
TZNAME:CET
DTSTART:20251026T010000
END:STANDARD
BEGIN:DAYLIGHT
TZOFFSETFROM:+0100
TZOFFSETTO:+0200
TZNAME:CEST
DTSTART:20260329T010000
END:DAYLIGHT
BEGIN:STANDARD
TZOFFSETFROM:+0200
TZOFFSETTO:+0100
TZNAME:CET
DTSTART:20261025T010000
END:STANDARD
BEGIN:DAYLIGHT
TZOFFSETFROM:+0100
TZOFFSETTO:+0200
TZNAME:CEST
DTSTART:20270328T010000
END:DAYLIGHT
BEGIN:STANDARD
TZOFFSETFROM:+0200
TZOFFSETTO:+0100
TZNAME:CET
DTSTART:20271031T010000
END:STANDARD
END:VTIMEZONE
BEGIN:VEVENT
DTSTART;TZID=Europe/Rome:20251121T193000
DTEND;TZID=Europe/Rome:20251121T233000
DTSTAMP:20260425T183223
CREATED:20250305T202321Z
LAST-MODIFIED:20250305T202321Z
UID:297275-1763753400-1763767800@www.metalhead.it
SUMMARY:GUTALAX @ Modena
DESCRIPTION:Al Nottetempio con Spasm\, Guineapig\, Petomantycore\, Egocide\, Toxiarch\, Sum Herald \nBiglietti disponibili in prevendita dal 6 marzo ore 12:30\, al costo di 25 euro + d.p QUI | 30 euro all’ingresso la sera dell’evento \nLa prevendita è fortemente consigliata visti i sold-out delle scorse edizioni! Assicurati il tuo posto per una serata che non dimenticherai facilmente. \nEvento Facebook QUI
URL:https://www.metalhead.it/evento/gutalax-modena/
LOCATION:NotteTempio\, Via Nicolò Biondo\, 194\, 41126 Modena\, Modena\, 41126\, Italia
ATTACH;FMTTYPE=image/jpeg:https://www.metalhead.it/wp-content/uploads/2025/03/Ngutalax_20250305.jpg
END:VEVENT
BEGIN:VEVENT
DTSTART;TZID=Europe/Rome:20251122T170000
DTEND;TZID=Europe/Rome:20251122T233000
DTSTAMP:20260425T183223
CREATED:20250528T171321Z
LAST-MODIFIED:20250528T171321Z
UID:303289-1763830800-1763854200@www.metalhead.it
SUMMARY:SPREADING DARKNESS @ Bologna
DESCRIPTION:Alchemica Music Club con Nailed To Obscurity\, Yoth Iria\,Oak Ash & Thorn\, Assumption\, Strega\nPrevendite disponibili su Powertik QUI\nEvento Facebook QUI\nFestival organizzato da Orion Agency e Death Over Rome Booking.
URL:https://www.metalhead.it/evento/spreading-darkness-bologna/
LOCATION:Alchemica\, Via dei Lapidari\, 8/B\, Bologna\, BO\, Italia
ATTACH;FMTTYPE=image/jpeg:https://www.metalhead.it/wp-content/uploads/2025/05/Nspreadingdarkness_20250528.jpg
END:VEVENT
BEGIN:VEVENT
DTSTART;TZID=Europe/Rome:20251122T193000
DTEND;TZID=Europe/Rome:20251122T233000
DTSTAMP:20260425T183223
CREATED:20251113T195034Z
LAST-MODIFIED:20251113T195034Z
UID:311457-1763839800-1763854200@www.metalhead.it
SUMMARY:NECRODEATH @ Bari
DESCRIPTION:Necrodeath \nCruentus – thrash/death metal\, Bari\, dal 1989 \nGory Blister – technical death metal\, Taranto\, dal 1991 \nBrainsore – grindcore\, Modena \n  \nEvento Facebook QUI \nOrario esibizioni: 20:00 \nTickets: \nPrevendita su DICE: 15€ + dp → Acquista QUI \nIn cassa la sera dell’evento: 20€ \n  \nTesseramento: Extreme Music Academy QUI
URL:https://www.metalhead.it/evento/necrodeath-bari/
LOCATION:PD
ATTACH;FMTTYPE=image/jpeg:https://www.metalhead.it/wp-content/uploads/2025/11/Nnecrodeath_20251113.jpg
END:VEVENT
BEGIN:VEVENT
DTSTART;TZID=Europe/Rome:20251128T190000
DTEND;TZID=Europe/Rome:20251128T235900
DTSTAMP:20260425T183223
CREATED:20251004T104109Z
LAST-MODIFIED:20251004T104109Z
UID:310110-1764356400-1764374340@www.metalhead.it
SUMMARY:VERONA CALLS VIOLENCE @ San Giovanni Lupatoto (VR)
DESCRIPTION:Verona calls violence… Violence responds! \nIl 28 novembre al Damage Inc Live Club andrà in scena una notte hardcore da togliere il fiato: 5 band\, two‑step\, crowdkill e pura furia sonora. \nSul Palco: \n• Terrorist – headliner della serata\, portano un sound tagliente e impattante nel filone beatdown / hardcore italiano. \n• Jorelia – formazione attiva nella scena hardcore / beatdown. \n• O​cean Goddess – progetto recente con sonorità metalcore. \n• B‑laimm – Nu metal d’avanguardia. \n• Kunai – formazione beatdown hardcore. \n  \nVenerdì 28 novembre \nDamage Inc Live Club\, San Giovanni Lupatoto (VR) \nApertura porte: 20:00 \nBiglietti: 15 € (in cassa) \nEvento Facebook QUI
URL:https://www.metalhead.it/evento/verona-calls-violence-san-giovanni-lupatoto-vr/
LOCATION:Damage Inc\, Via XXIV Maggio\, 60\, San Giovanni Lupatolo (VR)\, 37057\, Italy
ATTACH;FMTTYPE=image/jpeg:https://www.metalhead.it/wp-content/uploads/2025/10/nVeronaCallsViolence_20251004.jpg
END:VEVENT
BEGIN:VEVENT
DTSTART;TZID=Europe/Rome:20251129T193000
DTEND;TZID=Europe/Rome:20251129T233000
DTSTAMP:20260425T183223
CREATED:20250523T183347Z
LAST-MODIFIED:20250915T184739Z
UID:302554-1764444600-1764459000@www.metalhead.it
SUMMARY:PESTILENCE @ Modena
DESCRIPTION:Al NotteTempio con TBA
URL:https://www.metalhead.it/evento/pestilence-modena/
LOCATION:NotteTempio\, Via Nicolò Biondo\, 194\, 41126 Modena\, Modena\, 41126\, Italia
ATTACH;FMTTYPE=image/jpeg:https://www.metalhead.it/wp-content/uploads/2025/09/Npestilence_20250915.jpg
END:VEVENT
BEGIN:VEVENT
DTSTART;TZID=Europe/Rome:20251129T193000
DTEND;TZID=Europe/Rome:20251129T233000
DTSTAMP:20260425T183223
CREATED:20251107T191543Z
LAST-MODIFIED:20251107T191543Z
UID:311036-1764444600-1764459000@www.metalhead.it
SUMMARY:PESTILENCE @ Bologna
DESCRIPTION:All’Alchemica\, dopo cambio location \nEvento Facebook QUI \n29 novembre 2025\nAlchemica Music Club\, Bologna\nBiglietti disponibili in prevendita QUI
URL:https://www.metalhead.it/evento/pestilence-bologna/
LOCATION:PD
ATTACH;FMTTYPE=image/jpeg:https://www.metalhead.it/wp-content/uploads/2023/10/fotoPestilence_20230916_7419.jpg
END:VEVENT
BEGIN:VEVENT
DTSTART;TZID=Europe/Rome:20251130T193000
DTEND;TZID=Europe/Rome:20251130T233000
DTSTAMP:20260425T183223
CREATED:20251117T191823Z
LAST-MODIFIED:20251117T191823Z
UID:311548-1764531000-1764545400@www.metalhead.it
SUMMARY:METAL ALLIANCE @ Paderno Dugnano (MI)
DESCRIPTION:Allo Slaughter Club\nEvento Facebook QUI
URL:https://www.metalhead.it/evento/metal-alliance-paderno-dugnano-mi/
LOCATION:PD
ATTACH;FMTTYPE=image/jpeg:https://www.metalhead.it/wp-content/uploads/2025/11/Nthemetalalliance_20251117.jpg
END:VEVENT
BEGIN:VEVENT
DTSTART;TZID=Europe/Rome:20251202T193000
DTEND;TZID=Europe/Rome:20251202T233000
DTSTAMP:20260425T183223
CREATED:20251008T183712Z
LAST-MODIFIED:20251008T183712Z
UID:310206-1764703800-1764718200@www.metalhead.it
SUMMARY:KIKO LOUREIRO @ Bologna
DESCRIPTION:All’Alchemica  \nBiglietti disponibili QUI
URL:https://www.metalhead.it/evento/kiko-loureiro-bologna/
LOCATION:Alchemica\, Via dei Lapidari\, 8/B\, Bologna\, BO\, Italia
ATTACH;FMTTYPE=image/jpeg:https://www.metalhead.it/wp-content/uploads/2025/10/Nkikolouriero_20251008.jpg
END:VEVENT
BEGIN:VEVENT
DTSTART;TZID=Europe/Rome:20251203T193000
DTEND;TZID=Europe/Rome:20251203T233000
DTSTAMP:20260425T183223
CREATED:20251008T183843Z
LAST-MODIFIED:20251008T183843Z
UID:310209-1764790200-1764804600@www.metalhead.it
SUMMARY:KIKO LOUREIRO @ Torino
DESCRIPTION:Presso El Barrio \nBiglietti disponibili QUI
URL:https://www.metalhead.it/evento/kiko-loureiro-torino/
LOCATION:El Barrio\, Strada Provinciale Torino - Cuorgnè\, 81\, Torino\, 10156\, Italia
ATTACH;FMTTYPE=image/jpeg:https://www.metalhead.it/wp-content/uploads/2025/10/Nkikolouriero_20251008.jpg
END:VEVENT
BEGIN:VEVENT
DTSTART;TZID=Europe/Rome:20251204T193000
DTEND;TZID=Europe/Rome:20251204T233000
DTSTAMP:20260425T183223
CREATED:20250822T181557Z
LAST-MODIFIED:20250822T181800Z
UID:307182-1764876600-1764891000@www.metalhead.it
SUMMARY:TIM RIPPER OWENS @ Cagliari
DESCRIPTION:Al Music Factory con Ice Fire e Brave Hearts Factory \nEvento Facebook QUI
URL:https://www.metalhead.it/evento/tim-ripper-owens-cagliari/
LOCATION:Music Factory Live\, Via Diritta\, 9b\, Cremona\, 26100\, Italy
ATTACH;FMTTYPE=image/jpeg:https://www.metalhead.it/wp-content/uploads/2025/08/Ntimrippenowens_20250822.jpg
END:VEVENT
BEGIN:VEVENT
DTSTART;TZID=Europe/Rome:20251205T190000
DTEND;TZID=Europe/Rome:20251205T235900
DTSTAMP:20260425T183223
CREATED:20251014T215231Z
LAST-MODIFIED:20251014T215231Z
UID:310377-1764961200-1764979140@www.metalhead.it
SUMMARY:ANANDA MIDA @ Fontanafredda (PN)
DESCRIPTION:Venerdì 5 dicembre 2025 la band psichedelica ANANDA MIDA celebra dieci anni con un concerto molto speciale all’Astro Club di Fontanafredda (PN). \nInsieme all’attuale formazione a cinque\, saliranno sul palco molti dei musicisti che\, nel tempo\, hanno contribuito a questo progetto musicale aperto. \nAstro Club \nVia Giacomo Puccini\, 141\, Fontanafredda (PN) \nEvento Facebook QUI \n 
URL:https://www.metalhead.it/evento/ananda-mida-fontanafredda-pn/
LOCATION:Astro Club\, Via G. Puccini\, 141\, Fontanafredda PN\, 33074\, Italia
ATTACH;FMTTYPE=image/jpeg:https://www.metalhead.it/wp-content/uploads/2025/10/nAnandamida_20251014_2.jpg
END:VEVENT
BEGIN:VEVENT
DTSTART;TZID=Europe/Rome:20251205T190000
DTEND;TZID=Europe/Rome:20251205T235900
DTSTAMP:20260425T183223
CREATED:20251024T060527Z
LAST-MODIFIED:20251024T060527Z
UID:310638-1764961200-1764979140@www.metalhead.it
SUMMARY:FORGOTTEN TOMB @ San Giovanni Lupatoto (VR)
DESCRIPTION:Il 5 dicembre prossimo\, infatti\, sul palco ci saranno i mitici FORGOTTEN TOMB\,. \nCon loro sul palco i Darkend\, i Vaür e una band al debutto assoluto live\, i Dawn Of A Dark Age. \nUna serata immersi nell’oscurità più totale! \nDamage Inc Live Club\, San Giovanni Lupatoto (VR)\nIngresso 25€\, prevendite su Mailticket \nNESSUNA TESSERA
URL:https://www.metalhead.it/evento/forgotten-tomb-san-giovanni-lupatoto-vr/
LOCATION:Damage Inc\, Via XXIV Maggio\, 60\, San Giovanni Lupatolo (VR)\, 37057\, Italy
ATTACH;FMTTYPE=image/jpeg:https://www.metalhead.it/wp-content/uploads/2025/10/nForgottenTomb_20251024.jpg
END:VEVENT
BEGIN:VEVENT
DTSTART;TZID=Europe/Rome:20251206T170000
DTEND;TZID=Europe/Rome:20251206T233000
DTSTAMP:20260425T183223
CREATED:20250514T184928Z
LAST-MODIFIED:20250514T184928Z
UID:301849-1765040400-1765063800@www.metalhead.it
SUMMARY:EXTREME FEST #1 @ Cremona
DESCRIPTION:Al Music Factory Live con \nForgotten Tomb + Sonum + Vox Inferi + Sarcophila + Black Raptus + Demonium Ascension. \nEvento Facebook QUI
URL:https://www.metalhead.it/evento/extreme-fest-1-cremona/
LOCATION:Music Factory Live\, Via Diritta\, 9b\, Cremona\, 26100\, Italy
ATTACH;FMTTYPE=image/jpeg:https://www.metalhead.it/wp-content/uploads/2025/05/Nextremefrst_20250514.jpg
END:VEVENT
BEGIN:VEVENT
DTSTART;TZID=Europe/Rome:20251213T170000
DTEND;TZID=Europe/Rome:20251213T233000
DTSTAMP:20260425T183223
CREATED:20250807T093711Z
LAST-MODIFIED:20250807T093711Z
UID:306139-1765645200-1765668600@www.metalhead.it
SUMMARY:BLACK WINTER FEST XVII @ Paderno Dugnano (MI)
DESCRIPTION:Allo Slaughter Cliub con \nTaake  \nTsjuder  \nHiems  \nNel Buio  \nAlkhemia \nApocryphal  \nMorcolac\n  \nSlaughter Club – Paderno Dugnano (MI) \n️ Biglietti: 40€ + d.d.p. su DIY Ticket QUI.\nEvento Facebook QUI.\nIngresso riservato ai tesserati ACSI
URL:https://www.metalhead.it/evento/black-winter-fest-xvii-paderno-dugnano-mi/
LOCATION:Slaughter Club  Via Tagliabue 4 – Paderno Dugnano (MI)\, Via Tagliabue 4\, Paderno Dugnano (MI)\, MI\, Italia
ATTACH;FMTTYPE=image/jpeg:https://www.metalhead.it/wp-content/uploads/2025/08/Nblackwinterfest_20250807.jpg
END:VEVENT
BEGIN:VEVENT
DTSTART;TZID=Europe/Rome:20251218T190000
DTEND;TZID=Europe/Rome:20251218T235900
DTSTAMP:20260425T183223
CREATED:20250929T222612Z
LAST-MODIFIED:20250929T222638Z
UID:309975-1766084400-1766102340@www.metalhead.it
SUMMARY:CLAUDIO SIMONETTI’S GOBLIN @ Roma
DESCRIPTION:50° Anniversario di Profondo Rosso \nUn evento unico e irripetibile arriva al Teatro Italia di Roma\, una delle location più affascinanti e suggestive della Capitale: Claudio Simonetti’s Goblin celebrano il capolavoro di Dario Argento con un’esperienza sonora e visiva senza precedenti. \nA cinquant’anni dall’uscita del film che ha segnato la storia del cinema e della musica\, il pubblico rivivrà l’intensità delle atmosfere oscure e magnetiche di “Profondo Rosso”\, accompagnato dal vivo dalle inconfondibili sonorità dei Goblin\, guidati dal Maestro Claudio Simonetti. \nLa proiezione del film si intreccerà con l’esecuzione della leggendaria colonna sonora\, trasformando la sala del Teatro Italia in un viaggio ipnotico tra immagini e musica. Un rito collettivo\, dove arte\, emozione e memoria si fondono in un’esperienza che farà vibrare ogni spettatore. \n18 dicembre 2025\nTeatro Italia – Via Bari\, Roma\nClaudio Simonetti’s Goblin in concerto / Live Soundtrack Experience\nPrevendite disponibili su circuito DICE. \n\nPrimo settore platea 35€ + dp \nSecondo settore platea 30€ + dp \nUn anniversario storico\, in una cornice straordinaria\, per celebrare una leggenda del cinema e della musica. Un appuntamento imperdibile per i cultori del rock progressivo\, del cinema horror e di chi vuole vivere un evento che resterà inciso nella memoria. \nEvento Facebook QUI \n 
URL:https://www.metalhead.it/evento/profondo-rosso-roma/
LOCATION:Teatro Italia\, via Bari 18\, Roma\, Roma\, Italy
ATTACH;FMTTYPE=image/jpeg:https://www.metalhead.it/wp-content/uploads/2025/09/nProfondoRosso_20250930.jpg
END:VEVENT
BEGIN:VEVENT
DTSTART;TZID=Europe/Rome:20251219T193000
DTEND;TZID=Europe/Rome:20251219T233000
DTSTAMP:20260425T183223
CREATED:20250930T161021Z
LAST-MODIFIED:20250930T161021Z
UID:310001-1766172600-1766187000@www.metalhead.it
SUMMARY:TANKARD @ Bologna
DESCRIPTION:All’Alchemica con Speed Kills\, Egocide\, Blax\, Butt Splitters. \nEvento Facebook QUI
URL:https://www.metalhead.it/evento/tankard-bologna-2/
LOCATION:Alchemica\, Via dei Lapidari\, 8/B\, Bologna\, BO\, Italia
ATTACH;FMTTYPE=image/jpeg:https://www.metalhead.it/wp-content/uploads/2025/09/Ntankard_20250930.jpg
END:VEVENT
BEGIN:VEVENT
DTSTART;TZID=Europe/Rome:20251220T193000
DTEND;TZID=Europe/Rome:20251220T233000
DTSTAMP:20260425T183223
CREATED:20250406T123534Z
LAST-MODIFIED:20250406T123534Z
UID:299103-1766259000-1766273400@www.metalhead.it
SUMMARY:TANKARD @ Bologna
DESCRIPTION:All’Alchemica con Vexovoid\, National Suicide\, Egocide. \nAllo Slaughter Club\nPrevendite su Do It Yourself fino al 19/12 QUI\nEvento Facebook QUI \nIngresso con tessera ACSI \nOrganizzato da Nihil Prod ed Orion Agency \n \n 
URL:https://www.metalhead.it/evento/tankard-bologna/
LOCATION:Slaughter Club  Via Tagliabue 4 – Paderno Dugnano (MI)\, Via Tagliabue 4\, Paderno Dugnano (MI)\, MI\, Italia
ATTACH;FMTTYPE=image/jpeg:https://www.metalhead.it/wp-content/uploads/2025/04/Ntankard_20250406.jpg
END:VEVENT
BEGIN:VEVENT
DTSTART;TZID=Europe/Rome:20251227T190000
DTEND;TZID=Europe/Rome:20251227T235900
DTSTAMP:20260425T183223
CREATED:20251201T133846Z
LAST-MODIFIED:20251201T134132Z
UID:312115-1766862000-1766879940@www.metalhead.it
SUMMARY:BLAXI TOFODO @ Modena
DESCRIPTION:Annunciato il ritorno dei BLAXI TOFODO per due date esclusive! \nBlaxi Tofodo è un progetto nato dall’idea di Matteo Bassoli (già noto per il suo lavoro con Me and That Man\, Vadva e Blindead / At the Soundawn) di trasformare in musica i messaggi audio di un misterioso tassista ricevuti in una chat di amici. \nDa scherzo iniziale a “sfida creativa”: ogni registrazione si trasforma in un brano con uno stile adatto\, dando vita a un sound unico e sorprendente. \nI risultati sono tangibili in dischi come “Taxæmilian Anger”\, “L’Arte è Dolore” e “The Dark Side of the Deeh”. \nI due appuntamenti: \n• 27 dicembre 2025 – Vibra Club\, Modena \nEvento Facebook QUI  \nCosto dei biglietti 10 euro in lista e 12 euro in cassa \n \n  \n 
URL:https://www.metalhead.it/evento/blaxi-tofodo-modena/
LOCATION:Vibra Club\, via 4 novembre\, 40/a\, Modena\, 41100\, Italy
ATTACH;FMTTYPE=image/jpeg:https://www.metalhead.it/wp-content/uploads/2025/12/nBLAXITOFODO_20251201_1.jpg
END:VEVENT
BEGIN:VEVENT
DTSTART;TZID=Europe/Rome:20260110T190000
DTEND;TZID=Europe/Rome:20260110T235900
DTSTAMP:20260425T183223
CREATED:20251201T134117Z
LAST-MODIFIED:20251201T134117Z
UID:312117-1768071600-1768089540@www.metalhead.it
SUMMARY:BLAXI TOFODO @ Milano
DESCRIPTION:Annunciato il ritorno dei BLAXI TOFODO per due date esclusive! \nBlaxi Tofodo è un progetto nato dall’idea di Matteo Bassoli (già noto per il suo lavoro con Me and That Man\, Vadva e Blindead / At the Soundawn) di trasformare in musica i messaggi audio di un misterioso tassista ricevuti in una chat di amici. \nDa scherzo iniziale a “sfida creativa”: ogni registrazione si trasforma in un brano con uno stile adatto\, dando vita a un sound unico e sorprendente. \nI risultati sono tangibili in dischi come “Taxæmilian Anger”\, “L’Arte è Dolore” e “The Dark Side of the Deeh”. \nI due appuntamenti: \n• 10 gennaio 2026 – Legend Club\, Milano \nEvento Facebook QUI  \nCosto del biglietti 12 euro + d.p. in prevendita e 15 euro cassa\, Prevendite QUI \n  \n \n  \n 
URL:https://www.metalhead.it/evento/blaxi-tofodo-milano/
LOCATION:LEGEND CLUB\, Viale Enrico Fermi\, 98\, Milano
ATTACH;FMTTYPE=image/jpeg:https://www.metalhead.it/wp-content/uploads/2025/12/nBLAXITOFODO_20251201_2.jpg
END:VEVENT
BEGIN:VEVENT
DTSTART;TZID=Europe/Rome:20260110T210000
DTEND;TZID=Europe/Rome:20260110T233000
DTSTAMP:20260425T183223
CREATED:20251220T091555Z
LAST-MODIFIED:20251220T091555Z
UID:313290-1768078800-1768087800@www.metalhead.it
SUMMARY:GORGON @ Modena
DESCRIPTION:Al Centrale 66 con Stygian e Unctoris
URL:https://www.metalhead.it/evento/gorgon-modena/
LOCATION:Centrale 66\, via Nicolò dell’Abate 66\, Modena\, Italia
ATTACH;FMTTYPE=image/jpeg:https://www.metalhead.it/wp-content/uploads/2025/12/Ngorgon_20251220_1.jpg
END:VEVENT
BEGIN:VEVENT
DTSTART;TZID=Europe/Rome:20260115T193000
DTEND;TZID=Europe/Rome:20260115T233000
DTSTAMP:20260425T183223
CREATED:20260108T171919Z
LAST-MODIFIED:20260108T171919Z
UID:313598-1768505400-1768519800@www.metalhead.it
SUMMARY:NI @ Torino
DESCRIPTION:Allo Ziggy Club \nEvento Facebook QUI \nIngresso riservato ai soci ARCI. \nContributo artistico 12€ \n \n 
URL:https://www.metalhead.it/evento/ni-torino-2/
LOCATION:PD
ATTACH;FMTTYPE=image/jpeg:https://www.metalhead.it/wp-content/uploads/2026/01/Nni_20260108.jpg
END:VEVENT
BEGIN:VEVENT
DTSTART;TZID=Europe/Rome:20260117T150000
DTEND;TZID=Europe/Rome:20260117T235900
DTSTAMP:20260425T183223
CREATED:20250829T144741Z
LAST-MODIFIED:20250829T144741Z
UID:307379-1768662000-1768694340@www.metalhead.it
SUMMARY:A DAY OF DARKNESS @ Paderno Dugnano (MI)
DESCRIPTION:La terza edizione del festival A DAY OF DARKNESS si terrà sabato 17 gennaio 2026 presso lo Slaughter Club di Paderno Dugnano (MI). \nProtagonisti assoluti della serata saranno le leggende d’oltreoceano INQUISITION\, affiancati dagli storici NECROMASS\, che proporranno un esclusivo set old school dai primi dischi. Gli HANDFUL OF HATE presenteranno in anteprima il nuovo album\, mentre i NEFARIUM torneranno sul palco dopo molti anni con un attesissimo show di reunion. \nAd aprire le danze tre formazioni di culto della scena estrema italiana: TULPA\, VOX INFERI e DEMONIUM ASCENSION. \nLine-up completa: \nINQUISITION (US) \nNECROMASS (IT) – special old school set \nHANDFUL OF HATE (IT) – new album release show \nNEFARIUM (IT) – reunion show \nTULPA (IT) \nVOX INFERI (IT) \nDEMONIUM ASCENSION (IT) \nBiglietti disponibili su DIY \nEvento Facebook QUI\nSlaughter Club\, Paderno Dugnano (MI) – Ingresso con tessera ACSI
URL:https://www.metalhead.it/evento/a-day-of-darkness-paderno-dugnano-mi/
LOCATION:Slaughter Club  Via Tagliabue 4 – Paderno Dugnano (MI)\, Via Tagliabue 4\, Paderno Dugnano (MI)\, MI\, Italia
ATTACH;FMTTYPE=image/jpeg:https://www.metalhead.it/wp-content/uploads/2025/08/nADAYOFDARKNESS_20250829.jpg
END:VEVENT
BEGIN:VEVENT
DTSTART;TZID=Europe/Rome:20260117T190000
DTEND;TZID=Europe/Rome:20260117T235900
DTSTAMP:20260425T183223
CREATED:20251201T131840Z
LAST-MODIFIED:20251201T131840Z
UID:312099-1768676400-1768694340@www.metalhead.it
SUMMARY:THRASH BASH NIGHT  @ Parma
DESCRIPTION:Sabato 17 Gennaio a Parma si terrà il il THRASH BASH NIGHT\, serata che vedrà avvicendarsi sul palco Vexovoid\, Demolition Saints\, Sindustries e Rupez Nygra. \nA seguire dj set Old school Metal by Akira dei Vexovoid!  \nLa serata si svolgerà presso Arci CDC\,  Viale Mentana\, 31\, Parma.  \nContributo all’ingresso 10€\, riservato ai soci ARCI.  \nEvento Facebook QUI
URL:https://www.metalhead.it/evento/thrash-bash-night-parma/
LOCATION:ARCI CDC Parma\, .le Mentana\, 31A\, Parma\, 43121\, Italy
ATTACH;FMTTYPE=image/jpeg:https://www.metalhead.it/wp-content/uploads/2025/12/nTHRASHBASHNIGHT_22051201.jpg
END:VEVENT
BEGIN:VEVENT
DTSTART;VALUE=DATE:20260123
DTEND;VALUE=DATE:20260125
DTSTAMP:20260425T183223
CREATED:20260112T184200Z
LAST-MODIFIED:20260112T184200Z
UID:313711-1769126400-1769299199@www.metalhead.it
SUMMARY:VERONA LOUD FEST @ San Giovanni Lupatoto (VR)
DESCRIPTION:Al Damage Inc Live Club \nIngresso: 15 € a giornata\, non è richiesta alcuna tessera\nEvento Facebook QUI \nVenerdì 23 gennaio \nCamelia (screamo) \nFinal Struggle (hardcore) \nTrelkovsky (screamo) \nCortesia (screamo) \n  \n\nSabato 24 gennaio \nOltrezona (hardcore) \nBowie (metal / hardcore) \nReset Clan (hardcore) \nGet To Hate (hardcore)
URL:https://www.metalhead.it/evento/verona-loud-fest-san-giovanni-lupatoto-vr/
LOCATION:Damage Inc\, Via XXIV Maggio\, 60\, San Giovanni Lupatolo (VR)\, 37057\, Italy
ATTACH;FMTTYPE=image/jpeg:https://www.metalhead.it/wp-content/uploads/2026/01/Nveronaloudfest_20250112.jpg
END:VEVENT
BEGIN:VEVENT
DTSTART;TZID=Europe/Rome:20260125T210000
DTEND;TZID=Europe/Rome:20260125T235900
DTSTAMP:20260425T183223
CREATED:20251229T094523Z
LAST-MODIFIED:20251229T094523Z
UID:313430-1769374800-1769385540@www.metalhead.it
SUMMARY:LEPROUS @ Padova
DESCRIPTION:LEPROUS\, European Tour Pt.2 \n25/1/2026. Hall\, Via Nona Strada 11/b – 45100 – Padova
URL:https://www.metalhead.it/evento/leprous-padova/
LOCATION:HALL\, Via Nona Strada 11b\, Padova\, 35124
ATTACH;FMTTYPE=image/jpeg:https://www.metalhead.it/wp-content/uploads/2025/12/nLEPROUS_20251229.jpg
END:VEVENT
BEGIN:VEVENT
DTSTART;TZID=Europe/Rome:20260204T210000
DTEND;TZID=Europe/Rome:20260204T235900
DTSTAMP:20260425T183223
CREATED:20251229T094548Z
LAST-MODIFIED:20251229T094548Z
UID:313431-1770238800-1770249540@www.metalhead.it
SUMMARY:LEPROUS @ Roma
DESCRIPTION:LEPROUS\, European Tour Pt.2 \n4/2/2026. Orion – Viale J.F. Kennedy 52 – Ciampino – Roma
URL:https://www.metalhead.it/evento/leprous-roma/
LOCATION:ORION Viale John Fitzgerald Kennedy\, 52\, 00043 Ciampino Roma\, Viale John Fitzgerald Kennedy\, 52\,\, Ciampino Roma\, 00043
ATTACH;FMTTYPE=image/jpeg:https://www.metalhead.it/wp-content/uploads/2025/12/nLEPROUS_20251229.jpg
END:VEVENT
BEGIN:VEVENT
DTSTART;TZID=Europe/Rome:20260207T193000
DTEND;TZID=Europe/Rome:20260207T233000
DTSTAMP:20260425T183223
CREATED:20250825T175955Z
LAST-MODIFIED:20250825T175955Z
UID:307244-1770492600-1770507000@www.metalhead.it
SUMMARY:CRYPTOPSY @ Milano
DESCRIPTION:Al Legend Club con 200 Stab Wounds\, Inferi e Corpse Pile. \nEvento Facebook QUI \nPrevendite QUI
URL:https://www.metalhead.it/evento/cryptopsy-milano/
LOCATION:LEGEND CLUB\, Viale Enrico Fermi\, 98\, Milano
ATTACH;FMTTYPE=image/jpeg:https://www.metalhead.it/wp-content/uploads/2025/08/Ncryptopsy_20250825.jpg
END:VEVENT
BEGIN:VEVENT
DTSTART;TZID=Europe/Rome:20260213T193000
DTEND;TZID=Europe/Rome:20260213T233000
DTSTAMP:20260425T183223
CREATED:20260208T165349Z
LAST-MODIFIED:20260208T165349Z
UID:314888-1771011000-1771025400@www.metalhead.it
SUMMARY:GRAVERY / SINDUSTRIES / TO THE SILENCE @ Milano
DESCRIPTION:Al Rock N Roll di Milano \nOre 21 apertura \nOre 21.30 – 22.00 To The Silence \nOre 22.15 – 22.45 Sindustries \nOre 23.15 – 24.00 Gravery. \n  \nAftershow dj set Nichilismo dalle 24. \nPartnership della serata: The Abyss Booking and Promotion\, Steel Jaw Production e Rock’n’roll Milano  \nINGRESSO GRATUITO \nEvento Facebook QUI \n\nFood’n’Drink Dalle 19:30\nPrenota la tua Cena o il tuo tavolo\nDm su Instagram\nDirect su Facebook\nWhatsApp al numero 351.8352477
URL:https://www.metalhead.it/evento/gravery-sindustries-to-the-silence-milano/
LOCATION:PD
ATTACH;FMTTYPE=image/jpeg:https://www.metalhead.it/wp-content/uploads/2026/02/Ngraveryst_20260208.jpg
END:VEVENT
BEGIN:VEVENT
DTSTART;TZID=Europe/Rome:20260214T203000
DTEND;TZID=Europe/Rome:20260214T233000
DTSTAMP:20260425T183223
CREATED:20260208T165140Z
LAST-MODIFIED:20260208T165140Z
UID:314886-1771101000-1771111800@www.metalhead.it
SUMMARY:SAN VALENTINO METAL NIGHT @ Scandicci (FI)
DESCRIPTION:HAND OF JUNO\nNEVER OBEY AGAIN\n5RAND\nFALL AS LEAP\nSINFUL JOLIES\nLa serata non finisce con l’ultima nota: a seguire\, un DJ Set After Show per continuare a celebrare il vero amore per la musica fino a tarda notte. \nL’evento è reso possibile grazie al prezioso supporto di Infinity Heavy\, The Music Lounge e Versus Music Project. \nINFORMAZIONI UTILI PER IL PUBBLICO                          \nVHS Retrò Club\, Via IV Novembre 13\, Scandicci (Firenze)\nOrari: Inizio Live ore 20:30 | A seguire DJ Set\nContributo Artistico: 15\,00 € (Solo in cassa)\nIMPORTANTE: Tessera ACSI obbligatoria per l’accesso al locale.
URL:https://www.metalhead.it/evento/san-valentino-metal-night-scandicci-fi/
LOCATION:VHS – Retrò Club\, Via IV Novembre\, 13\, Scandicci (FI)\, 50018\, Italy
ATTACH;FMTTYPE=image/jpeg:https://www.metalhead.it/wp-content/uploads/2026/02/Nsanvalentinometaln_20260209.jpg
END:VEVENT
BEGIN:VEVENT
DTSTART;TZID=Europe/Rome:20260221T160000
DTEND;TZID=Europe/Rome:20260221T235900
DTSTAMP:20260425T183223
CREATED:20260128T073644Z
LAST-MODIFIED:20260128T074133Z
UID:314303-1771689600-1771718340@www.metalhead.it
SUMMARY:STIGE FEST VI @ Milano
DESCRIPTION:Torna lo STIGE FEST\, ormai alla sesta edizione\, appuntamento fisso per tutti i cultori del black metal e death metal underground. \nNegli anni sul palco dello STIGE si sono alternati Blasphemy\, Revenge\, Tormentor\, Death SS\, Mysticum e moltissimi altri. \nUn appuntamento imperdibile che quest’anno si svolgerà il 21 Febbraio presso il Legend Club di Milano. \nIl programma della serata: \nApertura porte ore 16.00 \n▪️IGNOBLETH 17.00/17.30 \n▪️WOUNDEAD 17.50/18.20 \n▪️ARS GOATIA 18.50/19.40 \n▪️TENEBRO 20.00/20.50 \n▪️URGEHAL 21.20/22.20 \n▪️HELLBUTCHER 22.50/23.50 \n▪️After Show OF THE KING 00.10/00.50 \nEvento Facebook QUI \nBiglietti QUI
URL:https://www.metalhead.it/evento/stige-fest-vi-milano/
LOCATION:LEGEND CLUB\, Viale Enrico Fermi\, 98\, Milano
ATTACH;FMTTYPE=image/jpeg:https://www.metalhead.it/wp-content/uploads/2026/01/nStigeFestVI_20260128-1.jpg
END:VEVENT
END:VCALENDAR