BEGIN:VCALENDAR
VERSION:2.0
PRODID:-//Metalhead - ECPv6.15.20//NONSGML v1.0//EN
CALSCALE:GREGORIAN
METHOD:PUBLISH
X-WR-CALNAME:Metalhead
X-ORIGINAL-URL:https://www.metalhead.it
X-WR-CALDESC:Eventi per Metalhead
REFRESH-INTERVAL;VALUE=DURATION:PT1H
X-Robots-Tag:noindex
X-PUBLISHED-TTL:PT1H
BEGIN:VTIMEZONE
TZID:Europe/Rome
BEGIN:DAYLIGHT
TZOFFSETFROM:+0100
TZOFFSETTO:+0200
TZNAME:CEST
DTSTART:20230326T010000
END:DAYLIGHT
BEGIN:STANDARD
TZOFFSETFROM:+0200
TZOFFSETTO:+0100
TZNAME:CET
DTSTART:20231029T010000
END:STANDARD
BEGIN:DAYLIGHT
TZOFFSETFROM:+0100
TZOFFSETTO:+0200
TZNAME:CEST
DTSTART:20240331T010000
END:DAYLIGHT
BEGIN:STANDARD
TZOFFSETFROM:+0200
TZOFFSETTO:+0100
TZNAME:CET
DTSTART:20241027T010000
END:STANDARD
BEGIN:DAYLIGHT
TZOFFSETFROM:+0100
TZOFFSETTO:+0200
TZNAME:CEST
DTSTART:20250330T010000
END:DAYLIGHT
BEGIN:STANDARD
TZOFFSETFROM:+0200
TZOFFSETTO:+0100
TZNAME:CET
DTSTART:20251026T010000
END:STANDARD
END:VTIMEZONE
BEGIN:VEVENT
DTSTART;TZID=Europe/Rome:20240615T193000
DTEND;TZID=Europe/Rome:20240615T233000
DTSTAMP:20260426T023659
CREATED:20240520T161834Z
LAST-MODIFIED:20240520T161834Z
UID:277709-1718479800-1718494200@www.metalhead.it
SUMMARY:SAVAGE GRACE @ Tivoli (RM)
DESCRIPTION:Al Dissesto Cult con On The Portal\, RuinThrone\, Explorer e Son Of Thunder \nEvento Facebook QUI
URL:https://www.metalhead.it/evento/savage-grace-tivoli-rm/
LOCATION:Dissesto Cult\, Via del Barco\, Strada del Barco\, 7\, 00019 Tivoli Terme\, Tivoli Terme\, 00019\, Italia
ATTACH;FMTTYPE=image/jpeg:https://www.metalhead.it/wp-content/uploads/2024/05/Nsavagegrace_20240520.jpg
END:VEVENT
BEGIN:VEVENT
DTSTART;TZID=Europe/Rome:20240615T193000
DTEND;TZID=Europe/Rome:20240615T233000
DTSTAMP:20260426T023659
CREATED:20240516T170150Z
LAST-MODIFIED:20240516T170318Z
UID:277622-1718479800-1718494200@www.metalhead.it
SUMMARY:INGESTED @ San Zenone degli Ezzelini (TV)
DESCRIPTION:Presso Villa Albrizzi Marini\, TV\nGuest: Fate Unburied + Complain\nPrevendite QUI
URL:https://www.metalhead.it/evento/ingested-san-zenone-degli-ezzelini-tv/
LOCATION:Villa Albrizzi Marini\, Via T. Rubelli\, 1\, San Zenone degli Ezzelini (TV)\, 31020\, Italia
ATTACH;FMTTYPE=image/jpeg:https://www.metalhead.it/wp-content/uploads/2024/05/Ningested_20240516.jpg
END:VEVENT
BEGIN:VEVENT
DTSTART;TZID=Europe/Rome:20240614T190000
DTEND;TZID=Europe/Rome:20240614T235900
DTSTAMP:20260426T023659
CREATED:20240208T133042Z
LAST-MODIFIED:20240208T133042Z
UID:272070-1718391600-1718409540@www.metalhead.it
SUMMARY:CROSSES @ Milano
DESCRIPTION:CROSSES \n14 GIUGNO 2024 | ALCATRAZ \nVia Valtellina\, 25\, 20159 Milano \nEvento Facebook QUI
URL:https://www.metalhead.it/evento/crosses-milano/
LOCATION:Alcatraz\, via Valtellina 25\, Milano\, MI\, Italia
ATTACH;FMTTYPE=image/jpeg:https://www.metalhead.it/wp-content/uploads/2024/02/nCrosses_20240208.jpg
END:VEVENT
BEGIN:VEVENT
DTSTART;TZID=Europe/Rome:20240613T193000
DTEND;TZID=Europe/Rome:20240613T233000
DTSTAMP:20260426T023659
CREATED:20240112T191450Z
LAST-MODIFIED:20240112T191450Z
UID:270822-1718307000-1718321400@www.metalhead.it
SUMMARY:DROPKICK MURPHYS @ Sesto San Giovanni (MI)
DESCRIPTION:Al Carroponte \n+ special guests t.b.a. \n13 GIUGNO 2024 \nCARROPONTE – SESTO SAN GIOVANNI (MI) \nBiglietti in vendita in esclusiva su TicketSMS. \nPrezzo: 36€ + d.d.p.
URL:https://www.metalhead.it/evento/dropkick-murphys-sesto-san-giovanni-mi/
LOCATION:Spazio MIl Carroponte\, Via Luigi Granelli\, 1\,\, Sesto San Giovanni (MI)\, 20099\, Italia
ATTACH;FMTTYPE=image/jpeg:https://www.metalhead.it/wp-content/uploads/2024/01/Ndropkickmurphys_20240112.jpg
END:VEVENT
BEGIN:VEVENT
DTSTART;TZID=Europe/Rome:20240613T190000
DTEND;TZID=Europe/Rome:20240613T235900
DTSTAMP:20260426T023659
CREATED:20240208T133153Z
LAST-MODIFIED:20240208T133153Z
UID:272068-1718305200-1718323140@www.metalhead.it
SUMMARY:CROSSES @ Foligno (PG)
DESCRIPTION:CROSSES \n13 GIUGNO 2024 | AUDITORIUM SAN DOMENICO \nVia Federico Frezzi\, 6/8\, 06034 Foligno PG \nEvento Facebook QUI
URL:https://www.metalhead.it/evento/crosses-foligno-pg/
LOCATION:AUDITORIUM SAN DOMENICO\, Via Federico Frezzi\, 6/8\, Foligno\, PG\, 06034
ATTACH;FMTTYPE=image/jpeg:https://www.metalhead.it/wp-content/uploads/2024/02/nCrosses_20240208.jpg
END:VEVENT
BEGIN:VEVENT
DTSTART;TZID=Europe/Rome:20240609T160000
DTEND;TZID=Europe/Rome:20240609T233000
DTSTAMP:20260426T023659
CREATED:20240221T190506Z
LAST-MODIFIED:20240221T190506Z
UID:272842-1717948800-1717975800@www.metalhead.it
SUMMARY:DISSONANCE FEST @ Milano
DESCRIPTION:Al Circolo Magnolia\nVia Circonvallazione Idroscalo\, 41\, 20090 Novegro (MI) \nBiglietti disponibili da ora su Dice.fm\, a breve online anche su TicketOne. \n  \nLine up: \nP.O.D.\nRise Of The Northstar\nDropout Kings\nReady\, Set\, Fall!\nInverno\nJorelia\nWaves In Autumn\n+more TBA \n2 palchi – open air – nessuna tessera
URL:https://www.metalhead.it/evento/dissonance-fest-milano/
LOCATION:Circolo Magnolia\, ia Circonvallazione Idroscalo\, 41 Novegro-Tregarezzo MI\, 20090\, Italia
ATTACH;FMTTYPE=image/jpeg:https://www.metalhead.it/wp-content/uploads/2024/02/Ndissonance_20240221.jpg
END:VEVENT
BEGIN:VEVENT
DTSTART;TZID=Europe/Rome:20240608T193000
DTEND;TZID=Europe/Rome:20240608T233000
DTSTAMP:20260426T023659
CREATED:20240423T192512Z
LAST-MODIFIED:20240423T192512Z
UID:276666-1717875000-1717889400@www.metalhead.it
SUMMARY:TULPA @ Costabissara (VI)
DESCRIPTION:ULPA (release party) + UNVIÂR + STRIKEHAMMER! \n8 giugno Birreria San Giorgio di Costabissara (VI) \nContributo band: 10 euro all’ingresso \nEvento Facebook QUI
URL:https://www.metalhead.it/evento/tulpa-costabissara-vi/
LOCATION:Birreria San Giorgio\, via Marconi 4\, Costabissara\, VI\, Italia
ATTACH;FMTTYPE=image/jpeg:https://www.metalhead.it/wp-content/uploads/2024/04/Ntulpa_20240423.jpg
END:VEVENT
BEGIN:VEVENT
DTSTART;TZID=Europe/Rome:20240608T160000
DTEND;TZID=Europe/Rome:20240608T235900
DTSTAMP:20260426T023659
CREATED:20240310T185028Z
LAST-MODIFIED:20240310T185028Z
UID:273935-1717862400-1717891140@www.metalhead.it
SUMMARY:NIGHT OF THE WEREWOLVES (Satanic Warmaster e\, Osculum Infame) @ Paderno Dugnano (MI)
DESCRIPTION:A giungo arriva la NIGHT OF THE WEREWOLVES! \nDopo anni di assenza i Finlandesi SATANIC WARMASTER torneranno ad incendiare il palco dello Slaughter Club di Paderno Dugnano (MI) per una data esclusiva\, accompagnati dai Francesi OSCULUM INFAME che suoneranno nel nostro paese per la prima volta in assoluto! In apertura una selezione di ottime band Italiane. \n– SATANIC WARMASTER (FIN) data unica italiana \n– OSCULUM INFAME (FRA) prima volta in italia \n– KURGAALL (IT) \n– STORMCROW (IT) \n– XXII ARCANA (IT) \n– VOX INFERI (IT) \nSABATO 8 GIUGNO\nSlaughter club ( INGRESSO CON TESSERA ACSI)\nVia Angelo Tagliabue\, 4\n20037 Paderno Dugnano MI \nEvento Facebook QUI \nBIGLIETTI: 35 EURO IN CASSA\nPrevendite attive in pochi giorni\ninfo: nihil_management@live.it
URL:https://www.metalhead.it/evento/night-of-the-werewolves-satanic-warmaster-e-osculum-infame-paderno-dugnano-mi/
LOCATION:Slaughter Club  Via Tagliabue 4 – Paderno Dugnano (MI)\, Via Tagliabue 4\, Paderno Dugnano (MI)\, MI\, Italia
ATTACH;FMTTYPE=image/jpeg:https://www.metalhead.it/wp-content/uploads/2024/03/nNIGHTOFTHEWEREWOLVES_20240310.jpg
END:VEVENT
BEGIN:VEVENT
DTSTART;TZID=Europe/Rome:20240605T193000
DTEND;TZID=Europe/Rome:20240605T233000
DTSTAMP:20260426T023659
CREATED:20240219T164659Z
LAST-MODIFIED:20240219T165248Z
UID:272755-1717615800-1717630200@www.metalhead.it
SUMMARY:L.S. DUNES @ Milano
DESCRIPTION:Al Santeria \nViale Toscana\, 31\, 20136 Milano \nEvento Facebook QUI \nPrtevendite disponibili esclusivamente su Dice \nHellfire presale live a partire dal 22 febbraio alle 10:00. Manda una prova dell’iscrizione alla nostra newsletter a holly@hellfirebooking.com per ricevere la password! \nPrevendite generali live dal 23 febbraio alle 10:00 \nIn collaborazione con Erocks Production
URL:https://www.metalhead.it/evento/l-s-dunes-milano/
LOCATION:Santeria\, Viale Toscana\, 31\, Milano\, 20136\, Italia
ATTACH;FMTTYPE=image/jpeg:https://www.metalhead.it/wp-content/uploads/2024/02/Nlsdunes_20240219.jpg
END:VEVENT
BEGIN:VEVENT
DTSTART;TZID=Europe/Rome:20240602T193000
DTEND;TZID=Europe/Rome:20240602T233000
DTSTAMP:20260426T023659
CREATED:20240108T203723Z
LAST-MODIFIED:20240108T203723Z
UID:270576-1717356600-1717371000@www.metalhead.it
SUMMARY:VICIOUS RUMORS @ Roma
DESCRIPTION:Al Let It Beer con Crying Steel \nEvento Facebook QUI
URL:https://www.metalhead.it/evento/vicious-rumors-roma-2/
LOCATION:Let It Beer\, Piazza delle Crociate\, 26/28\, Roma\, Italia
ATTACH;FMTTYPE=image/jpeg:https://www.metalhead.it/wp-content/uploads/2024/01/Nviciousrumors_20240108.jpg
END:VEVENT
BEGIN:VEVENT
DTSTART;TZID=Europe/Rome:20240601T193000
DTEND;TZID=Europe/Rome:20240601T233000
DTSTAMP:20260426T023659
CREATED:20240123T184708Z
LAST-MODIFIED:20240123T184708Z
UID:271464-1717270200-1717284600@www.metalhead.it
SUMMARY:DUIR @ Modena
DESCRIPTION:Al Centrale 66 con Laetitia In Holocaust e Huronian \nContributo band: 8 euro  \nEvento Facebook QUI
URL:https://www.metalhead.it/evento/duir-modena/
LOCATION:Centrale 66\, via Nicolò dell’Abate 66\, Modena\, Italia
ATTACH;FMTTYPE=image/jpeg:https://www.metalhead.it/wp-content/uploads/2024/01/Nduir_20240123.jpg
END:VEVENT
BEGIN:VEVENT
DTSTART;TZID=Europe/Rome:20240601T193000
DTEND;TZID=Europe/Rome:20240601T233000
DTSTAMP:20260426T023659
CREATED:20240108T190729Z
LAST-MODIFIED:20240108T190729Z
UID:270574-1717270200-1717284600@www.metalhead.it
SUMMARY:VICIOUS RUMORS @ Bologna
DESCRIPTION:Con i Crying Steel all’Alchemica \nEvento Facebook QUI
URL:https://www.metalhead.it/evento/vicious-rumors-bologna-2/
LOCATION:Alchemica\, Via dei Lapidari\, 8/B\, Bologna\, BO\, Italia
ATTACH;FMTTYPE=image/jpeg:https://www.metalhead.it/wp-content/uploads/2024/01/Nviciousrumors_20240108.jpg
END:VEVENT
BEGIN:VEVENT
DTSTART;TZID=Europe/Rome:20240531T193000
DTEND;TZID=Europe/Rome:20240531T233000
DTSTAMP:20260426T023659
CREATED:20240419T063434Z
LAST-MODIFIED:20240419T063434Z
UID:276571-1717183800-1717198200@www.metalhead.it
SUMMARY:HOUR OF PENANCE @ Erba (CO)
DESCRIPTION:HOUR OF PENANCE\, GORY BLISTER\, HADDAH\nCentrale Rock Pub – Erba (CO) \nEvento Facebook QUI \nIngresso: 15€\nBiglietti disponibili alla cassa
URL:https://www.metalhead.it/evento/hour-of-penance-erba-co/
LOCATION:Centrale Rock Pub\, via Cascina California 9\, Erba\, CO\, Italia
ATTACH;FMTTYPE=image/jpeg:https://www.metalhead.it/wp-content/uploads/2024/04/Nhourofpenance_20240419.jpg
END:VEVENT
BEGIN:VEVENT
DTSTART;TZID=Europe/Rome:20240531T193000
DTEND;TZID=Europe/Rome:20240531T233000
DTSTAMP:20260426T023659
CREATED:20240108T190320Z
LAST-MODIFIED:20240108T190320Z
UID:270572-1717183800-1717198200@www.metalhead.it
SUMMARY:VICIOUS RUMORS @ Torino
DESCRIPTION:Allo Ziggy con Crying Steel \nEvento Facebook QUI
URL:https://www.metalhead.it/evento/vicious-rumors-torino-2/
LOCATION:Ziggy Club\, via Madama Cristina 66\, Torino\, TO\, Italia
END:VEVENT
BEGIN:VEVENT
DTSTART;TZID=Europe/Rome:20240527T210000
DTEND;TZID=Europe/Rome:20240527T233000
DTSTAMP:20260426T023659
CREATED:20240122T205743Z
LAST-MODIFIED:20240122T210238Z
UID:271443-1716843600-1716852600@www.metalhead.it
SUMMARY:THE BLACK CROWES @ Milano
DESCRIPTION:THE BLACK CROWES \nHappiness Bastards Tour 2024 \nLunedì 27 Maggio 2024 \nMilano\, Teatro Arcimboldi Milano – viale dell’Innovazione\, 20 \nInizio concerti h. 21:00
URL:https://www.metalhead.it/evento/the-black-crowes-milano-2/
LOCATION:Teatro Arcimboldi\, Viale dell'Innovazione\, 20\, MIlano\, 20126\, Italia
ATTACH;FMTTYPE=image/jpeg:https://www.metalhead.it/wp-content/uploads/2024/01/Ntheblackcrowes_202220122.jpg
END:VEVENT
BEGIN:VEVENT
DTSTART;TZID=Europe/Rome:20240526T190000
DTEND;TZID=Europe/Rome:20240526T233000
DTSTAMP:20260426T023659
CREATED:20240208T141636Z
LAST-MODIFIED:20240208T141636Z
UID:272105-1716750000-1716766200@www.metalhead.it
SUMMARY:SECRET SPHERE @ Torino
DESCRIPTION:SECRET SPHERE + INNER VITRIOL\, MVP \n26 Maggio\nBarrio’s – Torino\n  \n \n 
URL:https://www.metalhead.it/evento/secret-sphere-torino/
LOCATION:Barrio’s\, Piazza Donne Partigiane\, Milano\, 20142\, Italia
ATTACH;FMTTYPE=image/jpeg:https://www.metalhead.it/wp-content/uploads/2024/02/nSECRETSPHERE_20240208_1.jpg
END:VEVENT
BEGIN:VEVENT
DTSTART;TZID=Europe/Rome:20240525T203000
DTEND;TZID=Europe/Rome:20240526T233000
DTSTAMP:20260426T023659
CREATED:20240524T180931Z
LAST-MODIFIED:20240524T180931Z
UID:278099-1716669000-1716766200@www.metalhead.it
SUMMARY:SBAM FEST @ Torino
DESCRIPTION:El Barrio (TO)\, sabato 25 e domenica 26 maggio 2024 \nLocation: El Barrio – Strada Prov. Torino – Cuorgnè\, 81\, 10156 Torino \nCon Uklvedharr\, Secret Sphere\, Heimdall e altri
URL:https://www.metalhead.it/evento/sbam-fest-torino/
LOCATION:El Barrio\, Strada Provinciale Torino - Cuorgnè\, 81\, Torino\, 10156\, Italia
ATTACH;FMTTYPE=image/jpeg:https://www.metalhead.it/wp-content/uploads/2024/05/Nsbamfest_20240524.jpg
END:VEVENT
BEGIN:VEVENT
DTSTART;TZID=Europe/Rome:20240525T193000
DTEND;TZID=Europe/Rome:20240525T233000
DTSTAMP:20260426T023659
CREATED:20240508T181516Z
LAST-MODIFIED:20240508T181516Z
UID:277248-1716665400-1716679800@www.metalhead.it
SUMMARY:METAL DEVOURER NIGHT @ Abbiategrasso (MI)
DESCRIPTION:Presso Coop Rinascita con \nBlake’s Vengeance\nCritical Jojo\nKemas \nInizio concerto h 21.00 \nINGRESSO GRATUITO!! \nNB: In caso di pioggia il concerto verrà spostato nel salone al primo piano.
URL:https://www.metalhead.it/evento/metal-devourer-night-abbiategrasso-mi/
LOCATION:Cooperativa Rinascita Abbiatense\, Via Novara 2\, Abbiategrasso (MI)\, Italia
ATTACH;FMTTYPE=image/jpeg:https://www.metalhead.it/wp-content/uploads/2024/05/Nmetaldevourernight_20240508.jpg
END:VEVENT
BEGIN:VEVENT
DTSTART;TZID=Europe/Rome:20240525T193000
DTEND;TZID=Europe/Rome:20240525T233000
DTSTAMP:20260426T023659
CREATED:20240202T194426Z
LAST-MODIFIED:20240202T194426Z
UID:271842-1716665400-1716679800@www.metalhead.it
SUMMARY:TIME TO KILL RECORDS @ Torino
DESCRIPTION:Evento sponsorizzato dalla Time To Kill Records allo Ziggy di Torino con Undertakers e Sepolcral. \nEvento Facebook QUI \nBiglietti disponibili a 10 euro in prevendita | 12 euro in cassa
URL:https://www.metalhead.it/evento/time-to-kill-records-torino/
LOCATION:Ziggy Club\, via Madama Cristina 66\, Torino\, TO\, Italia
ATTACH;FMTTYPE=image/jpeg:https://www.metalhead.it/wp-content/uploads/2024/02/Ntimetokillnight_20240202.jpg
END:VEVENT
BEGIN:VEVENT
DTSTART;TZID=Europe/Rome:20240525T190000
DTEND;TZID=Europe/Rome:20240525T235900
DTSTAMP:20260426T023659
CREATED:20240212T145254Z
LAST-MODIFIED:20240212T145254Z
UID:272284-1716663600-1716681540@www.metalhead.it
SUMMARY:AC/DC @ Reggio Emilia
DESCRIPTION:AC/DC \nSabato 25 Maggio 2024 \nReggio Emilia\, Italy – RCF Arena
URL:https://www.metalhead.it/evento/ac-dc-reggio-emilia/
LOCATION:RCF Arena\, Via dell'Aeronautica\, Reggio Emilia\, RE\, 42122\, Italia
ATTACH;FMTTYPE=image/jpeg:https://www.metalhead.it/wp-content/uploads/2024/02/nACDC_20240212.jpg
END:VEVENT
BEGIN:VEVENT
DTSTART;TZID=Europe/Rome:20240525T190000
DTEND;TZID=Europe/Rome:20240525T233000
DTSTAMP:20260426T023659
CREATED:20240208T141721Z
LAST-MODIFIED:20240208T141721Z
UID:272101-1716663600-1716679800@www.metalhead.it
SUMMARY:SECRET SPHERE @ Bologna
DESCRIPTION:SECRET SPHERE + INNER VITRIOL\, MVP \n25 Maggio\nAlchemica Music Club – Bologna\nEvento Facebook QUI \n  \n \n 
URL:https://www.metalhead.it/evento/secret-sphere-bologna/
LOCATION:Alchemica\, Via dei Lapidari\, 8/B\, Bologna\, BO\, Italia
ATTACH;FMTTYPE=image/jpeg:https://www.metalhead.it/wp-content/uploads/2024/02/nSECRETSPHERE_20240208_1.jpg
END:VEVENT
BEGIN:VEVENT
DTSTART;TZID=Europe/Rome:20240524T210000
DTEND;TZID=Europe/Rome:20240524T233000
DTSTAMP:20260426T023659
CREATED:20231227T090441Z
LAST-MODIFIED:20231227T090441Z
UID:270239-1716584400-1716593400@www.metalhead.it
SUMMARY:GAME OVER @ Modena
DESCRIPTION:Al Centrale 66 con Explorer e Ignobleth   \nINGRESSO 10 Euro\nEvento Facebook QUI
URL:https://www.metalhead.it/evento/game-over-modena/
LOCATION:Centrale 66\, via Nicolò dell’Abate 66\, Modena\, Italia
ATTACH;FMTTYPE=image/jpeg:https://www.metalhead.it/wp-content/uploads/2023/12/Ngameover_20231227.jpg
END:VEVENT
BEGIN:VEVENT
DTSTART;TZID=Europe/Rome:20240524T190000
DTEND;TZID=Europe/Rome:20240524T233000
DTSTAMP:20260426T023659
CREATED:20240208T141909Z
LAST-MODIFIED:20240208T141909Z
UID:272104-1716577200-1716593400@www.metalhead.it
SUMMARY:SECRET SPHERE @ San Marino
DESCRIPTION:SECRET SPHERE + INNER VITRIOL\, MVP \n24 Maggio\nSkulls Club San Marino\nEvento Facebook QUI \n  \n \n 
URL:https://www.metalhead.it/evento/secret-sphere-san-marino/
LOCATION:Skulls Club\, strada degli angariari 25\, Serravalle\, 47891\, San Marino
ATTACH;FMTTYPE=image/jpeg:https://www.metalhead.it/wp-content/uploads/2024/02/nSECRETSPHERE_20240208_1.jpg
END:VEVENT
BEGIN:VEVENT
DTSTART;TZID=Europe/Rome:20240524T120000
DTEND;TZID=Europe/Rome:20240625T233000
DTSTAMP:20260426T023659
CREATED:20240228T164518Z
LAST-MODIFIED:20240228T164518Z
UID:273015-1716552000-1719358200@www.metalhead.it
SUMMARY:VENEZIA HARDCORE FEST @ Venezia
DESCRIPTION:Edizione 2024 al Centro Sociale Rivolta con: \nINFEST (unico show per il 2024)\, BLOWFUSE\, GRADE2\, RIVIERA\, BOLOGNA VIOLENTA\, GRUMO\, GUERRA\, INFALL\, INSTRUCTOR\, MIND KNOT NARKAN\, ORGAN\, OZONE DEHUMANIZER& ALFMOB\, PEASANT\, PEST CONTROL\, PROSPECTIVE\, PROWL\, RADURA\, RAINSWEPT\, RESCUE CAT\, SLOWCHAMBER\, SKULLD\, THE DEVIL’S\, TONS\, UGUAGLIANZA\, UNDERTAKERS\, WOJTEK\, WORLD PEACE
URL:https://www.metalhead.it/evento/venezia-hardcore-fest-venezia/
LOCATION:Centro Sociale Rivolta\, Via Fratelli Bandiera\, 45\, Venezia\, 30175\, Italia
ATTACH;FMTTYPE=image/jpeg:https://www.metalhead.it/wp-content/uploads/2024/02/Nveneziahardcorefest_20240228.jpg
END:VEVENT
BEGIN:VEVENT
DTSTART;TZID=Europe/Rome:20240523T193000
DTEND;TZID=Europe/Rome:20240523T233000
DTSTAMP:20260426T023659
CREATED:20240109T173512Z
LAST-MODIFIED:20240109T173512Z
UID:270598-1716492600-1716507000@www.metalhead.it
SUMMARY:WOLVES IN THE THRONE ROOM @ Parma
DESCRIPTION:Al Campus con Gaerea e Mortiferum
URL:https://www.metalhead.it/evento/wolves-in-the-throne-room-parma/
LOCATION:Campus
ATTACH;FMTTYPE=image/jpeg:https://www.metalhead.it/wp-content/uploads/2024/01/Nwolvesinthetrhoneroom_20240109.jpg
END:VEVENT
BEGIN:VEVENT
DTSTART;TZID=Europe/Rome:20240522T193000
DTEND;TZID=Europe/Rome:20240522T233000
DTSTAMP:20260426T023659
CREATED:20231023T184223Z
LAST-MODIFIED:20231023T184223Z
UID:267911-1716406200-1716420600@www.metalhead.it
SUMMARY:GLENN HUGHES @ Milano
DESCRIPTION:All’Alcatraz
URL:https://www.metalhead.it/evento/glenn-hughes-milano/
LOCATION:Alcatraz\, via Valtellina 25\, Milano\, MI\, Italia
ATTACH;FMTTYPE=image/jpeg:https://www.metalhead.it/wp-content/uploads/2023/10/copGlennHugghes_20231023.jpg
END:VEVENT
BEGIN:VEVENT
DTSTART;TZID=Europe/Rome:20240521T193000
DTEND;TZID=Europe/Rome:20240521T233000
DTSTAMP:20260426T023659
CREATED:20231023T184052Z
LAST-MODIFIED:20231023T184052Z
UID:267910-1716319800-1716334200@www.metalhead.it
SUMMARY:GLENN HUGHES @ Ciampino (RM)
DESCRIPTION:All’Orion
URL:https://www.metalhead.it/evento/glenn-hughes-ciampino-rm/
LOCATION:ORION Viale John Fitzgerald Kennedy\, 52\, 00043 Ciampino Roma\, Viale John Fitzgerald Kennedy\, 52\,\, Ciampino Roma\, 00043
ATTACH;FMTTYPE=image/jpeg:https://www.metalhead.it/wp-content/uploads/2023/10/copGlennHugghes_20231023.jpg
END:VEVENT
BEGIN:VEVENT
DTSTART;TZID=Europe/Rome:20240519T210000
DTEND;TZID=Europe/Rome:20240519T233000
DTSTAMP:20260426T023659
CREATED:20240303T180725Z
LAST-MODIFIED:20240303T180725Z
UID:273173-1716152400-1716161400@www.metalhead.it
SUMMARY:OCTOBER TIDE @ Modena
DESCRIPTION:Al Centrale 66 \nOctober Tide + Echo + For the Storms   \nContributo band : 15 Euro  \nLink evento Facebook QUI
URL:https://www.metalhead.it/evento/october-tide-modena/
LOCATION:Centrale 66\, via Nicolò dell’Abate 66\, Modena\, Italia
ATTACH;FMTTYPE=image/jpeg:https://www.metalhead.it/wp-content/uploads/2024/03/Noctobertide_20240303.jpg
END:VEVENT
BEGIN:VEVENT
DTSTART;TZID=Europe/Rome:20240519T153000
DTEND;TZID=Europe/Rome:20240519T233000
DTSTAMP:20260426T023659
CREATED:20240419T062531Z
LAST-MODIFIED:20240419T062531Z
UID:276568-1716132600-1716161400@www.metalhead.it
SUMMARY:FEUDALESIMO E LIBERTA @ Trezzo Sull'Adda (MI)
DESCRIPTION:Feudalesimo e Libertà sabato 18/ domenica 19 Live Music Club – Trezzo sull’Adda (MI)\nBiglietti € 25 + ddp su TicketOne e Mailticket \nEvento Facebook QUI \nDOMENICA 19 MAGGIO APERTURA CANCELLI ORE 12:30 \nPALCO IMPERATORE\n13.45  CANALE TEST SHOW\n14.00  TG FEL\n14.35  STORIA D’ITALIA\n15.30  MELODICKA BROS \n16.15  contest MIGLIOR COSTUME\n16.45  REY SCIUTTO \n17.30  GOTTO ESPLOSIVO \n19.00  CORNOLTIS \n20.00  DARIDEL \n21.15  BARDOMAGNO \nPALCO HOSTARIA\n14.00  DARIDEL – acoustic –\n15.10  DUOSTERIA \n15.50  contest GARA DELLA CERVOGIA  \n16.30  RUTT MYSTERIO \n16:45  contest RUTTO SONORO\n17.50  RIMATTORE \n18.40  contest ORDALIA DEL FUOCO\n19.20  IRON MAIS \nLOCANDA NERD\n14:00 GDRRANTE 1° TAV. E BRANCALONIA 2° TAV.\n15:30 TAVOLI APERTI (FINO AL TRAMONTO)\n15:50 1347 BOARDGAME E SCRIBABS\n16:30 BRANCALONIA 2° TAV.\n17:00 GDRRANTE 2° TAV. \nAREA DELLA PUGNA\nDALLE 15:00 AL TRAMONTO\nMEDIEVAL SOFT COMBAT a cura di TAURUS MFC
URL:https://www.metalhead.it/evento/feudalesimo-e-liberta-trezzo-sulladda-mi-2/
LOCATION:Live Club\, Trezzo Sull’Adda\, Trezzo sull'Adda\, Italia
ATTACH;FMTTYPE=image/jpeg:https://www.metalhead.it/wp-content/uploads/2024/04/Nfeudalesimoeliberta_20240419_2.jpg
END:VEVENT
BEGIN:VEVENT
DTSTART;TZID=Europe/Rome:20240518T190000
DTEND;TZID=Europe/Rome:20240518T233000
DTSTAMP:20260426T023659
CREATED:20240307T195639Z
LAST-MODIFIED:20240513T180543Z
UID:273852-1716058800-1716075000@www.metalhead.it
SUMMARY:KILL THE BRAIN FEST @ Roma
DESCRIPTION:Traffic Live\nvia Prenestina 738\, Roma \n19:00 – porte\n19:45 – VIBRATACORE\n20:30 – INTRACRANIAL PURULENCY\n21:15 – DR. GORE\n22:00 – GUINEAPIG\n23:00 – EXCREMENTORY GRINDFUCKERS\n23:55 – BIRDFLESH \nPrevendite QUI
URL:https://www.metalhead.it/evento/kill-the-brain-fest-roma/
LOCATION:TRAFFIC CLUB\, Via Prenestina\, 738\, Roma\, RM\, 00155\, Italia
ATTACH;FMTTYPE=image/jpeg:https://www.metalhead.it/wp-content/uploads/2024/03/Nkillthebrain_20240307.jpg
END:VEVENT
END:VCALENDAR