BEGIN:VCALENDAR
VERSION:2.0
PRODID:-//Metalhead - ECPv6.15.20//NONSGML v1.0//EN
CALSCALE:GREGORIAN
METHOD:PUBLISH
X-WR-CALNAME:Metalhead
X-ORIGINAL-URL:https://www.metalhead.it
X-WR-CALDESC:Eventi per Metalhead
REFRESH-INTERVAL;VALUE=DURATION:PT1H
X-Robots-Tag:noindex
X-PUBLISHED-TTL:PT1H
BEGIN:VTIMEZONE
TZID:Europe/Rome
BEGIN:DAYLIGHT
TZOFFSETFROM:+0100
TZOFFSETTO:+0200
TZNAME:CEST
DTSTART:20230326T010000
END:DAYLIGHT
BEGIN:STANDARD
TZOFFSETFROM:+0200
TZOFFSETTO:+0100
TZNAME:CET
DTSTART:20231029T010000
END:STANDARD
BEGIN:DAYLIGHT
TZOFFSETFROM:+0100
TZOFFSETTO:+0200
TZNAME:CEST
DTSTART:20240331T010000
END:DAYLIGHT
BEGIN:STANDARD
TZOFFSETFROM:+0200
TZOFFSETTO:+0100
TZNAME:CET
DTSTART:20241027T010000
END:STANDARD
BEGIN:DAYLIGHT
TZOFFSETFROM:+0100
TZOFFSETTO:+0200
TZNAME:CEST
DTSTART:20250330T010000
END:DAYLIGHT
BEGIN:STANDARD
TZOFFSETFROM:+0200
TZOFFSETTO:+0100
TZNAME:CET
DTSTART:20251026T010000
END:STANDARD
END:VTIMEZONE
BEGIN:VEVENT
DTSTART;TZID=Europe/Rome:20240515T193000
DTEND;TZID=Europe/Rome:20240515T233000
DTSTAMP:20260426T062820
CREATED:20240208T173751Z
LAST-MODIFIED:20240208T173751Z
UID:272148-1715801400-1715815800@www.metalhead.it
SUMMARY:CULTURA TRES @ San Donà di Piave (VE)
DESCRIPTION:Al Revolver \nCULTURA TRES\, Camino De Brujos Tour 2024 \n\nMercoledì 15 maggio 2024 – Revolver – San Donà di Piave (VE)\nBiglietto € 20 + ddp su Ciaotickets e Ticketsms 
URL:https://www.metalhead.it/evento/cultura-tres-san-dona-di-piave-ve/
LOCATION:Revolver Club\, via Kennedy 39\, San Donà di Piave\, VE\, 30027\, Italia
ATTACH;FMTTYPE=image/jpeg:https://www.metalhead.it/wp-content/uploads/2024/02/Nculturatres_20240208.jpg
END:VEVENT
BEGIN:VEVENT
DTSTART;TZID=Europe/Rome:20240514T193000
DTEND;TZID=Europe/Rome:20240514T233000
DTSTAMP:20260426T062820
CREATED:20240509T163100Z
LAST-MODIFIED:20240509T163100Z
UID:277328-1715715000-1715729400@www.metalhead.it
SUMMARY:VENDED @ Milano
DESCRIPTION:Al Legend Club \nEvento Facebook QUI
URL:https://www.metalhead.it/evento/vended-milano/
LOCATION:LEGEND CLUB\, Viale Enrico Fermi\, 98\, Milano
END:VEVENT
BEGIN:VEVENT
DTSTART;TZID=Europe/Rome:20240511T200000
DTEND;TZID=Europe/Rome:20240511T235900
DTSTAMP:20260426T062820
CREATED:20240414T075219Z
LAST-MODIFIED:20240414T075219Z
UID:276189-1715457600-1715471940@www.metalhead.it
SUMMARY:ALPENACHT IV @ Castello di Godego (TV)
DESCRIPTION:In arrivo la quarta edizione della serata gestita dal Venetic Black Metal Front \nL’evento avrà luogo presso il DadaArt Live di Castello di Godego (TV). \nSul palco: \nBrünndl (i quali suoneranno “Brünndl III“) \nHarkane \nInfernal Angels \nBlack Legion \nSabato 11 Maggio 2024 \nDadaArt Live \nVicolo Caprera\, 4\, 31030 Castello di Godego (TV) \nEvento Facebook QUI
URL:https://www.metalhead.it/evento/alpenacht-iv-castello-di-godego-tv/
LOCATION:DadaArt Live\, Vicolo Caprera\, 4\, Castello di Godego\, TV\, 31030
ATTACH;FMTTYPE=image/jpeg:https://www.metalhead.it/wp-content/uploads/2024/04/nALPENACHT_IV_20240414.jpg
END:VEVENT
BEGIN:VEVENT
DTSTART;TZID=Europe/Rome:20240511T193000
DTEND;TZID=Europe/Rome:20240511T233000
DTSTAMP:20260426T062820
CREATED:20240422T185600Z
LAST-MODIFIED:20240422T185600Z
UID:276638-1715455800-1715470200@www.metalhead.it
SUMMARY:GENUS ORDINIS DEI @ Genova
DESCRIPTION:Al Crazy Bull con Path Of Sorrow e gli Arkfallen. \nIngresso 15€ \nCrazy Bull – Genova\nEvento Facebook QUI
URL:https://www.metalhead.it/evento/genus-ordinis-dei-genova/
LOCATION:CRAZY BULL\, Via Eustachio Degola\, 4R\, Genova Sampierdarena\, GE\, 16151\, Italia
ATTACH;FMTTYPE=image/jpeg:https://www.metalhead.it/wp-content/uploads/2024/04/Ngenusordinisdei_20240422.jpg
END:VEVENT
BEGIN:VEVENT
DTSTART;TZID=Europe/Rome:20240511T193000
DTEND;TZID=Europe/Rome:20240511T233000
DTSTAMP:20260426T062820
CREATED:20240410T064929Z
LAST-MODIFIED:20240410T064929Z
UID:275823-1715455800-1715470200@www.metalhead.it
SUMMARY:NWOIBM FEST @ Tivoli (RM)
DESCRIPTION:Al Dissesto Cult con Sedna\, Goat Vomit Noise\, Vultur\, Exiled On Earth\, Najing\, Orgg\, Svart Vinter. \nL’ingresso sarà di €10 alla porta e le porte apriranno alle ore 19:00\, con inizio delle esibizioni previsto per le 20:00. Tesserati ENAC avranno accesso gratuito con pre-adesione. \nEvento Facebook QUI
URL:https://www.metalhead.it/evento/nwoibm-fest-tivoli-rm/
LOCATION:Dissesto Cult\, Via del Barco\, Strada del Barco\, 7\, 00019 Tivoli Terme\, Tivoli Terme\, 00019\, Italia
ATTACH;FMTTYPE=image/jpeg:https://www.metalhead.it/wp-content/uploads/2024/04/Nnwoibm_20240410.jpg
END:VEVENT
BEGIN:VEVENT
DTSTART;TZID=Europe/Rome:20240511T193000
DTEND;TZID=Europe/Rome:20240511T233000
DTSTAMP:20260426T062821
CREATED:20240130T175622Z
LAST-MODIFIED:20240227T183032Z
UID:271669-1715455800-1715470200@www.metalhead.it
SUMMARY:DISMEMBER @ Parma
DESCRIPTION:“Rise From The Grave” \nDISMEMBER\nVOMITORY\nDISTRUZIONE (Bus 666)\nPESSIMIST\nCADAVERIC CREMATORIUM\nDEAD CHASM\nCampus Industry\nLargo Francesco Antonio Simonini\, 1 – Parma \nEvento Facebook QUI \nBiglietti:\nPrezzo del biglietto in prevendita: €45 | in cassa la sera dello show: €55\nPrevendite disponibili sui circuiti Ciaoticket e su Ticketone
URL:https://www.metalhead.it/evento/dismember-parma/
LOCATION:Campus Industry\, Parma\, Parma
ATTACH;FMTTYPE=image/jpeg:https://www.metalhead.it/wp-content/uploads/2024/02/Ndismember_20240227.jpg
END:VEVENT
BEGIN:VEVENT
DTSTART;VALUE=DATE:20240511
DTEND;VALUE=DATE:20240513
DTSTAMP:20260426T062821
CREATED:20231113T201648Z
LAST-MODIFIED:20231213T172229Z
UID:268607-1715385600-1715558399@www.metalhead.it
SUMMARY:NOFX @ Sesto San Giovanni (MI)
DESCRIPTION:A Carroponte per un doppio concerto nel loro tour d’addio
URL:https://www.metalhead.it/evento/nofx-sesto-san-giovanni-mi/
LOCATION:Spazio MIl Carroponte\, Via Luigi Granelli\, 1\,\, Sesto San Giovanni (MI)\, 20099\, Italia
ATTACH;FMTTYPE=image/jpeg:https://www.metalhead.it/wp-content/uploads/2023/11/Nnofx_20231113.jpg
END:VEVENT
BEGIN:VEVENT
DTSTART;TZID=Europe/Rome:20240510T210000
DTEND;TZID=Europe/Rome:20240510T233000
DTSTAMP:20260426T062821
CREATED:20240319T192314Z
LAST-MODIFIED:20240319T192314Z
UID:274358-1715374800-1715383800@www.metalhead.it
SUMMARY:CRIPPLE BASTARDS & TONS @ Torino
DESCRIPTION:Allo sPAZIO211 con i So Close \nDOORS H 21 \n️BIGLIETTO IN PREVENDITA EU 16 + DDP \n️DOOR TICKET EU 20 \nPREVENDITE ATTIVE SU DICE \n \n 
URL:https://www.metalhead.it/evento/cripple-bastards-tons-torino/
LOCATION:sPAZIO211\, Via Francesco Cigna\, 211\, Torino\, 10155\, Italia
ATTACH;FMTTYPE=image/jpeg:https://www.metalhead.it/wp-content/uploads/2024/03/Ncripplebastards_20240319.jpg
END:VEVENT
BEGIN:VEVENT
DTSTART;TZID=Europe/Rome:20240505T203000
DTEND;TZID=Europe/Rome:20240505T233000
DTSTAMP:20260426T062821
CREATED:20231222T174615Z
LAST-MODIFIED:20231222T174615Z
UID:270161-1714941000-1714951800@www.metalhead.it
SUMMARY:EXPIATORIA @ Pinerolo (TO)
DESCRIPTION:Sala concerti Italo Tajo con Shape of Despair\, Dawn of Winter\, Black Revelation\, Black Oath and more TBC \nOre 20.30 \nPrezzo giornata singola: 32€ – Abbonamento due giorni: 50€ \nEvento Facebook QUI
URL:https://www.metalhead.it/evento/expiatoria-pinerolo-to/
LOCATION:Sala Concerti Italo Tajo\, via San Giuseppe\, Pinerolo (TO)\, 10064\, Italia
ATTACH;FMTTYPE=image/jpeg:https://www.metalhead.it/wp-content/uploads/2023/12/Nexpiatoria_20231222.jpg
END:VEVENT
BEGIN:VEVENT
DTSTART;TZID=Europe/Rome:20240505T193000
DTEND;TZID=Europe/Rome:20240505T233000
DTSTAMP:20260426T062821
CREATED:20240226T135638Z
LAST-MODIFIED:20240226T135638Z
UID:272966-1714937400-1714951800@www.metalhead.it
SUMMARY:ME AND THAT MAN @ Milano
DESCRIPTION:Al Legend Club \nEvento Facebook QUI \nPrezzo del biglietto in prevendita: €30 | in cassa la sera dello show: €35 \nPrevendite presto disponibili su Dice
URL:https://www.metalhead.it/evento/me-and-that-man-milano/
LOCATION:LEGEND CLUB\, Viale Enrico Fermi\, 98\, Milano
ATTACH;FMTTYPE=image/jpeg:https://www.metalhead.it/wp-content/uploads/2024/02/Nmeandthatman_20240226.jpg
END:VEVENT
BEGIN:VEVENT
DTSTART;TZID=Europe/Rome:20240504T193000
DTEND;TZID=Europe/Rome:20240504T233000
DTSTAMP:20260426T062821
CREATED:20240226T135851Z
LAST-MODIFIED:20240414T091138Z
UID:272968-1714851000-1714865400@www.metalhead.it
SUMMARY:ME AND THAT MAN @ Modena
DESCRIPTION:Al NotteTempio \nEvento Facebook QUI \nPrezzo del biglietto in prevendita: €30 | in cassa la sera dello show: €35 \nPrevendite presto disponibili su Super Ticket \nI Me And That Man saranno per la prima volta in Italia a maggio per uno spettacolo unico\, dalle atmosfere Metal\, Folk e Country\, dalle forti tinte Blues\, ma comunque oscuro\, come del resto lo è il suo creatore. \nDue band a completare la line up: \nIl progetto Ponte Del Diavolo colma il divario tra due mondi separati. La band propone un sound Doom/Black metal con radici old school\, aggiungendo un sottofondo New Wave moderno e fuori dagli schemi. Hanno recentemente pubblicato il loro primo album\, “Fire Blades From The Tomb”\, che forgia il Doom Metal classico e cult con le moderne inclinazioni del Post-Punk. \nIl compito di aprire la serata è affidato ai Fakir Thongs\, band nata nel 2012 iniziando fin da subito un’intensa attività live nella zona di Modena. La loro musica si ispira allo Stoner Rock anni ’90 e allo Space Rock degli anni ’70 e unisce melodie orecchiabili e atmosfere psichedeliche in un sapiente miscuglio sonoro.
URL:https://www.metalhead.it/evento/me-and-that-man-modena/
LOCATION:NotteTempio\, Via Nicolò Biondo\, 194\, 41126 Modena\, Modena\, 41126\, Italia
ATTACH;FMTTYPE=image/jpeg:https://www.metalhead.it/wp-content/uploads/2024/02/nMeAndThatMan_20240414.jpg
END:VEVENT
BEGIN:VEVENT
DTSTART;TZID=Europe/Rome:20240504T190000
DTEND;TZID=Europe/Rome:20240504T235900
DTSTAMP:20260426T062821
CREATED:20240421T112943Z
LAST-MODIFIED:20240421T112943Z
UID:276609-1714849200-1714867140@www.metalhead.it
SUMMARY:STORNO @ Schio (VI)
DESCRIPTION:Il 4 Maggio\, presso il CSA Arcadia di Schio (VI)\, si terrà l’ultima tappa del tour europeo degli STORMO\, insieme ai Collars da Bologna e i Born With a Basic Goodness da Vicenza.  \nGli Stormo\, band di punta panorama post-hardcore italiano\, presenteranno al pubblico alcuni i brani del loro ultimo album “Endocannibalismo”\, pubblicato l’anno scorso tramite Prosthetic Records. \n4 Maggio 2024\nCSA Arcadia – Schio (VI)  \nEvento Facebook QUI \nIngresso 15€
URL:https://www.metalhead.it/evento/storno-schio-vi/
LOCATION:CSA Arcadia\, Via Lago di Tovel\, 18\, Schio (VI)\, 36015\, Italia
ATTACH;FMTTYPE=image/jpeg:https://www.metalhead.it/wp-content/uploads/2024/04/nStormo_20240421.jpg
END:VEVENT
BEGIN:VEVENT
DTSTART;VALUE=DATE:20240504
DTEND;VALUE=DATE:20240506
DTSTAMP:20260426T062821
CREATED:20231207T202904Z
LAST-MODIFIED:20231207T202904Z
UID:269478-1714780800-1714953599@www.metalhead.it
SUMMARY:HEAVY PSYCH SOUNDS FEST @ Bologna
DESCRIPTION:Al TPO di Bologna \nfeat. \nBONGZILLA \nMONDO GENERATOR \nUFOMAMMUT \nNIGHTSTALKER \n1782 \nKADABRA \nMR. BISON \nTANKZILLA \nTHE CLAMPS \n+ more TBA \n  \nBOLOGNA WEEKEND TICKETS QUI
URL:https://www.metalhead.it/evento/heavy-psych-sounds-fest-bologna/
LOCATION:TPO Club\, Via Camillo Casarini 17\, Bologna\, BO\, Italia
ATTACH;FMTTYPE=image/jpeg:https://www.metalhead.it/wp-content/uploads/2023/12/Nheavypsychsoundsfest_20231207.jpg
END:VEVENT
BEGIN:VEVENT
DTSTART;TZID=Europe/Rome:20240503T210000
DTEND;TZID=Europe/Rome:20240503T233000
DTSTAMP:20260426T062821
CREATED:20240227T180551Z
LAST-MODIFIED:20240227T180551Z
UID:272977-1714770000-1714779000@www.metalhead.it
SUMMARY:MOTOROWL @ Modena
DESCRIPTION:Motorowl + The Ossuary + Redneck Redeption si esibiranno alle ore 21 sul palco del Centrale 66 di Modena. \nContributo band : 10 Euro  \nLink evento Facebook QUI
URL:https://www.metalhead.it/evento/motorowl-modena/
LOCATION:Centrale 66\, via Nicolò dell’Abate 66\, Modena\, Italia
ATTACH;FMTTYPE=image/jpeg:https://www.metalhead.it/wp-content/uploads/2024/02/Nmotorowl_20240227.jpg
END:VEVENT
BEGIN:VEVENT
DTSTART;TZID=Europe/Rome:20240503T193000
DTEND;TZID=Europe/Rome:20240503T233000
DTSTAMP:20260426T062821
CREATED:20240226T135404Z
LAST-MODIFIED:20240226T135404Z
UID:272964-1714764600-1714779000@www.metalhead.it
SUMMARY:ME AND THAT MAN @ Roma
DESCRIPTION:Al Traffic Club \nEvento Facebook QUI \nPrezzo del biglietto in prevendita: €28 | in cassa la sera dello show: €35 \nPrevendite presto disponibili su Dice
URL:https://www.metalhead.it/evento/me-and-that-man-roma/
LOCATION:TRAFFIC CLUB\, Via Prenestina\, 738\, Roma\, RM\, 00155\, Italia
ATTACH;FMTTYPE=image/jpeg:https://www.metalhead.it/wp-content/uploads/2024/02/Nmeandthatman_20240226.jpg
END:VEVENT
BEGIN:VEVENT
DTSTART;TZID=Europe/Rome:20240503T190000
DTEND;TZID=Europe/Rome:20240503T235900
DTSTAMP:20260426T062821
CREATED:20231228T161614Z
LAST-MODIFIED:20231228T161614Z
UID:270285-1714762800-1714780740@www.metalhead.it
SUMMARY:STICK TO YOUR GUNS e DEEZ NUTS @ San Martino Buon Albergo (VR)
DESCRIPTION:Hellfire Booking Agency annuncia Stick to Your Guns e Deez Nuts! \nGli Stick to Your Guns e i Deez Nuts faranno cadere i calcinacci dalle pareti di tutti gli edifici vicino al Legend e al Factory\, questo maggio. Venite ad aiutarci a reggere il soffitto? \n03 MAGGIO 2024 @ THE FACTORY \nViale del Lavoro\, 7\, 37036 San Martino Buon Albergo VR \nEvento Facebook QUI
URL:https://www.metalhead.it/evento/stick-to-your-guns-e-deez-nuts-san-martino-buon-albergo-vr/
LOCATION:The Factory\, Viale del Lavoro 7\, San Martino Buon Albergo\, VR\, 37036\, Italia
ATTACH;FMTTYPE=image/jpeg:https://www.metalhead.it/wp-content/uploads/2023/12/nSTICKTOYOURGUNS_DEEZNUTS_20231228.jpg
END:VEVENT
BEGIN:VEVENT
DTSTART;VALUE=DATE:20240503
DTEND;VALUE=DATE:20240505
DTSTAMP:20260426T062821
CREATED:20231207T202105Z
LAST-MODIFIED:20240226T133628Z
UID:269474-1714694400-1714867199@www.metalhead.it
SUMMARY:HEAVY PSYCH SOUNDS FEST @ Trieste
DESCRIPTION:Al Teatro Miela il 3 e 4 maggio \nBONGZILLA \nMONDO GENERATOR \nUFOMAMMUT \nNIGHTSTALKER \n1782 \nKADABRA \nMR. BISON \nTANKZILLA \nTHE CLAMPS \n+ more TBA \n  \nTRIESTE WEEKEND TICKETS QUI
URL:https://www.metalhead.it/evento/heavy-psych-sounds-fest-trieste/
LOCATION:Teatro Miela\, Piazza Luigi Amedeo Duca degli Abruzzi\, 3\, Trieste\, 34132\, Italia
ATTACH;FMTTYPE=image/jpeg:https://www.metalhead.it/wp-content/uploads/2024/02/Nheavypsychfest_20240226.jpg
END:VEVENT
BEGIN:VEVENT
DTSTART;TZID=Europe/Rome:20240502T200000
DTEND;TZID=Europe/Rome:20240502T235900
DTSTAMP:20260426T062821
CREATED:20231228T161621Z
LAST-MODIFIED:20231228T161621Z
UID:270284-1714680000-1714694340@www.metalhead.it
SUMMARY:STICK TO YOUR GUNS e DEEZ NUTS @ Milano
DESCRIPTION:Hellfire Booking Agency annuncia Stick to Your Guns e Deez Nuts! \nGli Stick to Your Guns e i Deez Nuts faranno cadere i calcinacci dalle pareti di tutti gli edifici vicino al Legend e al Factory\, questo maggio. Venite ad aiutarci a reggere il soffitto? \n02 MAGGIO 2024 @ LEGEND CLUB \nViale Enrico Fermi\, 98\, 20161 Milano  \nEvento Facebook QUI \n 
URL:https://www.metalhead.it/evento/stick-to-your-guns-e-deez-nuts-milano/
LOCATION:LEGEND CLUB\, Viale Enrico Fermi\, 98\, Milano
ATTACH;FMTTYPE=image/jpeg:https://www.metalhead.it/wp-content/uploads/2023/12/nSTICKTOYOURGUNS_DEEZNUTS_20231228.jpg
END:VEVENT
BEGIN:VEVENT
DTSTART;TZID=Europe/Rome:20240501T170000
DTEND;TZID=Europe/Rome:20240501T233000
DTSTAMP:20260426T062821
CREATED:20240417T070340Z
LAST-MODIFIED:20240417T070340Z
UID:276313-1714582800-1714606200@www.metalhead.it
SUMMARY:PROPHETS OF DOOM @ Borgo di Montebello Vicentino (VI)
DESCRIPTION:Preso Il Borgo \nProgramma: \nApertura ore 16\,30 \nMotorowl\, Doom from Germany……………….. h 22.45 / 24.00 \nThe Ossuary\, Doom from Italy………………….. h 21.30 / 22.30 \nKryuhm\, Heavy-Doom from Italy………………. h 20.00 / 21.00 \nAdom\, Post Metal\, Stoner from Italy………….. h 19.00 / 19.45 \nDesert Wave\, Psychedelic Stoner from Italy…h 18.00 / 18.45 \nProsit\, Heavy-Doom from Italy…………………….h\,17.00 / 17.45 \n  \nIngresso 5 Euro
URL:https://www.metalhead.it/evento/prophets-of-doom-borgo-di-montebello-vicentino-vi/
LOCATION:Il Borgo\, Via Borgo\, 31\, Montebello Vicentino (VI)\, 36054\, Italia
ATTACH;FMTTYPE=image/jpeg:https://www.metalhead.it/wp-content/uploads/2024/04/Nkryuhm_20240417.jpg
END:VEVENT
BEGIN:VEVENT
DTSTART;TZID=Europe/Rome:20240426T193000
DTEND;TZID=Europe/Rome:20240426T233000
DTSTAMP:20260426T062821
CREATED:20240213T183509Z
LAST-MODIFIED:20240213T183509Z
UID:272434-1714159800-1714174200@www.metalhead.it
SUMMARY:PONTE DEL DIAVOLO @ Roma
DESCRIPTION:Al Traffic con Otus e Godwatt
URL:https://www.metalhead.it/evento/ponte-del-diavolo-roma/
LOCATION:TRAFFIC CLUB\, Via Prenestina\, 738\, Roma\, RM\, 00155\, Italia
ATTACH;FMTTYPE=image/jpeg:https://www.metalhead.it/wp-content/uploads/2024/02/Ngodwatt_20240213.jpg
END:VEVENT
BEGIN:VEVENT
DTSTART;TZID=Europe/Rome:20240426T193000
DTEND;TZID=Europe/Rome:20240426T233000
DTSTAMP:20260426T062821
CREATED:20231207T193940Z
LAST-MODIFIED:20231207T193940Z
UID:269468-1714159800-1714174200@www.metalhead.it
SUMMARY:SINISTER @ Erba (CO)
DESCRIPTION:Al Centrale Rock Pub \nEvento Facebook QUI \nIngresso: 20€ \nCerberus Booking \nGrave Sin Bookings
URL:https://www.metalhead.it/evento/sinister-erba-co/
LOCATION:Centrale Rock Pub\, via Cascina California 9\, Erba\, CO\, Italia
ATTACH;FMTTYPE=image/jpeg:https://www.metalhead.it/wp-content/uploads/2023/12/Nsinister_20231207.jpg
END:VEVENT
BEGIN:VEVENT
DTSTART;TZID=Europe/Rome:20240426T170000
DTEND;TZID=Europe/Rome:20240426T233000
DTSTAMP:20260426T062821
CREATED:20240303T181809Z
LAST-MODIFIED:20240303T181809Z
UID:273177-1714150800-1714174200@www.metalhead.it
SUMMARY:ELECTRIC VALLEY RECORDS FEST @ Mezzago (MB)
DESCRIPTION:ELECTRIC VALLEY RECORDS FEST con CANCERVO\, WIZARD MASTER e CHAINS\nBloom – Mezzago (MB) – Via Eugenio Curiel\, 39\nEvento Facebook QUI\nPrevendite QUI\nIngresso 10€\nIngresso cinema+concerti 14€ (solo in cassa) \nELECTRIC VALLEY RECORDS\nCANCERVO\nWIZARD MASTER\nCHAINS
URL:https://www.metalhead.it/evento/electric-valley-records-fest-mezzago-mb/
LOCATION:Bloom\, Via Eugenio Curiel\, 39\, Mezzago\, MB\, 20883\, Italia
ATTACH;FMTTYPE=image/jpeg:https://www.metalhead.it/wp-content/uploads/2024/03/Nelectricvalleyrecordsfest_20240303.jpg
END:VEVENT
BEGIN:VEVENT
DTSTART;TZID=Europe/Rome:20240424T200000
DTEND;TZID=Europe/Rome:20240424T235900
DTSTAMP:20260426T062821
CREATED:20240419T085115Z
LAST-MODIFIED:20240419T085115Z
UID:276577-1713988800-1714003140@www.metalhead.it
SUMMARY:MARDUK @ San Donà di Piave (VE)
DESCRIPTION:MARDUK +  gli americani Origin e gli olandesi Doodswens \nRevolver Club \nva Kennedy 39 \nSan Donà di Piave \n30027 – San Donà Di Piave (VE) \nEvento Facebook QUI
URL:https://www.metalhead.it/evento/marduk-san-dona-di-piave-ve/
LOCATION:Revolver Club\, via Kennedy 39\, San Donà di Piave\, VE\, 30027\, Italia
ATTACH;FMTTYPE=image/jpeg:https://www.metalhead.it/wp-content/uploads/2024/04/nMarduk_20240419.jpg
END:VEVENT
BEGIN:VEVENT
DTSTART;TZID=Europe/Rome:20240420T193000
DTEND;TZID=Europe/Rome:20240420T233000
DTSTAMP:20260426T062821
CREATED:20240412T075753Z
LAST-MODIFIED:20240412T075753Z
UID:276138-1713641400-1713655800@www.metalhead.it
SUMMARY:QUERCIA @ San Donà di Piave (VE)
DESCRIPTION:Al Garage Guinguette Baladin con Condensa\, membri dei Còlgate. \nVia XIII Martiri\, 52\, San Donà di Piave (VE)\nFREE ENTRY\nInfo: 1911_collective@gmail.com \nEvento Facebook QUI
URL:https://www.metalhead.it/evento/quercia-san-dona-di-piave-ve/
LOCATION:Garage Guinguette Baladin\, Via XIII Martiri\, 52\, San Donà di Piave (VE)\, 30027
ATTACH;FMTTYPE=image/jpeg:https://www.metalhead.it/wp-content/uploads/2024/04/Nquercia_20240412.jpg
END:VEVENT
BEGIN:VEVENT
DTSTART;TZID=Europe/Rome:20240420T193000
DTEND;TZID=Europe/Rome:20240420T233000
DTSTAMP:20260426T062821
CREATED:20240404T193507Z
LAST-MODIFIED:20240404T193507Z
UID:275625-1713641400-1713655800@www.metalhead.it
SUMMARY:DIOCLETIAN @ Paderno Dugnano (MI)
DESCRIPTION:Allo Slaughter Club con \nWhisky Ritual\, Necromorbid Shrieking Demons e Necroblaspemer. \nDi seguito orari e dettagli\n \nDIOCLETIAN 23.00          \nWHISKEY RITUAL 22.00\nNECROMORBID 21.00\nSHRIEKING DEMONS 20.00\nNECROBLASPHEMER 19.15 \nApertura cancelli: 18:45 \nSabato 20 aprile 2024\nSlaughter Club – Paderno Dugnano (MI) \nEvento Facebook QUI \nLo-Fi Creatures
URL:https://www.metalhead.it/evento/diocletian-paderno-dugnano-mi/
LOCATION:Slaughter Club  Via Tagliabue 4 – Paderno Dugnano (MI)\, Via Tagliabue 4\, Paderno Dugnano (MI)\, MI\, Italia
ATTACH;FMTTYPE=image/jpeg:https://www.metalhead.it/wp-content/uploads/2024/04/Ndiocletian_20240404.jpg
END:VEVENT
BEGIN:VEVENT
DTSTART;TZID=Europe/Rome:20240420T190000
DTEND;TZID=Europe/Rome:20240420T235900
DTSTAMP:20260426T062821
CREATED:20240112T135558Z
LAST-MODIFIED:20240112T135558Z
UID:270799-1713639600-1713657540@www.metalhead.it
SUMMARY:INCHIUVATU\, LAMENTU e AGGHIASTRU @ Bologna
DESCRIPTION:INCHIUVATU\, LAMENTU e AGGHIASTRU \n\nSabato 20 Aprile – Alchemica Music Club\, Bologna (Evento Facebook QUI)\n\nBiglietti: €20\, acquistabili direttamente in cassa.
URL:https://www.metalhead.it/evento/inchiuvatu-lamentu-e-agghiastru-bologna/
LOCATION:Alchemica\, Via dei Lapidari\, 8/B\, Bologna\, BO\, Italia
ATTACH;FMTTYPE=image/jpeg:https://www.metalhead.it/wp-content/uploads/2024/01/nInchiuvatu_20240112.jpg
END:VEVENT
BEGIN:VEVENT
DTSTART;TZID=Europe/Rome:20240420T170000
DTEND;TZID=Europe/Rome:20240420T233000
DTSTAMP:20260426T062821
CREATED:20240104T185802Z
LAST-MODIFIED:20240104T185846Z
UID:270507-1713632400-1713655800@www.metalhead.it
SUMMARY:MONSTERS OF REZ @ Poviglio (RE)
DESCRIPTION:Presso Associazione Culturale Caseificio La Rosa \nInjury \nRaw Power\nThe Modern Age Slavery \nApocalyptic Salvation \nExplorer \nOnelegman  \nEvento Facebook QUI \nIngresso a offerta libera minima 5 EURO\, nessuna tessera richiesta. \nApertura porte ore 17.00 \nPunto ristoro \nQuanto raccolto dagli ingressi verrà devoluto al CORE (centro oncologico ed ematologico di Reggio Emilia) in memoria di Andrea. \nAndrea “Artio” Artioli è stato il chitarrista degli Injury ed è venuto a mancare il 4 marzo del 2017 all’età di 31 anni.
URL:https://www.metalhead.it/evento/monsters-of-rez-poviglio-re/
LOCATION:Associazione Culturale Caseificio La Rosa\, via Romana 200/1\, Poviglio (RE)\, 42028\, Italia
ATTACH;FMTTYPE=image/jpeg:https://www.metalhead.it/wp-content/uploads/2024/01/Nmonstersofrez_20240104.jpg
END:VEVENT
BEGIN:VEVENT
DTSTART;TZID=Europe/Rome:20240419T193000
DTEND;TZID=Europe/Rome:20240419T233000
DTSTAMP:20260426T062821
CREATED:20240220T182243Z
LAST-MODIFIED:20240220T182243Z
UID:272814-1713555000-1713569400@www.metalhead.it
SUMMARY:DESPITE EXILE @ Mezzago (MI)
DESCRIPTION:Al Bloom \nDESPITE EXILE + LACERHATE + SLOWCHAMBER\nBloom – Mezzago (MB) – Via Eugenio Curiel\, 39 \nEvento Facebook QUI\nPrevendite\nIngresso 13€
URL:https://www.metalhead.it/evento/despite-exile-mezzago-mi/
LOCATION:Bloom\, Via Eugenio Curiel\, 39\, Mezzago\, MB\, 20883\, Italia
ATTACH;FMTTYPE=image/jpeg:https://www.metalhead.it/wp-content/uploads/2024/02/Ndespiteexile_20240220.jpg
END:VEVENT
BEGIN:VEVENT
DTSTART;TZID=Europe/Rome:20240419T193000
DTEND;TZID=Europe/Rome:20240419T233000
DTSTAMP:20260426T062821
CREATED:20231118T100201Z
LAST-MODIFIED:20231118T100201Z
UID:268733-1713555000-1713569400@www.metalhead.it
SUMMARY:FINNTROLL @ Milano
DESCRIPTION:Al Legend Club di MIlano per il “Vredesvävd” Tour 2024  \nVenerdì 19 aprile 2024\nBiglietto 25 € + prev. su TicketOne e Mailticket
URL:https://www.metalhead.it/evento/finntroll-milano-2/
LOCATION:LEGEND CLUB\, Viale Enrico Fermi\, 98\, Milano
ATTACH;FMTTYPE=image/jpeg:https://www.metalhead.it/wp-content/uploads/2023/11/Nfinntroll_20241118.jpg
END:VEVENT
BEGIN:VEVENT
DTSTART;TZID=Europe/Rome:20240419T190000
DTEND;TZID=Europe/Rome:20240419T235900
DTSTAMP:20260426T062821
CREATED:20240112T135603Z
LAST-MODIFIED:20240112T135603Z
UID:270798-1713553200-1713571140@www.metalhead.it
SUMMARY:INCHIUVATU\, LAMENTU e AGGHIASTRU @ Rovellasca (CO)
DESCRIPTION:INCHIUVATU\, LAMENTU e AGGHIASTRU \n\nVenerdì 19 Aprile – Dedolor Music Headquarter\, Rovellasca (CO) (Evento Facebook QUI)\n\nBiglietti: €20\, acquistabili direttamente in cassa.
URL:https://www.metalhead.it/evento/inchiuvatu-lamentu-e-agghiastru-rovellasca-co/
LOCATION:Dedolor Music Headquarters\, Via XX Settembre\, 33\, 22069 Rovellasca CO\, Rovellasca (RO)\, 22069\, Italia
ATTACH;FMTTYPE=image/jpeg:https://www.metalhead.it/wp-content/uploads/2024/01/nInchiuvatu_20240112.jpg
END:VEVENT
END:VCALENDAR