BEGIN:VCALENDAR
VERSION:2.0
PRODID:-//Metalhead - ECPv6.15.20//NONSGML v1.0//EN
CALSCALE:GREGORIAN
METHOD:PUBLISH
X-WR-CALNAME:Metalhead
X-ORIGINAL-URL:https://www.metalhead.it
X-WR-CALDESC:Eventi per Metalhead
REFRESH-INTERVAL;VALUE=DURATION:PT1H
X-Robots-Tag:noindex
X-PUBLISHED-TTL:PT1H
BEGIN:VTIMEZONE
TZID:Europe/Rome
BEGIN:DAYLIGHT
TZOFFSETFROM:+0100
TZOFFSETTO:+0200
TZNAME:CEST
DTSTART:20230326T010000
END:DAYLIGHT
BEGIN:STANDARD
TZOFFSETFROM:+0200
TZOFFSETTO:+0100
TZNAME:CET
DTSTART:20231029T010000
END:STANDARD
BEGIN:DAYLIGHT
TZOFFSETFROM:+0100
TZOFFSETTO:+0200
TZNAME:CEST
DTSTART:20240331T010000
END:DAYLIGHT
BEGIN:STANDARD
TZOFFSETFROM:+0200
TZOFFSETTO:+0100
TZNAME:CET
DTSTART:20241027T010000
END:STANDARD
BEGIN:DAYLIGHT
TZOFFSETFROM:+0100
TZOFFSETTO:+0200
TZNAME:CEST
DTSTART:20250330T010000
END:DAYLIGHT
BEGIN:STANDARD
TZOFFSETFROM:+0200
TZOFFSETTO:+0100
TZNAME:CET
DTSTART:20251026T010000
END:STANDARD
END:VTIMEZONE
BEGIN:VEVENT
DTSTART;TZID=Europe/Rome:20240307T183000
DTEND;TZID=Europe/Rome:20240307T233000
DTSTAMP:20260426T062355
CREATED:20240305T072359Z
LAST-MODIFIED:20240305T072359Z
UID:273755-1709836200-1709854200@www.metalhead.it
SUMMARY:UNQUESTIONABLE BLASPHEMY TOUR @ Bologna
DESCRIPTION:ALCHEMICA – BOLOGNA – 7 MARZO\n\nApertura porte: 18:30 \n19:00 – 19:30 – Almost Dead \n19:45 – 20:15 – Monastery  \n20:35 – 21:35 – Atheist  \n21:55 – 22:55 – Cryptopsy 
URL:https://www.metalhead.it/evento/unquestionable-blasphemy-tour-bologna/
LOCATION:Alchemica\, Via dei Lapidari\, 8/B\, Bologna\, BO\, Italia
ATTACH;FMTTYPE=image/jpeg:https://www.metalhead.it/wp-content/uploads/2024/03/Ncryptopsy_20240305.jpg
END:VEVENT
BEGIN:VEVENT
DTSTART;TZID=Europe/Rome:20240306T193000
DTEND;TZID=Europe/Rome:20240306T233000
DTSTAMP:20260426T062355
CREATED:20240102T180325Z
LAST-MODIFIED:20240102T180325Z
UID:270374-1709753400-1709767800@www.metalhead.it
SUMMARY:ADAM BOMB @ Torino
DESCRIPTION:Al Blah Blah con Glam?Am!
URL:https://www.metalhead.it/evento/adam-bomb-torino/
LOCATION:BLAH BLAH
ATTACH;FMTTYPE=image/jpeg:https://www.metalhead.it/wp-content/uploads/2024/01/Nadambomb_20240102.jpg
END:VEVENT
BEGIN:VEVENT
DTSTART;TZID=Europe/Rome:20240305T193000
DTEND;TZID=Europe/Rome:20240305T233000
DTSTAMP:20260426T062355
CREATED:20240117T180430Z
LAST-MODIFIED:20240117T180430Z
UID:271150-1709667000-1709681400@www.metalhead.it
SUMMARY:BRIGHTER DEATH NOW @ Milano
DESCRIPTION:Al Barrio’s Live con Raison D’Être e Desiderii Marginis.. \nLe prevendite\, limitate a 100 per via della capienza del locale\, sono disponibili QUI.\nEvento Facebook QUI
URL:https://www.metalhead.it/evento/brighter-death-now-milano/
LOCATION:Barrio’s\, Piazza Donne Partigiane\, Milano\, 20142\, Italia
ATTACH;FMTTYPE=image/jpeg:https://www.metalhead.it/wp-content/uploads/2024/01/Nbrighterdeathnow_20240117.jpg
END:VEVENT
BEGIN:VEVENT
DTSTART;TZID=Europe/Rome:20240304T193000
DTEND;TZID=Europe/Rome:20240304T233000
DTSTAMP:20260426T062355
CREATED:20240102T181652Z
LAST-MODIFIED:20240102T181652Z
UID:270382-1709580600-1709595000@www.metalhead.it
SUMMARY:ADAM BOMB @ Sacile (PN)
DESCRIPTION:Al Tepepa con Glam?Am!
URL:https://www.metalhead.it/evento/adam-bomb-sacile-pn/
LOCATION:TEPEPA\, Via Gorizia 2C\, Sacile\, PN\, Italia
ATTACH;FMTTYPE=image/jpeg:https://www.metalhead.it/wp-content/uploads/2024/01/Nadambomb_20240102.jpg
END:VEVENT
BEGIN:VEVENT
DTSTART;TZID=Europe/Rome:20240303T193000
DTEND;TZID=Europe/Rome:20240303T233000
DTSTAMP:20260426T062355
CREATED:20240111T203835Z
LAST-MODIFIED:20240111T203835Z
UID:270689-1709494200-1709508600@www.metalhead.it
SUMMARY:SUICIDE SILENCE @ Milano
DESCRIPTION:Al Legend Club con Despite Exile \nEvento Facebook QUI
URL:https://www.metalhead.it/evento/suicide-silence-milano/
LOCATION:PT
ATTACH;FMTTYPE=image/jpeg:https://www.metalhead.it/wp-content/uploads/2024/01/Nsuicidesilence_20240111.jpg
END:VEVENT
BEGIN:VEVENT
DTSTART;TZID=Europe/Rome:20240302T200000
DTEND;TZID=Europe/Rome:20240302T233000
DTSTAMP:20260426T062355
CREATED:20240202T192551Z
LAST-MODIFIED:20240202T192551Z
UID:271836-1709409600-1709422200@www.metalhead.it
SUMMARY:ZONA @ Treviso
DESCRIPTION:Al Monastier con SKW e Toxic Youth \nApertura porte ore 20\nInizio live dalle ore 21:30\n******************\n> prenotazione non necessaria\n– cucina sempre aperta a base di snack\n– hamburgers (anche vegetariani)\n– snack\, fritti\n– amari\, caffè e shot\n– birreria con scelta di birre\n– cocktails bar e specialità\n– lounge area\n– smoking room\n– posti a sedere sala riscaldata\nContributo artisti: €. 12 \nEvento Facebook QUI
URL:https://www.metalhead.it/evento/zona-treviso/
LOCATION:Krach Club  Via Madonna 3/A 31050 Monastier di Treviso (TV)\, Via Madonna 3/A\, Monastier di Treviso (TV)\, TV\, 31050
ATTACH;FMTTYPE=image/jpeg:https://www.metalhead.it/wp-content/uploads/2024/02/Nzona_20240202.jpg
END:VEVENT
BEGIN:VEVENT
DTSTART;TZID=Europe/Rome:20240302T193000
DTEND;TZID=Europe/Rome:20240302T233000
DTSTAMP:20260426T062355
CREATED:20240111T203559Z
LAST-MODIFIED:20240111T203559Z
UID:270687-1709407800-1709422200@www.metalhead.it
SUMMARY:SUICIDE SILENCE @ Verona
DESCRIPTION:Al The Factory con Despite Exile \nEvento Facebook QUI
URL:https://www.metalhead.it/evento/suicide-silence-verona/
LOCATION:The Factory\, Viale del Lavoro 7\, San Martino Buon Albergo\, VR\, 37036\, Italia
ATTACH;FMTTYPE=image/jpeg:https://www.metalhead.it/wp-content/uploads/2024/01/Nsuicidesilence_20240111.jpg
END:VEVENT
BEGIN:VEVENT
DTSTART;TZID=Europe/Rome:20240302T193000
DTEND;TZID=Europe/Rome:20240302T233000
DTSTAMP:20260426T062355
CREATED:20240102T180018Z
LAST-MODIFIED:20240102T180650Z
UID:270371-1709407800-1709422200@www.metalhead.it
SUMMARY:ADAM BOMB @ Genova
DESCRIPTION:All’Angelo Azzurro con Glam?Am!
URL:https://www.metalhead.it/evento/adam-bomb-gevova/
LOCATION:Angelo Azzurro\, VIA BORZOLI 39C-132 T\, Genova\, Italia
ATTACH;FMTTYPE=image/jpeg:https://www.metalhead.it/wp-content/uploads/2024/01/Nadambomb_20240102.jpg
END:VEVENT
BEGIN:VEVENT
DTSTART;TZID=Europe/Rome:20240302T190000
DTEND;TZID=Europe/Rome:20240302T235900
DTSTAMP:20260426T062355
CREATED:20240111T110204Z
LAST-MODIFIED:20240111T110243Z
UID:270639-1709406000-1709423940@www.metalhead.it
SUMMARY:BOTTOMLESS @ SChio (VI)
DESCRIPTION:BOTTOMLESS + Adom + Ultracombo \n2 Marzo 2024 \nCSA Arcadia di Schio (VI) \nEvento facebook QUI
URL:https://www.metalhead.it/evento/bottomless-schio-vi/
LOCATION:CSA Arcadia\, Via Lago di Tovel\, 18\, Schio (VI)\, 36015\, Italia
ATTACH;FMTTYPE=image/jpeg:https://www.metalhead.it/wp-content/uploads/2024/01/nBOTTOMLESS_20240111.jpg
END:VEVENT
BEGIN:VEVENT
DTSTART;TZID=Europe/Rome:20240301T193000
DTEND;TZID=Europe/Rome:20240301T233000
DTSTAMP:20260426T062355
CREATED:20240102T181353Z
LAST-MODIFIED:20240102T181353Z
UID:270380-1709321400-1709335800@www.metalhead.it
SUMMARY:ADAM BOMB @ Fondo (TN)
DESCRIPTION:Al Pub America con Glam?Am!
URL:https://www.metalhead.it/evento/adam-bomb-fondo-tn/
LOCATION:Pub America\, Piazza Stefenelli\, 19\, Fondo (TN)\, 38013\, Italia
ATTACH;FMTTYPE=image/jpeg:https://www.metalhead.it/wp-content/uploads/2024/01/Nadambomb_20240102.jpg
END:VEVENT
BEGIN:VEVENT
DTSTART;TZID=Europe/Rome:20240225T193000
DTEND;TZID=Europe/Rome:20240225T233000
DTSTAMP:20260426T062355
CREATED:20240217T191050Z
LAST-MODIFIED:20240217T191050Z
UID:272693-1708889400-1708903800@www.metalhead.it
SUMMARY:GENUS ORDINIS DEI @ Carpi (MO)
DESCRIPTION:All’Ekidna di Carpi\, si arricchirà di altre band straordinarie quali:  \nTOL MORWEN – DRABIK – DEMETRAS SCARS  \n\nEvento Facebook QUI\n15€ ingresso in cassa
URL:https://www.metalhead.it/evento/genus-ordinis-dei-carpi-mo/
LOCATION:EKIDNA\, Via Livorno\, 09\, 41012 San Martino Scuole (MO)\, San Martino Scuole (MO)\, 41012\, Italia
ATTACH;FMTTYPE=image/jpeg:https://www.metalhead.it/wp-content/uploads/2024/02/Ngenusoridinisdei_20240217.jpg
END:VEVENT
BEGIN:VEVENT
DTSTART;TZID=Europe/Rome:20240224T200000
DTEND;TZID=Europe/Rome:20240224T233000
DTSTAMP:20260426T062355
CREATED:20231110T211413Z
LAST-MODIFIED:20231110T211931Z
UID:268509-1708804800-1708817400@www.metalhead.it
SUMMARY:SIAMESE @ Milano
DESCRIPTION:SIAMESE (DAN) – Unica data italiana!\n+Summer Hailstorm (Milano)\n+opener TBA \nBarrio’s Live\nPiazza Donne Partigiane – Milano \nApertura porte: 20:00\nInizio live: 20:15\nPrevendita: 15€ +ddp\nDisponibili su Dice\nBiglietto alla porta: 20€
URL:https://www.metalhead.it/evento/siamese-milano/
LOCATION:Barrio’s\, Piazza Donne Partigiane\, Milano\, 20142\, Italia
ATTACH;FMTTYPE=image/jpeg:https://www.metalhead.it/wp-content/uploads/2023/11/Nsiamese_20231110.jpg
END:VEVENT
BEGIN:VEVENT
DTSTART;TZID=Europe/Rome:20240224T193000
DTEND;TZID=Europe/Rome:20240224T233000
DTSTAMP:20260426T062355
CREATED:20240210T082117Z
LAST-MODIFIED:20240210T082117Z
UID:272216-1708803000-1708817400@www.metalhead.it
SUMMARY:OVER THE NIGHT @ Costabissara (VI)
DESCRIPTION:Over The Night alla Birreria San Giorgio con Huronian\, Mechanical God Creation e Inverecund. \nEvento Facebook QUI \n\nContributo artistico: 10 euro
URL:https://www.metalhead.it/evento/over-the-night-costabissara-vi/
LOCATION:Birreria San Giorgio\, via Marconi 4\, Costabissara\, VI\, Italia
ATTACH;FMTTYPE=image/jpeg:https://www.metalhead.it/wp-content/uploads/2024/02/Noverthenight_20240210.jpg
END:VEVENT
BEGIN:VEVENT
DTSTART;TZID=Europe/Rome:20240224T180000
DTEND;TZID=Europe/Rome:20240224T235900
DTSTAMP:20260426T062355
CREATED:20231213T113201Z
LAST-MODIFIED:20231213T113201Z
UID:269668-1708797600-1708819140@www.metalhead.it
SUMMARY:MALOMBRA e PONTE DEL DIAVOLO @ Genova
DESCRIPTION:Il 24 febbraio 2024\, presso LA CLAQUE a Genova\, ci sarà una serata nel segno della Black Widow Records. \nSul palco: MALOMBRA e PONTE DEL DIAVOLO! \nDue bands straordinarie\, MALOMBRA e PONTE DEL DIAVOLO\, ed una apertura di soli 10 minuti di puro teatro drammatico denominata OGNI VERBO E’ DICERIA. \nLA CLAQUE \nVia S.Donato 9 – Genova  \nINGRESSO 15 € – INIZIO ore 21 \nTel. 010 2470793 \nBLACK WIDOW RECORDS \nVia del Campo 8 R – Genova \nTel. 010 2461708 \n 
URL:https://www.metalhead.it/evento/malombra-e-ponte-del-diavolo-genova/
LOCATION:LA CLAQUE\, Via S.Donato 9\, Genova\, Italia
ATTACH;FMTTYPE=image/jpeg:https://www.metalhead.it/wp-content/uploads/2023/12/nMALOMBRA_20231213.jpg
END:VEVENT
BEGIN:VEVENT
DTSTART;TZID=Europe/Rome:20240223T200000
DTEND;TZID=Europe/Rome:20240223T233000
DTSTAMP:20260426T062355
CREATED:20240220T181538Z
LAST-MODIFIED:20240220T181538Z
UID:272811-1708718400-1708731000@www.metalhead.it
SUMMARY:ROME IN MONOCHROME @ Roma
DESCRIPTION:Al Traffic Live per il release party con Ghostheart Nebula e For My Demons. \nAPERTURA PORTE: 20:00\nFor My Demons: 20:30\nGhostheart Nebula: 21:25\nRome In Monochrome: 22:30 \nIngresso: 10€
URL:https://www.metalhead.it/evento/rome-in-monochrome-roma/
LOCATION:TRAFFIC CLUB\, Via Prenestina\, 738\, Roma\, RM\, 00155\, Italia
ATTACH;FMTTYPE=image/jpeg:https://www.metalhead.it/wp-content/uploads/2024/02/Nromeinmonochrome_20230220.jpg
END:VEVENT
BEGIN:VEVENT
DTSTART;TZID=Europe/Rome:20240223T193000
DTEND;TZID=Europe/Rome:20240223T233000
DTSTAMP:20260426T062355
CREATED:20240219T192038Z
LAST-MODIFIED:20240219T192038Z
UID:272771-1708716600-1708731000@www.metalhead.it
SUMMARY:GIACOMO VOLI @ Milano
DESCRIPTION:GIACOMO VOLI – “The Voice of Rock” 22:30\nETERNAL SILENCE 21:40\nM.E.T Modern Electric Trio 20:50 \nApertura Cancelli: ore 20:00 \nVenerdì 23 febbraio 2024\nLegend Club – Viale Enrico Fermi\, 98 \nEvento Facebook QUI \nBiglietti\nPrezzo del biglietto in prevendita: €10 + d.p. | in cassa la sera dello show: €12\nPrevendite disponibili sui Dice a questo indirizzo
URL:https://www.metalhead.it/evento/giacomo-voli-milano/
LOCATION:LEGEND CLUB\, Viale Enrico Fermi\, 98\, Milano
ATTACH;FMTTYPE=image/jpeg:https://www.metalhead.it/wp-content/uploads/2024/02/Ngiacomovoli_20240219.jpg
END:VEVENT
BEGIN:VEVENT
DTSTART;TZID=Europe/Rome:20240220T193000
DTEND;TZID=Europe/Rome:20240220T233000
DTSTAMP:20260426T062355
CREATED:20231123T171933Z
LAST-MODIFIED:20231123T171933Z
UID:268916-1708457400-1708471800@www.metalhead.it
SUMMARY:NAPALM DEATH @ Paderno Dugnano
DESCRIPTION:Allo Slaughter Club con Wormrot\, Primitive Man + TBA \nBIGLIETTI/TICKET Disponibili sul circuito Dice QUI. \nINGRESSO CON TESSERA ACSI\nQUI il tesseramento online \n\nPossibilità di cenare al locale \nAmpio Parcheggio FREE\nTaxi 026969 
URL:https://www.metalhead.it/evento/napalm-death-paderno-dugnano-2/
LOCATION:Slaughter Club  Via Tagliabue 4 – Paderno Dugnano (MI)\, Via Tagliabue 4\, Paderno Dugnano (MI)\, MI\, Italia
ATTACH;FMTTYPE=image/jpeg:https://www.metalhead.it/wp-content/uploads/2023/11/Nnapalmdeath_20231123.jpg
END:VEVENT
BEGIN:VEVENT
DTSTART;TZID=Europe/Rome:20240218T193000
DTEND;TZID=Europe/Rome:20240218T233000
DTSTAMP:20260426T062355
CREATED:20230922T181719Z
LAST-MODIFIED:20230922T181753Z
UID:266474-1708284600-1708299000@www.metalhead.it
SUMMARY:HAPPY DAYS @ Rovellasca (CO)
DESCRIPTION:Happy Days con Duir\, Blaze Of Sorrow e Rejekts\, al Dedolor \nLink Evento Facebook QUI \nBiglietti a 20€ direttamente in cassa \nSponsor: EMP Italia\, Arcanum Tattoo Studio
URL:https://www.metalhead.it/evento/happy-days-rovellasca-co/
LOCATION:Dedolor Music Headquarters\, Via XX Settembre\, 33\, 22069 Rovellasca CO\, Rovellasca (RO)\, 22069\, Italia
ATTACH;FMTTYPE=image/jpeg:https://www.metalhead.it/wp-content/uploads/2023/09/Nhappydays20230922.jpg
END:VEVENT
BEGIN:VEVENT
DTSTART;TZID=Europe/Rome:20240217T200000
DTEND;TZID=Europe/Rome:20240217T233000
DTSTAMP:20260426T062355
CREATED:20240212T184724Z
LAST-MODIFIED:20240212T184724Z
UID:272339-1708200000-1708212600@www.metalhead.it
SUMMARY:MR.BISON @ Mezzago (MB)
DESCRIPTION:Al Bloom \nMR BISON\, KAYLETH\, THE MAGOGAS\nBloom – Mezzago (MB) – Via Eugenio Curiel\, 39 \nEvento Facebook QUI \nPrevendite QUI \nIngresso 12€ \n\n20:00 – apertura porte locale\n21:30 – THE MAGOGAS\n22:30 – KAYLETH\n23:30 – MR.BISON \n \n  \n 
URL:https://www.metalhead.it/evento/mr-bison-mezzago-mb/
LOCATION:Bloom\, Via Eugenio Curiel\, 39\, Mezzago\, MB\, 20883\, Italia
END:VEVENT
BEGIN:VEVENT
DTSTART;TZID=Europe/Rome:20240217T200000
DTEND;TZID=Europe/Rome:20240217T233000
DTSTAMP:20260426T062355
CREATED:20240205T181218Z
LAST-MODIFIED:20240205T181218Z
UID:271937-1708200000-1708212600@www.metalhead.it
SUMMARY:ZONA @ Abbiategrasso (MI)
DESCRIPTION:Con gli Abbinormal \nWinter Moshpit Extravaganza \n17 febbraio 2024 \nIngresso GRATUITO! \nEvento Facebook QUI \nCoop Rinascita \nVia Novara N°2\, ABBIATEGRASSO (MI) \nApertura cancelli ore 20.00 \nInizio concerti ore 21.00
URL:https://www.metalhead.it/evento/zona-abbiategrasso-mi/
LOCATION:Cooperativa Rinascita Abbiatense\, Via Novara 2\, Abbiategrasso (MI)\, Italia
ATTACH;FMTTYPE=image/jpeg:https://www.metalhead.it/wp-content/uploads/2024/02/Nwintermoshpitextravaganza_20240105.jpg
END:VEVENT
BEGIN:VEVENT
DTSTART;TZID=Europe/Rome:20240216T193000
DTEND;TZID=Europe/Rome:20240216T233000
DTSTAMP:20260426T062355
CREATED:20230927T172909Z
LAST-MODIFIED:20230927T172909Z
UID:266810-1708111800-1708126200@www.metalhead.it
SUMMARY:HAPPY DAYS @ Torino
DESCRIPTION:Allo Ziggy Club con Blaze Sorrow. \nLink evento Facebook QUI \nBiglietti a 20 euro all’ingresso \nSponsor: EMP Italia\, Arcanum Tattoo Studio
URL:https://www.metalhead.it/evento/happy-days-torino/
LOCATION:Ziggy Club\, via Madama Cristina 66\, Torino\, TO\, Italia
ATTACH;FMTTYPE=image/jpeg:https://www.metalhead.it/wp-content/uploads/2023/09/Nhappydays_20230927.jpg
END:VEVENT
BEGIN:VEVENT
DTSTART;TZID=Europe/Rome:20240216T180000
DTEND;TZID=Europe/Rome:20240216T233000
DTSTAMP:20260426T062355
CREATED:20240208T174704Z
LAST-MODIFIED:20240208T174704Z
UID:272155-1708106400-1708126200@www.metalhead.it
SUMMARY:POWER FROM HELL @ Erba (CO)
DESCRIPTION:POWER FROM HELL + MASTER’S CALL + VOMITVULVA\nCentrale Rock Pub – Erba (CO) via Cascina California\, 9 \nEvento Facebook QUI\nIngresso:15€ \n18:00 – apertura porte\n21.15 – Vomit Vulva\n22.00 – Master’s Call
URL:https://www.metalhead.it/evento/power-from-hell-erba-co/
LOCATION:Centrale Rock Pub\, via Cascina California 9\, Erba\, CO\, Italia
ATTACH;FMTTYPE=image/jpeg:https://www.metalhead.it/wp-content/uploads/2024/02/Npowerfromhell_20240208.jpg
END:VEVENT
BEGIN:VEVENT
DTSTART;TZID=Europe/Rome:20240210T193000
DTEND;TZID=Europe/Rome:20240210T233000
DTSTAMP:20260426T062355
CREATED:20231221T210036Z
LAST-MODIFIED:20231221T210036Z
UID:270140-1707593400-1707607800@www.metalhead.it
SUMMARY:GRAVE PARTY CELEBRATION @ Paderno Dugnano (MI)
DESCRIPTION:Allo Slaughter Club con: \nDEATHLESS LEGACY \nLONGOBARDEATH \nMECHANICAL GOD CREATION \nCONSPIRACY OF BLACKNESS \nVIDE \nFLOWERS IN DARK \n  \nEvento Facebook QUI \nIngresso €12 – ingresso + copia libro €20 – biglietti acquistabili esclusivamente in cassa. \nSlaughter Club – Via Tagliabue 4\, Paderno Dugnano (MI) \nINGRESSO CON TESSERA ACSI – possibilità di cenare al locale – ampio parcheggio FREE \nL’evento è organizzato da WFR – Supports The Underground e Grave Party \nA cura di Francesca Saglia – Music-Alive 2023
URL:https://www.metalhead.it/evento/grave-party-celebration-paderno-dugnano-mi/
LOCATION:Slaughter Club  Via Tagliabue 4 – Paderno Dugnano (MI)\, Via Tagliabue 4\, Paderno Dugnano (MI)\, MI\, Italia
ATTACH;FMTTYPE=image/jpeg:https://www.metalhead.it/wp-content/uploads/2023/12/Ngravepartycelebration_20231221.jpg
END:VEVENT
BEGIN:VEVENT
DTSTART;TZID=Europe/Rome:20240203T193000
DTEND;TZID=Europe/Rome:20240203T233000
DTSTAMP:20260426T062355
CREATED:20231009T174504Z
LAST-MODIFIED:20231009T174504Z
UID:267308-1706988600-1707003000@www.metalhead.it
SUMMARY:GUTALAX @ Bologna
DESCRIPTION:All’Alchemica Music Club con Guineapig e Membrance
URL:https://www.metalhead.it/evento/gutalax-bologna/
LOCATION:Alchemica\, Via dei Lapidari\, 8/B\, Bologna\, BO\, Italia
ATTACH;FMTTYPE=image/jpeg:https://www.metalhead.it/wp-content/uploads/2023/10/Ngutalax_20231009.jpg
END:VEVENT
BEGIN:VEVENT
DTSTART;TZID=Europe/Rome:20240202T193000
DTEND;TZID=Europe/Rome:20240202T233000
DTSTAMP:20260426T062355
CREATED:20231009T174210Z
LAST-MODIFIED:20231009T174210Z
UID:267306-1706902200-1706916600@www.metalhead.it
SUMMARY:GUTALAX @ Paderno Dugnano (MI)
DESCRIPTION:Con Guineapig e Membrance allo Slaughter Club
URL:https://www.metalhead.it/evento/gutalax-paderno-dugnano-mi/
LOCATION:Slaughter Club  Via Tagliabue 4 – Paderno Dugnano (MI)\, Via Tagliabue 4\, Paderno Dugnano (MI)\, MI\, Italia
ATTACH;FMTTYPE=image/jpeg:https://www.metalhead.it/wp-content/uploads/2023/10/Ngutalax_20231009.jpg
END:VEVENT
BEGIN:VEVENT
DTSTART;TZID=Europe/Rome:20240128T193000
DTEND;TZID=Europe/Rome:20240128T233000
DTSTAMP:20260426T062355
CREATED:20231114T203433Z
LAST-MODIFIED:20231114T204103Z
UID:268632-1706470200-1706484600@www.metalhead.it
SUMMARY:SYLVAINE @ Milano
DESCRIPTION:Al Legend Club \nEvento Facebook QUI\nPrevendite QUI
URL:https://www.metalhead.it/evento/sylvaine-milano/
LOCATION:LEGEND CLUB\, Viale Enrico Fermi\, 98\, Milano
ATTACH;FMTTYPE=image/jpeg:https://www.metalhead.it/wp-content/uploads/2023/11/Nsylvaine_20231114.jpg
END:VEVENT
BEGIN:VEVENT
DTSTART;TZID=Europe/Rome:20240127T193000
DTEND;TZID=Europe/Rome:20240127T233000
DTSTAMP:20260426T062355
CREATED:20231114T203909Z
LAST-MODIFIED:20231114T203909Z
UID:268637-1706383800-1706398200@www.metalhead.it
SUMMARY:SYLVAINE @ Modena
DESCRIPTION:Al Notte Tempio
URL:https://www.metalhead.it/evento/sylvaine-modena/
LOCATION:NotteTempio\, Via Nicolò Biondo\, 194\, 41126 Modena\, Modena\, 41126\, Italia
ATTACH;FMTTYPE=image/jpeg:https://www.metalhead.it/wp-content/uploads/2023/11/Nsylvaine_20231114.jpg
END:VEVENT
BEGIN:VEVENT
DTSTART;TZID=Europe/Rome:20240126T200000
DTEND;TZID=Europe/Rome:20240126T233000
DTSTAMP:20260426T062355
CREATED:20231114T203039Z
LAST-MODIFIED:20231114T203039Z
UID:268630-1706299200-1706311800@www.metalhead.it
SUMMARY:SYLVAINE @ Torino
DESCRIPTION:Allo Ziggy Club\, Torino \nEvento Facebook QUI\nPrevendite QUI
URL:https://www.metalhead.it/evento/sylvaine-torino/
LOCATION:Ziggy Club\, via Madama Cristina 66\, Torino\, TO\, Italia
ATTACH;FMTTYPE=image/jpeg:https://www.metalhead.it/wp-content/uploads/2023/11/Nsylvaine_20231114.jpg
END:VEVENT
BEGIN:VEVENT
DTSTART;TZID=Europe/Rome:20240120T190000
DTEND;TZID=Europe/Rome:20240120T235900
DTSTAMP:20260426T062355
CREATED:20231214T154049Z
LAST-MODIFIED:20231214T154049Z
UID:269873-1705777200-1705795140@www.metalhead.it
SUMMARY:FIRE AND STEEL (Game Over e altri) @ Erba (CO)
DESCRIPTION:FIRE AND STEEL  \nSabato 20 gennaio 2024\nGAME OVER\, URAL\, EXTINCTION\, DISCIPLINA \nCentrale Rock Pub – Erba (CO)\nEvento Facebook QUI \nBiglietti:\nUn giorno: 15€\nAbbonamento due giorni: 25€
URL:https://www.metalhead.it/evento/fire-and-steel-game-over-e-altri-erba-co/
LOCATION:Centrale Rock Pub\, via Cascina California 9\, Erba\, CO\, Italia
END:VEVENT
BEGIN:VEVENT
DTSTART;TZID=Europe/Rome:20240119T200000
DTEND;TZID=Europe/Rome:20240119T230000
DTSTAMP:20260426T062355
CREATED:20231214T115231Z
LAST-MODIFIED:20231214T115231Z
UID:269769-1705694400-1705705200@www.metalhead.it
SUMMARY:NIGHT OF THE SACRIFICE (ABYSMAL GRIEF / DARKEND) @ Vicenza
DESCRIPTION:Nuovo evento targato Orion Agency al CS Bocciodromo di Vicenza! \nABYSMAL GRIEF e DARKEND in una serata propriamente battezzata “Night of the Sacrifice”. \nUn concerto che fonderà black metal e doom\, rituali e liturgie… per une evento dissacrante. \nIngresso €15 in cassa. \nEvento Facebook QUI
URL:https://www.metalhead.it/evento/night-of-the-sacrifice-abysmal-grief-darkend-vicenza/
LOCATION:C.S. Bocciodromo @ Vicenza\, Via Alessandro Rossi\, 198\, Vicenza\, VI\, 36100\, Italia
ATTACH;FMTTYPE=image/jpeg:https://www.metalhead.it/wp-content/uploads/2023/12/nAbysmalGrief_Darkend_20231214.jpg
END:VEVENT
END:VCALENDAR