BEGIN:VCALENDAR
VERSION:2.0
PRODID:-//Metalhead - ECPv6.15.20//NONSGML v1.0//EN
CALSCALE:GREGORIAN
METHOD:PUBLISH
X-WR-CALNAME:Metalhead
X-ORIGINAL-URL:https://www.metalhead.it
X-WR-CALDESC:Eventi per Metalhead
REFRESH-INTERVAL;VALUE=DURATION:PT1H
X-Robots-Tag:noindex
X-PUBLISHED-TTL:PT1H
BEGIN:VTIMEZONE
TZID:Europe/Rome
BEGIN:DAYLIGHT
TZOFFSETFROM:+0100
TZOFFSETTO:+0200
TZNAME:CEST
DTSTART:20230326T010000
END:DAYLIGHT
BEGIN:STANDARD
TZOFFSETFROM:+0200
TZOFFSETTO:+0100
TZNAME:CET
DTSTART:20231029T010000
END:STANDARD
BEGIN:DAYLIGHT
TZOFFSETFROM:+0100
TZOFFSETTO:+0200
TZNAME:CEST
DTSTART:20240331T010000
END:DAYLIGHT
BEGIN:STANDARD
TZOFFSETFROM:+0200
TZOFFSETTO:+0100
TZNAME:CET
DTSTART:20241027T010000
END:STANDARD
BEGIN:DAYLIGHT
TZOFFSETFROM:+0100
TZOFFSETTO:+0200
TZNAME:CEST
DTSTART:20250330T010000
END:DAYLIGHT
BEGIN:STANDARD
TZOFFSETFROM:+0200
TZOFFSETTO:+0100
TZNAME:CET
DTSTART:20251026T010000
END:STANDARD
END:VTIMEZONE
BEGIN:VEVENT
DTSTART;TZID=Europe/Rome:20240406T193000
DTEND;TZID=Europe/Rome:20240406T233000
DTSTAMP:20260426T055520
CREATED:20240220T172052Z
LAST-MODIFIED:20240220T172349Z
UID:272794-1712431800-1712446200@www.metalhead.it
SUMMARY:JUDAS PRIEST @ Assago (MI)
DESCRIPTION:Al Medionalum Forum \nJUDAS PRIEST\n+ SAXON\n+ PHIL CAMPBELL AND THE BASTARD SONS\nSabato 06 aprile 2024 – Mediolanum Forum Assago (Milano) \nBIGLIETTI\nPrezzi a partire da € 65 + d.p.ac \n 
URL:https://www.metalhead.it/evento/judas-priest-assago-mi/
LOCATION:Mediolanum Forum\, Via Giuseppe di Vittorio\, 6\, Assago (MI)\, 20057\, Italia
END:VEVENT
BEGIN:VEVENT
DTSTART;TZID=Europe/Rome:20240406T193000
DTEND;TZID=Europe/Rome:20240406T193000
DTSTAMP:20260426T055520
CREATED:20240312T180243Z
LAST-MODIFIED:20240312T180243Z
UID:274046-1712431800-1712431800@www.metalhead.it
SUMMARY:TOL MORWEN @ Costabissara (VI)
DESCRIPTION:Sabato 06 aprile | Birreria San Giorgio\, Costabissara (VI)\nEvento Facebook QUI\nContributo band: 10 euro all’ingresso \nTol Morwen\, con il supporto degli Adgarios e Norsemen
URL:https://www.metalhead.it/evento/tol-morwen-costabissara-vi/
LOCATION:Birreria San Giorgio\, via Marconi 4\, Costabissara\, VI\, Italia
ATTACH;FMTTYPE=image/jpeg:https://www.metalhead.it/wp-content/uploads/2024/03/Ntolmorwen_20240312.jpg
END:VEVENT
BEGIN:VEVENT
DTSTART;TZID=Europe/Rome:20240402T193000
DTEND;TZID=Europe/Rome:20240402T233000
DTSTAMP:20260426T055520
CREATED:20231212T192639Z
LAST-MODIFIED:20231212T192639Z
UID:269628-1712086200-1712100600@www.metalhead.it
SUMMARY:LEAVES' EYES @ Milano
DESCRIPTION:Al Legend Club con Northtale\, Metalite e Catalyst Crime
URL:https://www.metalhead.it/evento/leaves-eyes-milano/
LOCATION:LEGEND CLUB\, Viale Enrico Fermi\, 98\, Milano
ATTACH;FMTTYPE=image/jpeg:https://www.metalhead.it/wp-content/uploads/2023/12/Nnorthtale_20231212.jpg
END:VEVENT
BEGIN:VEVENT
DTSTART;TZID=Europe/Rome:20240330T190000
DTEND;TZID=Europe/Rome:20240330T235900
DTSTAMP:20260426T055520
CREATED:20240313T165144Z
LAST-MODIFIED:20240313T165144Z
UID:274087-1711825200-1711843140@www.metalhead.it
SUMMARY:MOTHER AUGUSTA @ Costabissara (VI)
DESCRIPTION:Mostro Production\, Ursus Production e The Abyss Booking annunciano MOTHER AUGUSTA\, con il supporto degli AFRAID OF DESTINY e TICINUM! \nL’appuntamento è Sabato 30 marzo alla Birreria San Giorgio\, Costabissara (VI) \nEvento Facebook QUI
URL:https://www.metalhead.it/evento/mother-augusta-costabissara-vi/
LOCATION:Birreria San Giorgio\, via Marconi 4\, Costabissara\, VI\, Italia
ATTACH;FMTTYPE=image/jpeg:https://www.metalhead.it/wp-content/uploads/2024/03/nMotherAugusta_20240313.jpg
END:VEVENT
BEGIN:VEVENT
DTSTART;TZID=Europe/Rome:20240330T190000
DTEND;TZID=Europe/Rome:20240330T235900
DTSTAMP:20260426T055520
CREATED:20240207T082048Z
LAST-MODIFIED:20240207T082048Z
UID:272018-1711825200-1711843140@www.metalhead.it
SUMMARY:TYGERS OF PAN TANG @ Milano
DESCRIPTION:TYGERS OF PAN TANG \n+SONS OF THUNDER \n30 marzo @Legend Club – Milano\nEvento Facebook QUI \nBIGLIETTI:\nPrezzo del biglietto in prevendita: €20 | in cassa la sera dello show: €25\nLe prevendite sono disponibili su Dice. \nA grande richiesta tornano in Italia i signori della NWOBHM\, i TYGERS OF PAN TANG! Tra protagonisti della scena metal britannica degli anni ’80\, autori di capolavori “Wild Cat”\, “Spellbound” e “Crazy Nights”\, la band di Robb Weir e Jack Meille terrà tre concerti a Roma Pistoia e Milano con uno spettacolo che ripercorrerà tutta la propria carriera\, dai classici del passato ai brani dell’ultimo “Blloodlines”\, edito da Mighty Music nel 2023.\nAd accompagnarli troveremo i SONS OF THUNDER\, heavy/rock band romana\, attualmente alle prese con le sessioni di registrazione per il nuovo album presso i Kick Recording Studio\, sotto la sapiente guida di Marco “Cinghio” Mastrobuono. (FLESHGOD APOCALYPSE\, HOUR OF PENANCE\, NANOWAR OF STEEL\, SHORES OF NULL\, DRACONICON).
URL:https://www.metalhead.it/evento/tygers-of-pan-tang-milano/
LOCATION:LEGEND CLUB\, Viale Enrico Fermi\, 98\, Milano
ATTACH;FMTTYPE=image/jpeg:https://www.metalhead.it/wp-content/uploads/2024/02/ntygersofpantang_20240207_2.jpg
END:VEVENT
BEGIN:VEVENT
DTSTART;TZID=Europe/Rome:20240330T150000
DTEND;TZID=Europe/Rome:20240330T233000
DTSTAMP:20260426T055520
CREATED:20240227T194126Z
LAST-MODIFIED:20240227T194126Z
UID:273002-1711810800-1711841400@www.metalhead.it
SUMMARY:BLOOD TO BLOOD FEST @ Fano (PU)
DESCRIPTION:Presso Officina Amaranta \nDISTRUZIONE (Death metal da Parma dal 1990) \nBROWBEAT (hardcore dal 1996 Modena) \nTSUBO (Psychotic Adrenalinic Grind Latina) \nMISCREANCE (Death Firenze/Torino) \nBRAINSORE ( Grindcore Modena) \nHELLCRASH ( Black/Thrash Geneova) \nNULLA+ ( Blackened Grindcore Perugia) \nEGOCIDE ( Rabbia Death/HC Brescia) \n  \n\nDJ SET BY JACK NITRO
URL:https://www.metalhead.it/evento/blood-to-blood-fest-fano-pu/
LOCATION:Officina Amaranta\, Viale Piceno\, 139\, Fano (PU)\, 61032\, Italia
ATTACH;FMTTYPE=image/jpeg:https://www.metalhead.it/wp-content/uploads/2024/02/Nbloodtoblkoodfest_20240227.jpg
END:VEVENT
BEGIN:VEVENT
DTSTART;TZID=Europe/Rome:20240329T210000
DTEND;TZID=Europe/Rome:20240329T235900
DTSTAMP:20260426T055520
CREATED:20240204T173959Z
LAST-MODIFIED:20240315T191413Z
UID:271901-1711746000-1711756740@www.metalhead.it
SUMMARY:VANEXA + Silenzio Profondo + Aether Void  @ Modena
DESCRIPTION:Morrigan Promotion in collaborazione con The Abyss Booking and Promotion\, Rebel Circle e Stile Libero presentano: \nVANEXA + Silenzio Profondo + Aether Void  \nVenerdì 29 Marzo \nPresso Centrale 66 \nvia Nicolò dell’Abate 66\, Modena \nOre 21:00 \nOre 21.00 –  Apertura locale \n \n21.30 – 22.00  Aether Void \n22.15 – 22.55  Silenzio Profondo \n23.15 – 00.30  Vanexa   \n\nOre  00.45 – Dj set : Sara Bazzi \nIngresso: 10 euro  \nEvento Facebook QUI
URL:https://www.metalhead.it/evento/vanexa-silenzio-profondo-aether-void-modena/
LOCATION:Centrale 66\, via Nicolò dell’Abate 66\, Modena\, Italia
ATTACH;FMTTYPE=image/jpeg:https://www.metalhead.it/wp-content/uploads/2024/02/nVanexa_20240204.jpg
END:VEVENT
BEGIN:VEVENT
DTSTART;TZID=Europe/Rome:20240329T190000
DTEND;TZID=Europe/Rome:20240329T235900
DTSTAMP:20260426T055520
CREATED:20240207T082022Z
LAST-MODIFIED:20240207T082052Z
UID:272017-1711738800-1711756740@www.metalhead.it
SUMMARY:TYGERS OF PAN TANG @ Pistoia
DESCRIPTION:TYGERS OF PAN TANG \n+SONS OF THUNDER \n29 marzo @Santomato Club – Pistoia\nEvento Facebook QUI \nBIGLIETTI:\nPrezzo del biglietto in prevendita: €20 | in cassa la sera dello show: €25  \nA grande richiesta tornano in Italia i signori della NWOBHM\, i TYGERS OF PAN TANG! Tra protagonisti della scena metal britannica degli anni ’80\, autori di capolavori “Wild Cat”\, “Spellbound” e “Crazy Nights”\, la band di Robb Weir e Jack Meille terrà tre concerti a Roma Pistoia e Milano con uno spettacolo che ripercorrerà tutta la propria carriera\, dai classici del passato ai brani dell’ultimo “Blloodlines”\, edito da Mighty Music nel 2023.\nAd accompagnarli troveremo i SONS OF THUNDER\, heavy/rock band romana\, attualmente alle prese con le sessioni di registrazione per il nuovo album presso i Kick Recording Studio\, sotto la sapiente guida di Marco “Cinghio” Mastrobuono. (FLESHGOD APOCALYPSE\, HOUR OF PENANCE\, NANOWAR OF STEEL\, SHORES OF NULL\, DRACONICON).
URL:https://www.metalhead.it/evento/tygers-of-pan-tang-pistoia/
LOCATION:Santomato Live Club\, via Montalese 25/A\, Pistoia\, PT\, 51100\, Italia
ATTACH;FMTTYPE=image/jpeg:https://www.metalhead.it/wp-content/uploads/2024/02/ntygersofpantang_20240207_2.jpg
END:VEVENT
BEGIN:VEVENT
DTSTART;TZID=Europe/Rome:20240328T190000
DTEND;TZID=Europe/Rome:20240328T235900
DTSTAMP:20260426T055520
CREATED:20240207T081956Z
LAST-MODIFIED:20240207T081956Z
UID:272013-1711652400-1711670340@www.metalhead.it
SUMMARY:TYGERS OF PAN TANG @ Roma
DESCRIPTION:TYGERS OF PAN TANG \n+SONS OF THUNDER \n28 marzo @Traffic Live – Roma \nEvento Facebook QUI \nBIGLIETTI:\nPrezzo del biglietto in prevendita: €20 | in cassa la sera dello show: €25\nLe prevendite sono disponibili su Dice. \nA grande richiesta tornano in Italia i signori della NWOBHM\, i TYGERS OF PAN TANG! Tra protagonisti della scena metal britannica degli anni ’80\, autori di capolavori “Wild Cat”\, “Spellbound” e “Crazy Nights”\, la band di Robb Weir e Jack Meille terrà tre concerti a Roma Pistoia e Milano con uno spettacolo che ripercorrerà tutta la propria carriera\, dai classici del passato ai brani dell’ultimo “Blloodlines”\, edito da Mighty Music nel 2023.\nAd accompagnarli troveremo i SONS OF THUNDER\, heavy/rock band romana\, attualmente alle prese con le sessioni di registrazione per il nuovo album presso i Kick Recording Studio\, sotto la sapiente guida di Marco “Cinghio” Mastrobuono. (FLESHGOD APOCALYPSE\, HOUR OF PENANCE\, NANOWAR OF STEEL\, SHORES OF NULL\, DRACONICON).
URL:https://www.metalhead.it/evento/tygers-of-pan-tang-roma/
LOCATION:TRAFFIC CLUB\, Via Prenestina\, 738\, Roma\, RM\, 00155\, Italia
ATTACH;FMTTYPE=image/jpeg:https://www.metalhead.it/wp-content/uploads/2024/02/ntygersofpantang_20240207_2.jpg
END:VEVENT
BEGIN:VEVENT
DTSTART;TZID=Europe/Rome:20240328T190000
DTEND;TZID=Europe/Rome:20240328T235900
DTSTAMP:20260426T055520
CREATED:20231205T151921Z
LAST-MODIFIED:20240312T181057Z
UID:269241-1711652400-1711670340@www.metalhead.it
SUMMARY:TAAKE @ Milano
DESCRIPTION:28 Marzo 2024\nTAAKE\,  THEOTOXIN + AMTHRYA\nLegend Club – Milano\nEvento Facebook QUI\nPrevendite Disponibili su Dice. \nBIGLIETTI\nPrezzo del biglietto in prevendita: €30 | in cassa la sera dello show: €35
URL:https://www.metalhead.it/evento/taake-milano/
LOCATION:LEGEND CLUB\, Viale Enrico Fermi\, 98\, Milano
ATTACH;FMTTYPE=image/jpeg:https://www.metalhead.it/wp-content/uploads/2023/12/nTaake_20231205.jpg
END:VEVENT
BEGIN:VEVENT
DTSTART;TZID=Europe/Rome:20240327T193000
DTEND;TZID=Europe/Rome:20240327T233000
DTSTAMP:20260426T055520
CREATED:20240219T195042Z
LAST-MODIFIED:20240219T195042Z
UID:272780-1711567800-1711582200@www.metalhead.it
SUMMARY:VIO-LENCE @ Paderno Dugnano (MI)
DESCRIPTION:Allo Slaughter Club con i Razgate \nEvento Facebook QUI
URL:https://www.metalhead.it/evento/vio-lence-paderno-dugnano-mi/
LOCATION:Slaughter Club  Via Tagliabue 4 – Paderno Dugnano (MI)\, Via Tagliabue 4\, Paderno Dugnano (MI)\, MI\, Italia
ATTACH;FMTTYPE=image/jpeg:https://www.metalhead.it/wp-content/uploads/2024/02/Nviolence_20240219.jpg
END:VEVENT
BEGIN:VEVENT
DTSTART;TZID=Europe/Rome:20240327T190000
DTEND;TZID=Europe/Rome:20240327T235900
DTSTAMP:20260426T055520
CREATED:20231205T152115Z
LAST-MODIFIED:20231205T152115Z
UID:269240-1711566000-1711583940@www.metalhead.it
SUMMARY:TAAKE @ Moncalieri (TO)
DESCRIPTION:27 Marzo 2024\nTAAKE\, NORDJEVEL\, THEOTOXIN\nAudiodrome – Moncalieri (TO)\nEvento Facebook QUI\nPrevendite Disponibili su Xceed. \nBIGLIETTI\nPrezzo del biglietto in prevendita: €30 | in cassa la sera dello show: €35
URL:https://www.metalhead.it/evento/taake-moncalieri-to/
LOCATION:Audiodrome\, Str. Mongina\, 9\, Moncalieri\, TO\, 10024\, Italia
ATTACH;FMTTYPE=image/jpeg:https://www.metalhead.it/wp-content/uploads/2023/12/nTaake_20231205.jpg
END:VEVENT
BEGIN:VEVENT
DTSTART;TZID=Europe/Rome:20240326T193000
DTEND;TZID=Europe/Rome:20240326T233000
DTSTAMP:20260426T055520
CREATED:20240219T194739Z
LAST-MODIFIED:20240219T194739Z
UID:272777-1711481400-1711495800@www.metalhead.it
SUMMARY:VIO-LENCE @ Roma
DESCRIPTION:Con i Razgate al Traffic Club \nEvento Facebook QUI
URL:https://www.metalhead.it/evento/vio-lence-roma/
LOCATION:TRAFFIC CLUB\, Via Prenestina\, 738\, Roma\, RM\, 00155\, Italia
ATTACH;FMTTYPE=image/jpeg:https://www.metalhead.it/wp-content/uploads/2024/02/Nviolence_20240219.jpg
END:VEVENT
BEGIN:VEVENT
DTSTART;TZID=Europe/Rome:20240326T193000
DTEND;TZID=Europe/Rome:20240326T233000
DTSTAMP:20260426T055520
CREATED:20240208T173122Z
LAST-MODIFIED:20240208T173122Z
UID:272144-1711481400-1711495800@www.metalhead.it
SUMMARY:LORDI @ Paderno Dugnano (MI)
DESCRIPTION:Allo Slaughter Club con All For Metal
URL:https://www.metalhead.it/evento/lordi-paderno-dugnano-mi/
LOCATION:Slaughter Club  Via Tagliabue 4 – Paderno Dugnano (MI)\, Via Tagliabue 4\, Paderno Dugnano (MI)\, MI\, Italia
ATTACH;FMTTYPE=image/jpeg:https://www.metalhead.it/wp-content/uploads/2024/02/Nlordi_20240208.jpg
END:VEVENT
BEGIN:VEVENT
DTSTART;TZID=Europe/Rome:20240323T193000
DTEND;TZID=Europe/Rome:20240323T233000
DTSTAMP:20260426T055520
CREATED:20240319T193959Z
LAST-MODIFIED:20240319T195256Z
UID:274363-1711222200-1711236600@www.metalhead.it
SUMMARY:PROLIFERHATE @ Torino
DESCRIPTION:Presso El Barrio con Conspiracy Of Blackness / Atwood / Hiridis Liv \nLocation: El Barrio – Strada Prov. Torino – Cuorgnè\, 81\, 10156 Torino (TO) \nStart ore 21.30 – Contributo artistico 10 euro fino ad esaurimento posti \nDJ set a cura di Banger DJ previsto dopo il live \nInfo & Contatti: Lorenzo Moffa: 329.4270625 \nEVENTO FACEBOOK QUI
URL:https://www.metalhead.it/evento/proliferhate-torino/
LOCATION:El Barrio\, Strada Provinciale Torino - Cuorgnè\, 81\, Torino\, 10156\, Italia
ATTACH;FMTTYPE=image/jpeg:https://www.metalhead.it/wp-content/uploads/2024/03/Nproliferhate_20240319.jpg
END:VEVENT
BEGIN:VEVENT
DTSTART;TZID=Europe/Rome:20240323T190000
DTEND;TZID=Europe/Rome:20240323T235900
DTSTAMP:20260426T055520
CREATED:20240206T184543Z
LAST-MODIFIED:20240206T184543Z
UID:272000-1711220400-1711238340@www.metalhead.it
SUMMARY:BLACK MASS FESTIVAL @ Genova
DESCRIPTION:Il 23 MARZO al CRAZY BULL Cafè di Genova si terrà il primo BLACK MASS FESTIVAL\, evento dedicato all’ Occult Rock\, ovvero ai gruppi metal\, doom\, dark\, gothic\, black\, stoner\, psyck\, prog… che con le loro composizioni\, trattano tematiche oscure\, esoteriche e\, diciamolo pure\, occulte. \n23 Marzo 2024 \nCRAZY BULL Cafè \nVia Eustachio Degola\, 4 R \n16151-Genova Sampierdarena \nEvento Facebook QUI
URL:https://www.metalhead.it/evento/black-mass-festival-genova/
LOCATION:CRAZY BULL\, Via Eustachio Degola\, 4R\, Genova Sampierdarena\, GE\, 16151\, Italia
ATTACH;FMTTYPE=image/jpeg:https://www.metalhead.it/wp-content/uploads/2024/02/nBlackMassFest_20240206.jpg
END:VEVENT
BEGIN:VEVENT
DTSTART;TZID=Europe/Rome:20240320T193000
DTEND;TZID=Europe/Rome:20240320T233000
DTSTAMP:20260426T055520
CREATED:20240123T192959Z
LAST-MODIFIED:20240304T162918Z
UID:271473-1710963000-1710977400@www.metalhead.it
SUMMARY:EXTERMINATION DISMEMBERMENT @ Bologna
DESCRIPTION:Al Freak Out \nExtermination Dismemberment + Divulgator + Sepolcral \nEvento Facebook QUI \nBiglietti disponibili a 15 euro in prevendita | 15 euro in cassa la sera dell’evento.
URL:https://www.metalhead.it/evento/extermination-dismemberment-bologna/
LOCATION:Freakout Club\, Via Emilio Zago\, 7c\, Bologna\, BO\, 40128\, Italia
ATTACH;FMTTYPE=image/jpeg:https://www.metalhead.it/wp-content/uploads/2024/01/Nexterminationdismemberment_202401223.jpg
END:VEVENT
BEGIN:VEVENT
DTSTART;TZID=Europe/Rome:20240318T190000
DTEND;TZID=Europe/Rome:20240318T230000
DTSTAMP:20260426T055520
CREATED:20231206T125205Z
LAST-MODIFIED:20231206T125205Z
UID:269416-1710788400-1710802800@www.metalhead.it
SUMMARY:DECAPITATED + INCANTATION + NERVOSA + KASSOGTHA @ Roma
DESCRIPTION:Decapitated + Incantation \nDecapitated e Incantation piomberanno in Italia per due date oltre il funesto questo marzo\, rafforzati da Nervosa e Kassogtha. \n18 MARZO 2024 @ TRAFFIC CLUB\, ROMA \nVia Prenestina\, 738\, 00155 Roma \nEvento Facebook QUI. 
URL:https://www.metalhead.it/evento/decapitated-incantation-nervosa-kassogtha-roma/
LOCATION:TRAFFIC CLUB\, Via Prenestina\, 738\, Roma\, RM\, 00155\, Italia
ATTACH;FMTTYPE=image/jpeg:https://www.metalhead.it/wp-content/uploads/2023/12/nDECAPITATED_20231206.jpg
END:VEVENT
BEGIN:VEVENT
DTSTART;TZID=Europe/Rome:20240317T190000
DTEND;TZID=Europe/Rome:20240317T230000
DTSTAMP:20260426T055520
CREATED:20231206T125142Z
LAST-MODIFIED:20231206T125142Z
UID:269417-1710702000-1710716400@www.metalhead.it
SUMMARY:DECAPITATED + INCANTATION + NERVOSA + KASSOGTHA @ Paderno Dugnano (MI)
DESCRIPTION:Decapitated + Incantation \nDecapitated e Incantation piomberanno in Italia per due date oltre il funesto questo marzo\, rafforzati da Nervosa e Kassogtha. \n17 MARZO 2024 @ SLAUGHTER CLUB\, PADERNO DUGNANO \nVia Angelo Tagliabue\, 4\, 20037 Paderno Dugnano MI \nEvento Facebook QUI. \n 
URL:https://www.metalhead.it/evento/decapitated-incantation-nervosa-kassogtha-paderno-dugnano-mi/
LOCATION:Slaughter Club  Via Tagliabue 4 – Paderno Dugnano (MI)\, Via Tagliabue 4\, Paderno Dugnano (MI)\, MI\, Italia
ATTACH;FMTTYPE=image/jpeg:https://www.metalhead.it/wp-content/uploads/2023/12/nDECAPITATED_20231206.jpg
END:VEVENT
BEGIN:VEVENT
DTSTART;TZID=Europe/Rome:20240316T210000
DTEND;TZID=Europe/Rome:20240316T233000
DTSTAMP:20260426T055520
CREATED:20231222T173046Z
LAST-MODIFIED:20231222T173046Z
UID:270157-1710622800-1710631800@www.metalhead.it
SUMMARY:EXPIATORIA @ Genova
DESCRIPTION:Presso L’Angelo Azzurro con Heavenfall e Hell Theater \nOre 21.00 \nIngresso: 10€ con consumazione inclusa \nEvento Facebook QUI
URL:https://www.metalhead.it/evento/expiatoria-genova/
LOCATION:Angelo Azzurro\, VIA BORZOLI 39C-132 T\, Genova\, Italia
ATTACH;FMTTYPE=image/jpeg:https://www.metalhead.it/wp-content/uploads/2023/12/Nexpiatoria_20231222.jpg
END:VEVENT
BEGIN:VEVENT
DTSTART;TZID=Europe/Rome:20240316T193000
DTEND;TZID=Europe/Rome:20240316T233000
DTSTAMP:20260426T055520
CREATED:20240301T182252Z
LAST-MODIFIED:20240301T183226Z
UID:273108-1710617400-1710631800@www.metalhead.it
SUMMARY:DEATHLESS LEGACY @ Piedimonte San Germano (FR)
DESCRIPTION:Horror Metal Fest con Deathless Legacy\, Sharada e Endless al Metropolis Live Club. \nIngresso gratuito! \nEvento Facebook QUI
URL:https://www.metalhead.it/evento/deathless-legacy-piedimonte-san-germano-fr/
LOCATION:Metropolis Live Club\, Via Calatafimi\, Piedimonte San Germano (FR)\, 03030\, Italia
ATTACH;FMTTYPE=image/jpeg:https://www.metalhead.it/wp-content/uploads/2024/03/Ndeathlesslegacy_202040301.jpg
END:VEVENT
BEGIN:VEVENT
DTSTART;TZID=Europe/Rome:20240316T193000
DTEND;TZID=Europe/Rome:20240316T233000
DTSTAMP:20260426T055520
CREATED:20240116T183416Z
LAST-MODIFIED:20240116T183416Z
UID:271128-1710617400-1710631800@www.metalhead.it
SUMMARY:UNDERTAKERS @ Modena
DESCRIPTION:Al Centrale 66 con First Brawl e Divulgator \nContributo band: 8 euro  \nEvento Facebook QUI
URL:https://www.metalhead.it/evento/undertakers-modena/
LOCATION:Centrale 66\, via Nicolò dell’Abate 66\, Modena\, Italia
ATTACH;FMTTYPE=image/jpeg:https://www.metalhead.it/wp-content/uploads/2024/01/Nundertakers_20240116.jpg
END:VEVENT
BEGIN:VEVENT
DTSTART;TZID=Europe/Rome:20240310T183000
DTEND;TZID=Europe/Rome:20240310T233000
DTSTAMP:20260426T055520
CREATED:20240305T074226Z
LAST-MODIFIED:20240305T074226Z
UID:273765-1710095400-1710113400@www.metalhead.it
SUMMARY:UNQUESTIONABLE BLASPHEMY TOUR @ Paderno Dugnano (MI)
DESCRIPTION:SLAUGHTER CLUB – PADERNO DUGNANO (MI) – 10 MARZO \nApertura porte: 18:30 \n19:00 – 19:30 – Almost Dead \n19:45 – 20:15 – Monastery  \n20:35 – 21:35 – Atheist  \n21:55 – 22:55 – Cryptopsy 
URL:https://www.metalhead.it/evento/unquestionable-blasphemy-tour-paderno-dugnano-mi/
LOCATION:Slaughter Club  Via Tagliabue 4 – Paderno Dugnano (MI)\, Via Tagliabue 4\, Paderno Dugnano (MI)\, MI\, Italia
ATTACH;FMTTYPE=image/jpeg:https://www.metalhead.it/wp-content/uploads/2024/03/Ncryptopsy_20240305.jpg
END:VEVENT
BEGIN:VEVENT
DTSTART;TZID=Europe/Rome:20240309T213000
DTEND;TZID=Europe/Rome:20240309T233000
DTSTAMP:20260426T055520
CREATED:20240307T073004Z
LAST-MODIFIED:20240307T081736Z
UID:273812-1710019800-1710027000@www.metalhead.it
SUMMARY:NECRODEATH @ Modena
DESCRIPTION:Al Centrale 66 \nNecrodeath + Black Ancestry + Apocalyptic Salvation \ndj set The Abyss \n\nOrari:  \n Ore 21.00 – Apertura locale \n Ore 21.30 – 22.00 Black Ancestry\n Ore 22.15 – 22.55 Apocalyptic Salvation\n Ore 23.15 – 00.15 Necrodeath \n Ore 00.30 – dj set by Skall (The Abyss) \n\nEvento Facebook QUI \nINGRESSO 10 EURO
URL:https://www.metalhead.it/evento/necrodeath-modena/
LOCATION:Centrale 66\, via Nicolò dell’Abate 66\, Modena\, Italia
ATTACH;FMTTYPE=image/jpeg:https://www.metalhead.it/wp-content/uploads/2024/03/Nnecrodeath_20240307.jpg
END:VEVENT
BEGIN:VEVENT
DTSTART;TZID=Europe/Rome:20240309T193000
DTEND;TZID=Europe/Rome:20240309T233000
DTSTAMP:20260426T055520
CREATED:20240305T074055Z
LAST-MODIFIED:20240305T074055Z
UID:273766-1710012600-1710027000@www.metalhead.it
SUMMARY:UNQUESTIONABLE BLASPHEMY TOUR @ Roma
DESCRIPTION:TRAFFIC CLUB – ROMA – 9 MARZO \nApertura Porte: 19:30 \n20:00 – 20:30 – Almost Dead  \n20:45 – 21:15 – Monastery  \n21:35 – 22:35 – Atheist  \n22:55 – 23:55 – Cryptopsy 
URL:https://www.metalhead.it/evento/unquestionable-blasphemy-tour-roma/
LOCATION:TRAFFIC CLUB\, Via Prenestina\, 738\, Roma\, RM\, 00155\, Italia
ATTACH;FMTTYPE=image/jpeg:https://www.metalhead.it/wp-content/uploads/2024/03/Ncryptopsy_20240305.jpg
END:VEVENT
BEGIN:VEVENT
DTSTART;TZID=Europe/Rome:20240309T193000
DTEND;TZID=Europe/Rome:20240309T233000
DTSTAMP:20260426T055520
CREATED:20240102T182045Z
LAST-MODIFIED:20240102T182045Z
UID:270384-1710012600-1710027000@www.metalhead.it
SUMMARY:ADAM BOMB @ Matera
DESCRIPTION:Al Midnight Pub con Glam?Am!
URL:https://www.metalhead.it/evento/adam-bomb-matera/
LOCATION:Midnight Pub\, Via dell'Agricoltura\, Matera\, 75100\, Italia
ATTACH;FMTTYPE=image/jpeg:https://www.metalhead.it/wp-content/uploads/2024/01/Nadambomb_20240102.jpg
END:VEVENT
BEGIN:VEVENT
DTSTART;TZID=Europe/Rome:20240308T190000
DTEND;TZID=Europe/Rome:20240308T233000
DTSTAMP:20260426T055520
CREATED:20240305T072900Z
LAST-MODIFIED:20240305T072900Z
UID:273759-1709924400-1709940600@www.metalhead.it
SUMMARY:UNQUESTIONABLE BLASPHEMY TOUR @ San Donà di Piave (VE)
DESCRIPTION:Al Revolver Cryptopsy\, Atheist\, Monastery\, Almost Dead
URL:https://www.metalhead.it/evento/unquestionable-blasphemy-tour-san-dona-di-piave-ve/
LOCATION:Revolver Club\, via Kennedy 39\, San Donà di Piave\, VE\, 30027\, Italia
ATTACH;FMTTYPE=image/jpeg:https://www.metalhead.it/wp-content/uploads/2024/03/Ncryptopsy_20240305.jpg
END:VEVENT
BEGIN:VEVENT
DTSTART;TZID=Europe/Rome:20240307T183000
DTEND;TZID=Europe/Rome:20240307T233000
DTSTAMP:20260426T055520
CREATED:20240305T072359Z
LAST-MODIFIED:20240305T072359Z
UID:273755-1709836200-1709854200@www.metalhead.it
SUMMARY:UNQUESTIONABLE BLASPHEMY TOUR @ Bologna
DESCRIPTION:ALCHEMICA – BOLOGNA – 7 MARZO\n\nApertura porte: 18:30 \n19:00 – 19:30 – Almost Dead \n19:45 – 20:15 – Monastery  \n20:35 – 21:35 – Atheist  \n21:55 – 22:55 – Cryptopsy 
URL:https://www.metalhead.it/evento/unquestionable-blasphemy-tour-bologna/
LOCATION:Alchemica\, Via dei Lapidari\, 8/B\, Bologna\, BO\, Italia
ATTACH;FMTTYPE=image/jpeg:https://www.metalhead.it/wp-content/uploads/2024/03/Ncryptopsy_20240305.jpg
END:VEVENT
BEGIN:VEVENT
DTSTART;TZID=Europe/Rome:20240306T193000
DTEND;TZID=Europe/Rome:20240306T233000
DTSTAMP:20260426T055520
CREATED:20240102T180325Z
LAST-MODIFIED:20240102T180325Z
UID:270374-1709753400-1709767800@www.metalhead.it
SUMMARY:ADAM BOMB @ Torino
DESCRIPTION:Al Blah Blah con Glam?Am!
URL:https://www.metalhead.it/evento/adam-bomb-torino/
LOCATION:BLAH BLAH
ATTACH;FMTTYPE=image/jpeg:https://www.metalhead.it/wp-content/uploads/2024/01/Nadambomb_20240102.jpg
END:VEVENT
BEGIN:VEVENT
DTSTART;TZID=Europe/Rome:20240305T193000
DTEND;TZID=Europe/Rome:20240305T233000
DTSTAMP:20260426T055520
CREATED:20240117T180430Z
LAST-MODIFIED:20240117T180430Z
UID:271150-1709667000-1709681400@www.metalhead.it
SUMMARY:BRIGHTER DEATH NOW @ Milano
DESCRIPTION:Al Barrio’s Live con Raison D’Être e Desiderii Marginis.. \nLe prevendite\, limitate a 100 per via della capienza del locale\, sono disponibili QUI.\nEvento Facebook QUI
URL:https://www.metalhead.it/evento/brighter-death-now-milano/
LOCATION:Barrio’s\, Piazza Donne Partigiane\, Milano\, 20142\, Italia
ATTACH;FMTTYPE=image/jpeg:https://www.metalhead.it/wp-content/uploads/2024/01/Nbrighterdeathnow_20240117.jpg
END:VEVENT
END:VCALENDAR