BEGIN:VCALENDAR
VERSION:2.0
PRODID:-//Metalhead - ECPv6.15.20//NONSGML v1.0//EN
CALSCALE:GREGORIAN
METHOD:PUBLISH
X-WR-CALNAME:Metalhead
X-ORIGINAL-URL:https://www.metalhead.it
X-WR-CALDESC:Eventi per Metalhead
REFRESH-INTERVAL;VALUE=DURATION:PT1H
X-Robots-Tag:noindex
X-PUBLISHED-TTL:PT1H
BEGIN:VTIMEZONE
TZID:Europe/Rome
BEGIN:DAYLIGHT
TZOFFSETFROM:+0100
TZOFFSETTO:+0200
TZNAME:CEST
DTSTART:20240331T010000
END:DAYLIGHT
BEGIN:STANDARD
TZOFFSETFROM:+0200
TZOFFSETTO:+0100
TZNAME:CET
DTSTART:20241027T010000
END:STANDARD
BEGIN:DAYLIGHT
TZOFFSETFROM:+0100
TZOFFSETTO:+0200
TZNAME:CEST
DTSTART:20250330T010000
END:DAYLIGHT
BEGIN:STANDARD
TZOFFSETFROM:+0200
TZOFFSETTO:+0100
TZNAME:CET
DTSTART:20251026T010000
END:STANDARD
BEGIN:DAYLIGHT
TZOFFSETFROM:+0100
TZOFFSETTO:+0200
TZNAME:CEST
DTSTART:20260329T010000
END:DAYLIGHT
BEGIN:STANDARD
TZOFFSETFROM:+0200
TZOFFSETTO:+0100
TZNAME:CET
DTSTART:20261025T010000
END:STANDARD
END:VTIMEZONE
BEGIN:VEVENT
DTSTART;TZID=Europe/Rome:20251026T193000
DTEND;TZID=Europe/Rome:20251026T233000
DTSTAMP:20260425T183431
CREATED:20250630T165845Z
LAST-MODIFIED:20250630T170237Z
UID:305461-1761507000-1761521400@www.metalhead.it
SUMMARY:SUNN O))) @ Torino
DESCRIPTION:Domenica 26 ottobre 2025 nella cornice prestigiosa del CAP10100 sulla riva del Po a Torino. \nCAP10100\nCorso Moncalieri 18 Torino\nporte h. 20\,00\nprevendita 35\,00€\nPrevendita QUI\nburningtowertorino@gmail.com\ninfo@hard-staff.com
URL:https://www.metalhead.it/evento/sunn-o-torino/
LOCATION:CAP10100\, Corso Moncalieri\, 18\, Torino\, 10131\, Italy
ATTACH;FMTTYPE=image/jpeg:https://www.metalhead.it/wp-content/uploads/2025/06/Nsunno_20250630.jpg
END:VEVENT
BEGIN:VEVENT
DTSTART;TZID=Europe/Rome:20251018T193000
DTEND;TZID=Europe/Rome:20251018T233000
DTSTAMP:20260425T183431
CREATED:20250907T181004Z
LAST-MODIFIED:20250907T181004Z
UID:308247-1760815800-1760830200@www.metalhead.it
SUMMARY:THUNDERPICKING STORMFEST @ Gradisca d’Isonzo (GO)
DESCRIPTION:Al Garage Music Club: \nSacro Ordine dei Cavalieri di Parsifal (heavy metal)\nKryptonomicon (thrash metal)\nAnguish Force (speed metal) \nEvento Facebook QUI
URL:https://www.metalhead.it/evento/thunderpicking-stormfest-gradisca-disonzo-go/
LOCATION:Garage Music Club\, Via Udine\, 43\, Gradisca d'Isonzo (GO)\, 34072\, Italy
ATTACH;FMTTYPE=image/jpeg:https://www.metalhead.it/wp-content/uploads/2025/09/Nthunderpickingsf_20250907.jpg
END:VEVENT
BEGIN:VEVENT
DTSTART;TZID=Europe/Rome:20251012T193000
DTEND;TZID=Europe/Rome:20251012T233000
DTSTAMP:20260425T183431
CREATED:20250528T174719Z
LAST-MODIFIED:20250528T174719Z
UID:303303-1760297400-1760311800@www.metalhead.it
SUMMARY:SAOR @ Paderno Dugnano (MI)
DESCRIPTION:Allo Slaughter
URL:https://www.metalhead.it/evento/saor-paderno-dugnano-mi/
LOCATION:Slaughter Club  Via Tagliabue 4 – Paderno Dugnano (MI)\, Via Tagliabue 4\, Paderno Dugnano (MI)\, MI\, Italia
ATTACH;FMTTYPE=image/jpeg:https://www.metalhead.it/wp-content/uploads/2025/05/Nsaor_20250528.jpg
END:VEVENT
BEGIN:VEVENT
DTSTART;TZID=Europe/Rome:20251011T200000
DTEND;TZID=Europe/Rome:20251011T233000
DTSTAMP:20260425T183431
CREATED:20250901T180542Z
LAST-MODIFIED:20250901T180542Z
UID:307522-1760212800-1760225400@www.metalhead.it
SUMMARY:VIII DIMENSIONE @ Pesaro
DESCRIPTION:Allo Spazio Webo \nApertura porte: ore 19.30 \n21.00- GALLERIA VERGOGNA \n21.40 – KAMA \n22.30 – MALE \n23.30 – VIII DIMENSIONE \n01.00 – DJset [Rock\, Hard Rock\, Alternative\, Hard’n’Heavy Metal a 360] \n  \nQuota di partecipazione in loco: 12 euro \nINFO E PRENOTAZIONI \nMichele Vasi – 3473853834
URL:https://www.metalhead.it/evento/viii-dimensione-pesaro/
LOCATION:Spazio Webo\, Via Y. A. Gagarin\, 161\, Pesaro\, 61122\, Italy
ATTACH;FMTTYPE=image/jpeg:https://www.metalhead.it/wp-content/uploads/2025/09/Nmvoconcerti_20250901.jpg
END:VEVENT
BEGIN:VEVENT
DTSTART;TZID=Europe/Rome:20251011T193000
DTEND;TZID=Europe/Rome:20251011T233000
DTSTAMP:20260425T183431
CREATED:20250327T181338Z
LAST-MODIFIED:20250327T181338Z
UID:298221-1760211000-1760225400@www.metalhead.it
SUMMARY:RAGE @ Torino
DESCRIPTION:RAGE | New World Rising Tour 2025\nUNICA DATA ITALIANA\nSpecial guest: Mission In Black\nEL BARRIO\, Torino \nBiglietti disponibili QUI\nIn collaborazione con LM Productions
URL:https://www.metalhead.it/evento/rage-torino/
LOCATION:El Barrio\, Strada Provinciale Torino - Cuorgnè\, 81\, Torino\, 10156\, Italia
ATTACH;FMTTYPE=image/jpeg:https://www.metalhead.it/wp-content/uploads/2025/03/Nrage_20250327.jpg
END:VEVENT
BEGIN:VEVENT
DTSTART;TZID=Europe/Rome:20251011T190000
DTEND;TZID=Europe/Rome:20251011T235900
DTSTAMP:20260425T183431
CREATED:20251001T063338Z
LAST-MODIFIED:20251001T063338Z
UID:310015-1760209200-1760227140@www.metalhead.it
SUMMARY:NWOIBM FEST VOL VII  @ Piedimonte San Germano (FR)
DESCRIPTION:NWOIBM FEST VOL VII \n \nSTORMCROW + NECROMORBID + DOWNFALL + DISPNEA + INHUMAN RISE \n \n11 Ottobre 2025\nMetropolis Live Club\nVia Calatafimi 37\, 03030\, Piedimonte San Germano (FR) \n \nEvento Gratuito\n \nEvento Facebook QUI
URL:https://www.metalhead.it/evento/nwoibm-fest-vol-vii-piedimonte-san-germano-fr/
LOCATION:Metropolis Live Club\, Via Calatafimi\, Piedimonte San Germano (FR)\, 03030\, Italia
ATTACH;FMTTYPE=image/jpeg:https://www.metalhead.it/wp-content/uploads/2025/10/nNWOIBM_20251001.jpg
END:VEVENT
BEGIN:VEVENT
DTSTART;TZID=Europe/Rome:20251010T200000
DTEND;TZID=Europe/Rome:20251010T235900
DTSTAMP:20260425T183431
CREATED:20251008T063201Z
LAST-MODIFIED:20251008T063201Z
UID:310194-1760126400-1760140740@www.metalhead.it
SUMMARY:MYSTIFIER @ Pordenone
DESCRIPTION:MYSTIFIER + Tulpa + Hellmetall \nTune Music Lab \nVia Udine 128  -Pordenone \nIngresso: 20€ IN CASSA \nEvento Facebook QUI \nNessuna tessera \n  \n 
URL:https://www.metalhead.it/evento/mystifier-pordenone/
LOCATION:Tune Music Lab\, Via Udine\, 128\, Pordenone\, PN\, 33170\, Italy
ATTACH;FMTTYPE=image/jpeg:https://www.metalhead.it/wp-content/uploads/2025/10/nMYSTIFIER_20251008.jpg
END:VEVENT
BEGIN:VEVENT
DTSTART;TZID=Europe/Rome:20251010T200000
DTEND;TZID=Europe/Rome:20251010T233000
DTSTAMP:20260425T183431
CREATED:20250901T180350Z
LAST-MODIFIED:20250901T180350Z
UID:307520-1760126400-1760139000@www.metalhead.it
SUMMARY:BLEED SOMEONE DRY @  Scandicci (FI)
DESCRIPTION:All’Iron Music Store \nApertura porte: ore 20.00 \n21.15 –  MASARRA \n22.15 –  MALE \n23.15 –  BLEED SOMONE DRY \n\nINFO E PRENOTAZIONI \nMichele Vasi – 3473853834
URL:https://www.metalhead.it/evento/bleed-someone-dry-scandicci-fi/
LOCATION:IRON MUSIC STORE\, Via di Porto\, 20/A\, Scandicci (FI)\, 50018\, Italy
ATTACH;FMTTYPE=image/jpeg:https://www.metalhead.it/wp-content/uploads/2025/09/Nbleedsomeonedry_20250901.jpg
END:VEVENT
BEGIN:VEVENT
DTSTART;TZID=Europe/Rome:20251010T193000
DTEND;TZID=Europe/Rome:20251010T233000
DTSTAMP:20260425T183431
CREATED:20250528T174550Z
LAST-MODIFIED:20250528T174550Z
UID:303301-1760124600-1760139000@www.metalhead.it
SUMMARY:SAOR @ Roma
DESCRIPTION:Al Defrag
URL:https://www.metalhead.it/evento/saor-roma/
LOCATION:Defrag\, Via delle Isole Curzolane\, 75\, Roma\, Italia
ATTACH;FMTTYPE=image/jpeg:https://www.metalhead.it/wp-content/uploads/2025/05/Nsaor_20250528.jpg
END:VEVENT
BEGIN:VEVENT
DTSTART;TZID=Europe/Rome:20251004T170000
DTEND;TZID=Europe/Rome:20251004T233000
DTSTAMP:20260425T183431
CREATED:20250809T073539Z
LAST-MODIFIED:20250809T073539Z
UID:306332-1759597200-1759620600@www.metalhead.it
SUMMARY:WHISPERS BEFORE THE STORM @ Rovellasca (CO)
DESCRIPTION:Al Dedolor con Derdian\, Highlord\, Grace Darkling. \nIngresso unico: 10 €\nApertura porte: ore 20:30 | Inizio concerti: ore 21:00 \nPosti limitati – consigliato arrivare presto.\nArea bar attiva per tutta la serata.
URL:https://www.metalhead.it/evento/whispers-before-the-storm-rovellasca-co/
LOCATION:Dedolor Music Headquarters\, Via XX Settembre\, 33\, 22069 Rovellasca CO\, Rovellasca (RO)\, 22069\, Italia
ATTACH;FMTTYPE=image/jpeg:https://www.metalhead.it/wp-content/uploads/2025/08/Nwhispers_20250809.jpg
END:VEVENT
BEGIN:VEVENT
DTSTART;TZID=Europe/Rome:20251004T160000
DTEND;TZID=Europe/Rome:20251005T233000
DTSTAMP:20260425T183431
CREATED:20250707T172130Z
LAST-MODIFIED:20250707T172130Z
UID:305574-1759593600-1759707000@www.metalhead.it
SUMMARY:ARCANUM FEST @ Mantova
DESCRIPTION:Il 4 e 5 ottobre all’Arci Tom \nSabato 4 ottobre \n  \n– Nocturnal Depression (Francia): black metal malinconico e oscuro in unica data italiana. \n– Malphas (Svizzera): black metal aggressivo e melodico con brani dall’album Extinct. \n– Qwaelen (Finlandia): primo show in Italia con un black metal originale e influenze punk. \n– Sedna_O (Italia): fusione di doom e post-metal\, atmosfere oscure e immersive. \n– Sonum (Italia): trio che alterna etereo e desolazione nell’album The Obscure Light Awaits. \n– Aasar (Italia): blackened death metal introspettivo e distopico con l’EP I\, The Hell. \n– Strega (Italia): nuova band con black metal teatrale dall’EP Stryx Strega Strygae. \n  \n  \nDomenica 5 ottobre \n  \n– Dopelord (Polonia): unica data italiana per il 15° anniversario\, stoner doom psichedelico. \n– Lili Refrain (Italia): performance solista sperimentale e ipnotica. \n– Bosco Sacro (Italia): doom ambient ispirato alla spiritualità naturale. \n– Jahbulong (Italia): trio stoner doom con suoni cupi e mantra sonori. \n– Brimir (Italia): dungeon synth che apre la serata con paesaggi fantastici e misteriosi. \n  \n\nIngresso con tessera ARCI \n  \nInfo Biglietti: \nPrima giornata: 25 euro in prevendita e 30 cassa \nSeconda giornata: 22 euro in prevendita e 25 cassa \nAbbonamento entrambe le giornate: 40 euro in prevendita e 50 euro in cassa\nAcquisto prevendite QUI \nEvento Facebook QUI
URL:https://www.metalhead.it/evento/arcanum-fest-mantova/
LOCATION:ARCI TOM\, Piazza Tom Benetollo 2\, Mantova\, 46100\, Italia
ATTACH;FMTTYPE=image/jpeg:https://www.metalhead.it/wp-content/uploads/2025/07/Narcanumfest_20250707.jpg
END:VEVENT
BEGIN:VEVENT
DTSTART;TZID=Europe/Rome:20251002T190000
DTEND;TZID=Europe/Rome:20251002T235900
DTSTAMP:20260425T183431
CREATED:20250929T223320Z
LAST-MODIFIED:20250929T223320Z
UID:309984-1759431600-1759449540@www.metalhead.it
SUMMARY:SIJJIN @ Erba (CO)
DESCRIPTION:Al Centrale Rock Pub di Erba\, suoneranno i SIJJIN (ex-Necros Christos\, Sepulchral Voice Records) a supporto del secondo e acclamato full-length “Helljin Combat”\, sfuriata death/thrash influenzata da primi Morbid Angel\, Possessed\, Slayer. \nPer la prima volta in assoluto in Europa con loro\, i cileni Mayhemic (Sepulchral Voice Records) si sono confermati tra le più interessanti realtà nel panorama old school black/thrash con il loro album “Toba”. \nGuest speciali per questa occasione saranno gli Araphel (Nuclear War Now! Productions) al debutto assoluto dal vivo\, nuovo gruppo black metal dalle tinte elleniche con membri di Thulsa Doom\, ex-Demonomancy\, Black Oath\, Into Darkness… \nGiovedì 02.10.25 \nCentrale Rock Pub – Via Cascina California 9\, 22036 – Erba (CO) \nOrari: \n19:30: apertura porte \n20:20 – 21:00: Araphel \n21:20 – 22:10: Mayhemic \n22:30 – 23:20: Sijjin \nIngresso: 20 euro (nessuna tessera richiesta\, ingresso gratuito per i minori di 18 anni con documento) \nEvento Facebook QUI
URL:https://www.metalhead.it/evento/sijjin-erba-co/
LOCATION:Centrale Rock Pub\, via Cascina California 9\, Erba\, CO\, Italia
ATTACH;FMTTYPE=image/jpeg:https://www.metalhead.it/wp-content/uploads/2025/09/nSIJJIN_20250930.jpg
END:VEVENT
BEGIN:VEVENT
DTSTART;TZID=Europe/Rome:20250919T200000
DTEND;TZID=Europe/Rome:20250919T235900
DTSTAMP:20260425T183431
CREATED:20250910T062113Z
LAST-MODIFIED:20250910T062113Z
UID:308468-1758312000-1758326340@www.metalhead.it
SUMMARY:MORTUARY DRAPE @ Scandicci (FI)
DESCRIPTION:Grave Sin Bookings in collaborazione con Firenze Metal\, Mostro Production\, Altamira Events e Antidisco Squad sono orgogliosi di annunciare la prima tappa del Mini-tour italiano dei MORTUARY DRAPE! \nGiovedì 18 Settembre al VHS – Retrò Club\, per il 30° anniversario della loro pietra miliare “All The Witches Dance”. \nDopo il successo della prima data a Milano\, ci saranno altre quattro date a settembre 2025 in diverse città\, prima data a Firenze\, Caserta\, Roma e Bologna. \nDi supporto ci saranno i Dead Chasm  (death doom – Milano/Venezia – IT) freschi del nuovo EP “Spectral Tyranny” (Transcending Obscurity Records). \nIn apertura ci saranno i Sinister Ghost\, band black/death metal con elementi Sinfonici e orrorifici\, Nel 2022 è uscito “The Dark Abyss of Omerty” album di debutto\, seguito nel 2023 da “What’s Left of Human?”. Di recente la band. ha pubblicato il nuovo singolo “Kill That Fetus: The Anti-Life Manifesto”. \nEvento Facebook QUI  \nVHS – Retrò Club\nVia 4 Novembre\, 13\, 50018 Scandicci (FI) \n \n Ingresso riservato ai soli soci ACSI con tessera e documento valido da presentare alla porta.
URL:https://www.metalhead.it/evento/mortuary-drape-scandicci-fi/
LOCATION:VHS – Retrò Club\, Via IV Novembre\, 13\, Scandicci (FI)\, 50018\, Italy
ATTACH;FMTTYPE=image/jpeg:https://www.metalhead.it/wp-content/uploads/2025/09/nMortuaryDrape_20250910.jpg
END:VEVENT
BEGIN:VEVENT
DTSTART;TZID=Europe/Rome:20250919T193000
DTEND;TZID=Europe/Rome:20250919T233000
DTSTAMP:20260425T183431
CREATED:20250429T184438Z
LAST-MODIFIED:20250429T184438Z
UID:300644-1758310200-1758324600@www.metalhead.it
SUMMARY:MASACRE @ Erba (CO)
DESCRIPTION:Al Centrale Rock Pub con Restos Humanos e Vomit Vulva \nEvento Facebook QUI
URL:https://www.metalhead.it/evento/masacre-erba-co/
LOCATION:Centrale Rock Pub\, via Cascina California 9\, Erba\, CO\, Italia
ATTACH;FMTTYPE=image/jpeg:https://www.metalhead.it/wp-content/uploads/2025/04/Nmasacre_20250429.jpg
END:VEVENT
BEGIN:VEVENT
DTSTART;TZID=Europe/Rome:20250917T190000
DTEND;TZID=Europe/Rome:20250917T235900
DTSTAMP:20260425T183431
CREATED:20250911T062258Z
LAST-MODIFIED:20250911T062258Z
UID:308779-1758135600-1758153540@www.metalhead.it
SUMMARY:Q5 @ Bologna
DESCRIPTION:Mercoledì 16 settembre 2025 ALCHEMICA CLUB – Bologna \nOpen Door 19\,45\nLIVE\nANADREBA 20\,45- 21\,15\nQ5 21\,30 – 22\,45 \nEvento Facebook QUI \n 
URL:https://www.metalhead.it/evento/q5-bologna/
LOCATION:Alchemica\, Via dei Lapidari\, 8/B\, Bologna\, BO\, Italia
ATTACH;FMTTYPE=image/jpeg:https://www.metalhead.it/wp-content/uploads/2025/09/nQ5_20250911.jpg
END:VEVENT
BEGIN:VEVENT
DTSTART;TZID=Europe/Rome:20250916T190000
DTEND;TZID=Europe/Rome:20250916T235900
DTSTAMP:20260425T183431
CREATED:20250911T062313Z
LAST-MODIFIED:20250911T062313Z
UID:308778-1758049200-1758067140@www.metalhead.it
SUMMARY:Q5 @ Milano
DESCRIPTION:Martedì 16 settembre 2025 LEGEND CLUB – Milano  \nOpen Door 20\,00\nLIVE\nHEAVENFALL 20\,30-21\,00\nCRYING STEEL 21\,15- 21\,45\nQ5 22\,00- 23\,15 \nEvento Facebook QUI \n 
URL:https://www.metalhead.it/evento/q5-milano/
LOCATION:LEGEND CLUB\, Viale Enrico Fermi\, 98\, Milano
ATTACH;FMTTYPE=image/jpeg:https://www.metalhead.it/wp-content/uploads/2025/09/nQ5_20250911.jpg
END:VEVENT
BEGIN:VEVENT
DTSTART;TZID=Europe/Rome:20250915T190000
DTEND;TZID=Europe/Rome:20250915T235900
DTSTAMP:20260425T183431
CREATED:20250911T062330Z
LAST-MODIFIED:20250911T062330Z
UID:308777-1757962800-1757980740@www.metalhead.it
SUMMARY:Q5 @ Roma
DESCRIPTION:Lunedì 15 settembre 2025 LET IT BEER – Roma\n \nOpen Door -20\,30\nLive\nFENISIA 20\,45- 21\,15\nARESTORM 21\,30- 22\,00\nQ5 22\,15- 23\,30 \nEvento Facebook QUI \n  \n 
URL:https://www.metalhead.it/evento/q5-roma/
LOCATION:Let It Beer\, Piazza delle Crociate\, 26/28\, Roma\, Italia
ATTACH;FMTTYPE=image/jpeg:https://www.metalhead.it/wp-content/uploads/2025/09/nQ5_20250911.jpg
END:VEVENT
BEGIN:VEVENT
DTSTART;TZID=Europe/Rome:20250914T193000
DTEND;TZID=Europe/Rome:20250914T233000
DTSTAMP:20260425T183431
CREATED:20250512T181439Z
LAST-MODIFIED:20250512T181439Z
UID:301802-1757878200-1757892600@www.metalhead.it
SUMMARY:HAMMERFALL @ Ligano Sabbiadoro (UD)
DESCRIPTION:Con Visions Of Atlantis all’Arena Alpe Adria. \nEvento Facebook QUI
URL:https://www.metalhead.it/evento/hammerfall-ligano-sabbiadoro-ud/
LOCATION:ARENA ALPE\, Viale Europa 26\, Lignano Sabbiadoro\, UD\, 33054\, Italia
ATTACH;FMTTYPE=image/jpeg:https://www.metalhead.it/wp-content/uploads/2025/05/Nhammerfall_20250512.jpg
END:VEVENT
BEGIN:VEVENT
DTSTART;TZID=Europe/Rome:20250911T080000
DTEND;TZID=Europe/Rome:20250911T170000
DTSTAMP:20260425T183431
CREATED:20250911T215129Z
LAST-MODIFIED:20250911T215129Z
UID:308944-1757577600-1757610000@www.metalhead.it
SUMMARY:RUDENFEST 2025 @ Ponte nelle Alpi (BL)
DESCRIPTION:Come cantavano i Manowar\, “avevamo detto che saremo tornati\, ed eccoci qui”! \nRUDENFEST\, il festival metal del bellunese a ingresso libero\, torna al PalaQuantin il 20 Settembre 2025  con una nuova line-up\, più band\, più sorprese e soprattutto più ruggine! \nLa line-up 2025 è capitanata dai Domine\, band storica del panorama Power Metal Europeo\, attiva dagli anni ‘80\, con quattro EP e cinque album all’attivo\, che incendierà la serata facendovi marciare al suono di travolgenti inni di vittoria. E non è tutto: Ardytion e Gates of Prophecy si uniscono alla crociata Power Metal. Ma ce n’è per tutti i gusti: gli elitisti del metal estremo troveranno pane per i loro denti con Chronic Hate\, Membrance ed Exhaustion\, mentre Anterra e Cangianti terranno alta la bandiera del rock’n’roll. A fare da collante\, il granitico dj set di Mario Tio (direttamente dai microfoni di Materiale Resistente) vi martellerà per tutta la giornata con una selezione di classici e tesori nascosti. \nMa Rudenfest non è solo musica: una rinnovata selezione di espositori provenienti dal mondo della grafica\, dei dischi da ascoltare\, dei comics&games e dell’artigianato vi aspetta\, la cucina del comitato frazionale di Quantin sarà sempre aperta e -ovviamente- le spine non smetteranno mai di far scorrere la birra. \nRudenfest si terrà al PalaQuantin (in località Quantin\, Ponte nelle Alpi\, Belluno). Apertura cancelli ore 13:00 \, le esibizioni delle band inizieranno alle 15:30. \nL’organizzazione ringrazia per il sostegno tutti quelli che in questi mesi ci hanno aiutato a preparare il terreno per l’evento: il comitato frazionale di Quantin\, il comune di Ponte nelle Alpi e ovviamente i nostri sponsor: Il Mattone\, Grafiche Longaronesi\, De Dea Gelisio Onoranze Funebri\, Burigo Italo\, Panificio Collarini\, Birroteca IBU\, La Baita Mussoi\, Autofficina Fanna\, Bistrò 51\, Galvanica S.F.\, Ten Bells Snack Bar e Autosalone Longarone.  \n15:30/16:10 Cangianti\n16:30/17:10 Gates of Prophecy\n17:30/18:10 Exhaustion\n18:30/19:10 Membrance\n19:45/20:25 Anterra\n20:40 /21:20 Ardityon\n21:35/22:20 Chronic Hate\n22:45/00:15 DOMINE \nEvento Facebook QUI
URL:https://www.metalhead.it/evento/rudenfest-2025-ponte-nelle-alpi-bl/
LOCATION:MI
ATTACH;FMTTYPE=image/jpeg:https://www.metalhead.it/wp-content/uploads/2025/09/nRudenfest_20250911.jpg
END:VEVENT
BEGIN:VEVENT
DTSTART;TZID=Europe/Rome:20250906T193000
DTEND;TZID=Europe/Rome:20250906T233000
DTSTAMP:20260425T183431
CREATED:20250901T174506Z
LAST-MODIFIED:20250901T174506Z
UID:307509-1757187000-1757201400@www.metalhead.it
SUMMARY:DEATHLESS LEGACY @ Bologna
DESCRIPTION:All’Alchemi ca con Hellfox e Wicked Asylum.
URL:https://www.metalhead.it/evento/deathless-legacy-bologna/
LOCATION:Alchemica\, Via dei Lapidari\, 8/B\, Bologna\, BO\, Italia
ATTACH;FMTTYPE=image/jpeg:https://www.metalhead.it/wp-content/uploads/2025/09/Ndeathlesslegacy_20250901.jpg
END:VEVENT
BEGIN:VEVENT
DTSTART;TZID=Europe/Rome:20250904T190000
DTEND;TZID=Europe/Rome:20250904T233000
DTSTAMP:20260425T183431
CREATED:20250527T190202Z
LAST-MODIFIED:20250527T190202Z
UID:303277-1757012400-1757028600@www.metalhead.it
SUMMARY:VISCERAL DISGORGE @ Paderno Dugnano (MI)
DESCRIPTION:Allo Slaughter Club: \nVisceral Disgorge (USA – Agonia Records)\nViscral (IDN – Blackandje Records)\n9Dead (USA – Comatose Music)\n+opener TBA \nIngresso riservato ai soci ACSI\nPrevendite disponibili su Dice.fm QUI
URL:https://www.metalhead.it/evento/visceral-disgorge-paderno-dugnano-mi/
LOCATION:Slaughter Club  Via Tagliabue 4 – Paderno Dugnano (MI)\, Via Tagliabue 4\, Paderno Dugnano (MI)\, MI\, Italia
ATTACH;FMTTYPE=image/jpeg:https://www.metalhead.it/wp-content/uploads/2025/05/Nvisceraldisgorge_20250527.jpg
END:VEVENT
BEGIN:VEVENT
DTSTART;TZID=Europe/Rome:20250830T190000
DTEND;TZID=Europe/Rome:20250830T233000
DTSTAMP:20260425T183431
CREATED:20250816T095542Z
LAST-MODIFIED:20250816T095542Z
UID:307039-1756580400-1756596600@www.metalhead.it
SUMMARY:POWER METAL LEGACY @ Milano
DESCRIPTION:Al Legend Club: \nPower Metal Legacy:\n \nSabato 30 agosto 2025                                \n \nSecret Sphere + Templars of Beer + Xeneris\n \nApertura area pub: 19.00\n \nApertura Porte: 21.00\n \nXeneris: 21.30\n \nTemplars of Beer: 22.15\n \nSecret Sphere: 23.30\n \nDJ Set: a partire dalle 00.45\n \nBiglietti: 7\,50 € + dp – 10\,00 € in cassa la sera del concerto\n \n \n \nPrevendite aperte su Dice QUI\n \nEvento Facebook QUI
URL:https://www.metalhead.it/evento/power-metal-legacy-milano/
LOCATION:LEGEND CLUB\, Viale Enrico Fermi\, 98\, Milano
ATTACH;FMTTYPE=image/jpeg:https://www.metalhead.it/wp-content/uploads/2025/08/Npowermetallegacy_20250816.jpg
END:VEVENT
BEGIN:VEVENT
DTSTART;TZID=Europe/Rome:20250829T190000
DTEND;TZID=Europe/Rome:20250829T233000
DTSTAMP:20260425T183431
CREATED:20250825T184339Z
LAST-MODIFIED:20250825T184339Z
UID:307252-1756494000-1756510200@www.metalhead.it
SUMMARY:ANTEDILUVIAN @ Milano
DESCRIPTION:Al Barrio’s con Ceremonial Bloodbath e Affliction Vector \n19:00: apertura porte \n  \n20:00 – 20:40: Affliction Vector \n21:10 – 21:50: Ceremonial Bloodbath \n22:20 – 23:20: Antediluvian \n  \nIngresso: 25 euro \n(nessuna tessera richiesta\, ingresso gratuito per i minori di 18 anni con documento) \nEvento Facebook QUI
URL:https://www.metalhead.it/evento/antediluvian-milano/
LOCATION:Barrio’s\, Piazza Donne Partigiane\, Milano\, 20142\, Italia
ATTACH;FMTTYPE=image/jpeg:https://www.metalhead.it/wp-content/uploads/2025/08/Nantediluvian_20250825.jpg
END:VEVENT
BEGIN:VEVENT
DTSTART;TZID=Europe/Rome:20250815T080000
DTEND;TZID=Europe/Rome:20250816T233000
DTSTAMP:20260425T183431
CREATED:20250809T075015Z
LAST-MODIFIED:20250809T075015Z
UID:306338-1755244800-1755387000@www.metalhead.it
SUMMARY:PIGNOLETTO FEST @ Modena
DESCRIPTION:Venerdì 15 agosto\, apertura porte 19:00 \nDivulgator 19:40-20:10 \nDevoid Of Thought 20:20-20:50 \nReplicant 21:00-21:30 \nPyrrhon 21:45-22.30 \nEscuela Grind 22:45-23:45 \n  \nSabato 16 agosto\, apertura porte 19:00 \nIlmut Aksam 19:10-19:30 \nBowie 19:40-20:10 \nSINdustries 20:20-20:50 \nMiasmic Serum 21:00-21.30 \nHate & Merda 21:45-22:30 \nInsanity Alert 22:45-23:45 \n  \nInfo Festival \nEvento Facebook QUI \nFresco Club & Open Air\, Via Giuliano Cassiani 161\, 41122 Modena \nBiglietti: 12 € per giornata singola\, 20 € abbonamento per entrambe le giornate (acquisto direttamente in cassa)\nLive music\nArea food\nBanchettistica & Distrò\nDJ set
URL:https://www.metalhead.it/evento/pignoletto-fest-modena/
LOCATION:Modena
ATTACH;FMTTYPE=image/jpeg:https://www.metalhead.it/wp-content/uploads/2025/08/Npignolettofest_20250809_1.jpg
END:VEVENT
BEGIN:VEVENT
DTSTART;VALUE=DATE:20250814
DTEND;VALUE=DATE:20250817
DTSTAMP:20260425T183431
CREATED:20250120T175548Z
LAST-MODIFIED:20250508T170158Z
UID:294773-1755129600-1755388799@www.metalhead.it
SUMMARY:FRANTIC FEST 2025 @ Francavilla al Mare (CH)
DESCRIPTION:Al Tiki Taka Village il 14\,15 e 16 agosto \nGIOVEDÌ 14 AGOSTO\nIHSAHN \nZEAL & ARDOR \nBRUJERIA\nSIGH\nNECRODEATH\nTENEBRO\nPYRRHON\nREPLICANT\nTODOMAL\nAMALEKIM\nDIE SÜNDE \nVENERDÌ 15 AGOSTO\nLEPROUS \nORANGE GOBLIN \nPANZERFAUST\nHEXVESSEL\nWINTERFYLLETH\nGROZA\nINSANITY ALERT\nDOOMRAISER\nFERAL FORMS\nDEWFALL\nXENOS A.D. \nSABATO 16 AGOSTO\nCARCASS\nBLACK FLAG \nSATURNUS \nSPIRIT ADRIFT\nAVULSED\nTHE FORESHADOWING\nGALVANIZER\nDEVANGELIC\nBRUTAL SPHINCTER\nINVERNOIR\nZOLFO \nPrevendite ufficiali disponibili su DICE\, QUI \n– Biglietto giornaliero: 65 € (diritti di prevendita inclusi)\n– Abbonamento: 150 € (diritti di prevendita inclusi) \n\nNo Sun Music \nErocks Production \nSkeptic Events \n  \n– Biglietto giornaliero: 58 € (invece di 65 €)\n– Abbonamento: 120 € (invece di 150 €)\n– Supporter Pack: 150 € \nL’abbonamento include:\nPass 3 giorni\nIngresso Opening Party del 13 agosto\nBicchiere riutilizzabile\nCarta Cashless ricaricabile\nT-Shirt esclusiva (solo per tariffa Supporter Pack)\nIngresso gratuito per bambini e ragazzi di età pari e/o inferiore ai 15 anni.  \n⛺️PRENOTAZIONI CAMPING APERTE\nA partire da oggi è possibile prenotare anche il tuo posto tenda al Frantic Fest\, solo per i possessori di abbonamento QUI. \nFrantic Fest\nNo Sun Music \nErocks Production \nSkeptic Events
URL:https://www.metalhead.it/evento/frantic-fest-2025-francavilla-al-mare-ch/
LOCATION:Tiki Taka\, Francavilla al mare (CH)\, Italia
ATTACH;FMTTYPE=image/jpeg:https://www.metalhead.it/wp-content/uploads/2025/05/Nfranticfest_20250508.jpg
END:VEVENT
BEGIN:VEVENT
DTSTART;TZID=Europe/Rome:20250807T193000
DTEND;TZID=Europe/Rome:20250807T233000
DTSTAMP:20260425T183431
CREATED:20250508T160709Z
LAST-MODIFIED:20250508T160815Z
UID:301700-1754595000-1754609400@www.metalhead.it
SUMMARY:ATTILA @ Pinarella Di Cervia (RA)
DESCRIPTION:Al Rock Planet con Dropout Kings\, Watching the Abyss e Betrayed  \nEvento Facebook QUI
URL:https://www.metalhead.it/evento/attila-pinarella-di-cervia/
LOCATION:Rock Planet\, Via Tritone\, 77\, Pinarella di Cervia (RA)\, 48015\, Italia
ATTACH;FMTTYPE=image/jpeg:https://www.metalhead.it/wp-content/uploads/2025/05/Nattila_20250508.jpg
END:VEVENT
BEGIN:VEVENT
DTSTART;TZID=Europe/Rome:20250806T193000
DTEND;TZID=Europe/Rome:20250806T233000
DTSTAMP:20260425T183431
CREATED:20250508T160445Z
LAST-MODIFIED:20250508T160445Z
UID:301698-1754508600-1754523000@www.metalhead.it
SUMMARY:ATTILA @ Milano
DESCRIPTION:Al Legend Club con Dropout Kings\, Astraline e Make It Simple \nEvento Facebook QUI
URL:https://www.metalhead.it/evento/attila-milano/
LOCATION:LEGEND CLUB\, Viale Enrico Fermi\, 98\, Milano
ATTACH;FMTTYPE=image/jpeg:https://www.metalhead.it/wp-content/uploads/2025/05/Nattila_20250508.jpg
END:VEVENT
BEGIN:VEVENT
DTSTART;TZID=Europe/Rome:20250731T193000
DTEND;TZID=Europe/Rome:20250731T233000
DTSTAMP:20260425T183431
CREATED:20250226T201640Z
LAST-MODIFIED:20250226T201640Z
UID:296783-1753990200-1754004600@www.metalhead.it
SUMMARY:MELVINS @ Milano
DESCRIPTION:Con Redd Kross al Magnolia. \nEvento Facebook QUI
URL:https://www.metalhead.it/evento/melvins-milano/
LOCATION:Circolo Magnolia\, ia Circonvallazione Idroscalo\, 41 Novegro-Tregarezzo MI\, 20090\, Italia
ATTACH;FMTTYPE=image/jpeg:https://www.metalhead.it/wp-content/uploads/2025/02/Nmelvins_20250226.jpg
END:VEVENT
BEGIN:VEVENT
DTSTART;TZID=Europe/Rome:20250730T190000
DTEND;TZID=Europe/Rome:20250730T233000
DTSTAMP:20260425T183431
CREATED:20250226T201933Z
LAST-MODIFIED:20250226T202333Z
UID:296785-1753902000-1753918200@www.metalhead.it
SUMMARY:MELVINS @ Roma
DESCRIPTION:Con Redd Kross all’Eur Social Park \nEvento Facebook QUI
URL:https://www.metalhead.it/evento/melvins-roma/
LOCATION:Eur Social Park\, Viale di Val Fiorita\, Roma\, 00144
ATTACH;FMTTYPE=image/jpeg:https://www.metalhead.it/wp-content/uploads/2025/02/Nmelvins_20250226.jpg
END:VEVENT
BEGIN:VEVENT
DTSTART;TZID=Europe/Rome:20250726T210000
DTEND;TZID=Europe/Rome:20250726T233000
DTSTAMP:20260425T183431
CREATED:20250722T170148Z
LAST-MODIFIED:20250722T170148Z
UID:305816-1753563600-1753572600@www.metalhead.it
SUMMARY:DOPETHRONE + RYOSUKE KIYASU @ Torino
DESCRIPTION:Blah Blah\, Via Po 21\, TORINO \nsabato 26 luglio 2025 \nApertura porte ore 21.00 \nRyosuke Kiyasu ore 22.00 \nDopethrone ore 22.50  \n  \nPREVENDITE: 16€ + ddp QUI \nINGRESSO IN CASSA 20€ \nEvento Facebook QUI
URL:https://www.metalhead.it/evento/dopethrone-ryosuke-kiyasu-torino/
LOCATION:BLAH BLAH
ATTACH;FMTTYPE=image/jpeg:https://www.metalhead.it/wp-content/uploads/2025/07/Ndopehtrone_20250722.jpg
END:VEVENT
END:VCALENDAR