BEGIN:VCALENDAR
VERSION:2.0
PRODID:-//Metalhead - ECPv6.15.20//NONSGML v1.0//EN
CALSCALE:GREGORIAN
METHOD:PUBLISH
X-WR-CALNAME:Metalhead
X-ORIGINAL-URL:https://www.metalhead.it
X-WR-CALDESC:Eventi per Metalhead
REFRESH-INTERVAL;VALUE=DURATION:PT1H
X-Robots-Tag:noindex
X-PUBLISHED-TTL:PT1H
BEGIN:VTIMEZONE
TZID:Europe/Rome
BEGIN:DAYLIGHT
TZOFFSETFROM:+0100
TZOFFSETTO:+0200
TZNAME:CEST
DTSTART:20240331T010000
END:DAYLIGHT
BEGIN:STANDARD
TZOFFSETFROM:+0200
TZOFFSETTO:+0100
TZNAME:CET
DTSTART:20241027T010000
END:STANDARD
BEGIN:DAYLIGHT
TZOFFSETFROM:+0100
TZOFFSETTO:+0200
TZNAME:CEST
DTSTART:20250330T010000
END:DAYLIGHT
BEGIN:STANDARD
TZOFFSETFROM:+0200
TZOFFSETTO:+0100
TZNAME:CET
DTSTART:20251026T010000
END:STANDARD
BEGIN:DAYLIGHT
TZOFFSETFROM:+0100
TZOFFSETTO:+0200
TZNAME:CEST
DTSTART:20260329T010000
END:DAYLIGHT
BEGIN:STANDARD
TZOFFSETFROM:+0200
TZOFFSETTO:+0100
TZNAME:CET
DTSTART:20261025T010000
END:STANDARD
END:VTIMEZONE
BEGIN:VEVENT
DTSTART;VALUE=DATE:20250814
DTEND;VALUE=DATE:20250817
DTSTAMP:20260425T183536
CREATED:20250120T175548Z
LAST-MODIFIED:20250508T170158Z
UID:294773-1755129600-1755388799@www.metalhead.it
SUMMARY:FRANTIC FEST 2025 @ Francavilla al Mare (CH)
DESCRIPTION:Al Tiki Taka Village il 14\,15 e 16 agosto \nGIOVEDÌ 14 AGOSTO\nIHSAHN \nZEAL & ARDOR \nBRUJERIA\nSIGH\nNECRODEATH\nTENEBRO\nPYRRHON\nREPLICANT\nTODOMAL\nAMALEKIM\nDIE SÜNDE \nVENERDÌ 15 AGOSTO\nLEPROUS \nORANGE GOBLIN \nPANZERFAUST\nHEXVESSEL\nWINTERFYLLETH\nGROZA\nINSANITY ALERT\nDOOMRAISER\nFERAL FORMS\nDEWFALL\nXENOS A.D. \nSABATO 16 AGOSTO\nCARCASS\nBLACK FLAG \nSATURNUS \nSPIRIT ADRIFT\nAVULSED\nTHE FORESHADOWING\nGALVANIZER\nDEVANGELIC\nBRUTAL SPHINCTER\nINVERNOIR\nZOLFO \nPrevendite ufficiali disponibili su DICE\, QUI \n– Biglietto giornaliero: 65 € (diritti di prevendita inclusi)\n– Abbonamento: 150 € (diritti di prevendita inclusi) \n\nNo Sun Music \nErocks Production \nSkeptic Events \n  \n– Biglietto giornaliero: 58 € (invece di 65 €)\n– Abbonamento: 120 € (invece di 150 €)\n– Supporter Pack: 150 € \nL’abbonamento include:\nPass 3 giorni\nIngresso Opening Party del 13 agosto\nBicchiere riutilizzabile\nCarta Cashless ricaricabile\nT-Shirt esclusiva (solo per tariffa Supporter Pack)\nIngresso gratuito per bambini e ragazzi di età pari e/o inferiore ai 15 anni.  \n⛺️PRENOTAZIONI CAMPING APERTE\nA partire da oggi è possibile prenotare anche il tuo posto tenda al Frantic Fest\, solo per i possessori di abbonamento QUI. \nFrantic Fest\nNo Sun Music \nErocks Production \nSkeptic Events
URL:https://www.metalhead.it/evento/frantic-fest-2025-francavilla-al-mare-ch/
LOCATION:Tiki Taka\, Francavilla al mare (CH)\, Italia
ATTACH;FMTTYPE=image/jpeg:https://www.metalhead.it/wp-content/uploads/2025/05/Nfranticfest_20250508.jpg
END:VEVENT
BEGIN:VEVENT
DTSTART;TZID=Europe/Rome:20250807T193000
DTEND;TZID=Europe/Rome:20250807T233000
DTSTAMP:20260425T183536
CREATED:20250508T160709Z
LAST-MODIFIED:20250508T160815Z
UID:301700-1754595000-1754609400@www.metalhead.it
SUMMARY:ATTILA @ Pinarella Di Cervia (RA)
DESCRIPTION:Al Rock Planet con Dropout Kings\, Watching the Abyss e Betrayed  \nEvento Facebook QUI
URL:https://www.metalhead.it/evento/attila-pinarella-di-cervia/
LOCATION:Rock Planet\, Via Tritone\, 77\, Pinarella di Cervia (RA)\, 48015\, Italia
ATTACH;FMTTYPE=image/jpeg:https://www.metalhead.it/wp-content/uploads/2025/05/Nattila_20250508.jpg
END:VEVENT
BEGIN:VEVENT
DTSTART;TZID=Europe/Rome:20250806T193000
DTEND;TZID=Europe/Rome:20250806T233000
DTSTAMP:20260425T183536
CREATED:20250508T160445Z
LAST-MODIFIED:20250508T160445Z
UID:301698-1754508600-1754523000@www.metalhead.it
SUMMARY:ATTILA @ Milano
DESCRIPTION:Al Legend Club con Dropout Kings\, Astraline e Make It Simple \nEvento Facebook QUI
URL:https://www.metalhead.it/evento/attila-milano/
LOCATION:LEGEND CLUB\, Viale Enrico Fermi\, 98\, Milano
ATTACH;FMTTYPE=image/jpeg:https://www.metalhead.it/wp-content/uploads/2025/05/Nattila_20250508.jpg
END:VEVENT
BEGIN:VEVENT
DTSTART;TZID=Europe/Rome:20250731T193000
DTEND;TZID=Europe/Rome:20250731T233000
DTSTAMP:20260425T183536
CREATED:20250226T201640Z
LAST-MODIFIED:20250226T201640Z
UID:296783-1753990200-1754004600@www.metalhead.it
SUMMARY:MELVINS @ Milano
DESCRIPTION:Con Redd Kross al Magnolia. \nEvento Facebook QUI
URL:https://www.metalhead.it/evento/melvins-milano/
LOCATION:Circolo Magnolia\, ia Circonvallazione Idroscalo\, 41 Novegro-Tregarezzo MI\, 20090\, Italia
ATTACH;FMTTYPE=image/jpeg:https://www.metalhead.it/wp-content/uploads/2025/02/Nmelvins_20250226.jpg
END:VEVENT
BEGIN:VEVENT
DTSTART;TZID=Europe/Rome:20250730T190000
DTEND;TZID=Europe/Rome:20250730T233000
DTSTAMP:20260425T183536
CREATED:20250226T201933Z
LAST-MODIFIED:20250226T202333Z
UID:296785-1753902000-1753918200@www.metalhead.it
SUMMARY:MELVINS @ Roma
DESCRIPTION:Con Redd Kross all’Eur Social Park \nEvento Facebook QUI
URL:https://www.metalhead.it/evento/melvins-roma/
LOCATION:Eur Social Park\, Viale di Val Fiorita\, Roma\, 00144
ATTACH;FMTTYPE=image/jpeg:https://www.metalhead.it/wp-content/uploads/2025/02/Nmelvins_20250226.jpg
END:VEVENT
BEGIN:VEVENT
DTSTART;TZID=Europe/Rome:20250726T210000
DTEND;TZID=Europe/Rome:20250726T233000
DTSTAMP:20260425T183536
CREATED:20250722T170148Z
LAST-MODIFIED:20250722T170148Z
UID:305816-1753563600-1753572600@www.metalhead.it
SUMMARY:DOPETHRONE + RYOSUKE KIYASU @ Torino
DESCRIPTION:Blah Blah\, Via Po 21\, TORINO \nsabato 26 luglio 2025 \nApertura porte ore 21.00 \nRyosuke Kiyasu ore 22.00 \nDopethrone ore 22.50  \n  \nPREVENDITE: 16€ + ddp QUI \nINGRESSO IN CASSA 20€ \nEvento Facebook QUI
URL:https://www.metalhead.it/evento/dopethrone-ryosuke-kiyasu-torino/
LOCATION:BLAH BLAH
ATTACH;FMTTYPE=image/jpeg:https://www.metalhead.it/wp-content/uploads/2025/07/Ndopehtrone_20250722.jpg
END:VEVENT
BEGIN:VEVENT
DTSTART;TZID=Europe/Rome:20250726T170000
DTEND;TZID=Europe/Rome:20250726T233000
DTSTAMP:20260425T183536
CREATED:20250517T073956Z
LAST-MODIFIED:20250517T073956Z
UID:302156-1753549200-1753572600@www.metalhead.it
SUMMARY:BORDERLINE ROCK FEST @ Pisa
DESCRIPTION:Borderline Rock Fest IV – Giardino Scotto Pisa \n \nApertura porte 19.00\n \nInizio Show 20.00\n \nBiglietto in cassa 25 €\n \nPrevendite 20 € + dp \n \n \n \nEvento Facebook QUI\n \nPrevendite QUI\n \nInfo: borderlineclubpisa@gmail.com
URL:https://www.metalhead.it/evento/borderline-rock-fest-pisa/
LOCATION:Giardino Scotto\, Lungarno Leonardo Fibonacci\, 2\, Pisa\, 56125\, Italia
ATTACH;FMTTYPE=image/jpeg:https://www.metalhead.it/wp-content/uploads/2025/05/Nborderlinerockfest_20250517.jpg
END:VEVENT
BEGIN:VEVENT
DTSTART;TZID=Europe/Rome:20250725T193000
DTEND;TZID=Europe/Rome:20250725T233000
DTSTAMP:20260425T183536
CREATED:20241221T182101Z
LAST-MODIFIED:20241221T182101Z
UID:294093-1753471800-1753486200@www.metalhead.it
SUMMARY:ORIANTHI @ Milano
DESCRIPTION:Al Legend Club \nInizio concerti h. 21:00 \n  \nBiglietti disponibili su Ticketone. \nPosto unico in piedi: € 25\,00 + prev. / € 30\,00 in cassa la sera del concerto.
URL:https://www.metalhead.it/evento/orianthi-milano/
LOCATION:LEGEND CLUB\, Viale Enrico Fermi\, 98\, Milano
ATTACH;FMTTYPE=image/jpeg:https://www.metalhead.it/wp-content/uploads/2024/12/Norianthi_20241221.jpg
END:VEVENT
BEGIN:VEVENT
DTSTART;TZID=Europe/Rome:20250725T190000
DTEND;TZID=Europe/Rome:20250725T233000
DTSTAMP:20260425T183536
CREATED:20250721T175732Z
LAST-MODIFIED:20250721T180240Z
UID:305802-1753470000-1753486200@www.metalhead.it
SUMMARY:METAL MIDNIGHT FOREST @ Piea (AT)
DESCRIPTION:NECRODEATH – Tappa del tour d’addio che celebra 40 anni di carriera leggendaria\n‍♂️ MORTUARY DRAPE – Esclusiva assoluta: esecuzione integrale di “All The Witches Dance”\nDEATHLESS LEGACY – Tra le formazioni più innovative e sceniche del metal nazionale\nNECROART – Dal 1999 sulle scene\, pronti a infiammare le prime file \n\nL’evento sarà accompagnato da stand gastronomici\, vini del territorio\, birra a fiumi\, merchandising\, vinili\, cd e libri\, per una vera full immersion nel mondo del rock\, circondati dalla magia delle colline piemontesi. \nCampo Sportivo di Piea (AT)\nOrari concerti: Apertura cancelli: ore 18:00 \n\nNecroart: 19:00 – 19:40\nDeathless Legacy: 19:55 – 20:55\nMortuary Drape: 21:10 – 22:20\nNecrodeath: 22:35 – 23:50 \n\nSegui tutte le novità su Instagram: @kaptura_festival \n\n⚠️ INGRESSO GRATUITO
URL:https://www.metalhead.it/evento/metal-midnight-forest-piea-at/
LOCATION:Piea (AT)\, Piea (AT)\, 140209\, Italy
ATTACH;FMTTYPE=image/jpeg:https://www.metalhead.it/wp-content/uploads/2025/07/Nmetalmidnightforest_20250721.jpg
END:VEVENT
BEGIN:VEVENT
DTSTART;TZID=Europe/Rome:20250720T193000
DTEND;TZID=Europe/Rome:20250720T233000
DTSTAMP:20260425T183536
CREATED:20250203T184132Z
LAST-MODIFIED:20250203T184606Z
UID:295855-1753039800-1753054200@www.metalhead.it
SUMMARY:AC / DC @ Imola (BO)
DESCRIPTION:Autodromo Internazionale Enzo e Dino Ferrari di Imola
URL:https://www.metalhead.it/evento/ac-dc-imola-bo/
LOCATION:Autodromo Enzo e Dino Ferrari di Imola\, Piazza Ayrton Senna da Silva\, 1\, Imola (BO)\, 40026\, Italy
ATTACH;FMTTYPE=image/jpeg:https://www.metalhead.it/wp-content/uploads/2025/02/Nacdc_20250203.jpg
END:VEVENT
BEGIN:VEVENT
DTSTART;TZID=Europe/Rome:20250718T193000
DTEND;TZID=Europe/Rome:20250718T233000
DTSTAMP:20260425T183536
CREATED:20250703T190126Z
LAST-MODIFIED:20250703T190206Z
UID:305494-1752867000-1752881400@www.metalhead.it
SUMMARY:THE LAST DANCE @ Padova
DESCRIPTION:VENERDI’ 19 LUGLIO 2025 ore 21.30 al Grind House\nPadova Hardcore proudly presents: \nTHE LAST DANCE [season 2025]\nvi aspettiamo numerosi e pronti a sudare per l’ultimo ballo di questa intensa stagione piena di concerti\, di extra date meravigliose e di un bellissimo festival DIY giunto alla 4° edizione!\nConcludiamo le danze con un poker di ampio respiro ma che ci farà sudare e gioire! \nlive: \n– DC SLUGZ [hardcore punk] \n– GORE GONZOLA [gore grind] \n– KAIOS [hardcore punk] \n– MALFAS [post liscio hardcore] \nAS USUAL: no phasci – no machi – no crowd k1ll1ng \nentry 5 euros\nyou need tessera AICS
URL:https://www.metalhead.it/evento/the-last-dance-padova/
LOCATION:GRIND HOUSE\, PADOVA\, PD\, Italia
END:VEVENT
BEGIN:VEVENT
DTSTART;TZID=Europe/Rome:20250715T193000
DTEND;TZID=Europe/Rome:20250715T233000
DTSTAMP:20260425T183536
CREATED:20250703T185259Z
LAST-MODIFIED:20250703T185259Z
UID:305491-1752607800-1752622200@www.metalhead.it
SUMMARY:VERBAL ABUSE @ Padova
DESCRIPTION:MARTEDI’ 15 LUGLIO 2025 ore 21.30 al Grind House\nPadova Hardcore proudly presents: \n– VERBAL ABUSE –\nCome abbiamo annunciato ormai qualche settimana fa\, martedì 15 luglio ospitiamo una delle bands più seminali\, importanti e aggressive del punk hardcore mondiale: i  VERBAL ABUSE\n“Just an amarican band” è un album che ha segnato l’infanzia di alcuni di noi e vederlo suonare a Padova è una cosa per noi memorabile. Sarà un incendio! \nLine up:\n– VERBAL ABUSE: [USA thrash hardcore LEGENDS]
URL:https://www.metalhead.it/evento/verbal-abuse-padova/
LOCATION:GRIND HOUSE\, PADOVA\, PD\, Italia
ATTACH;FMTTYPE=image/jpeg:https://www.metalhead.it/wp-content/uploads/2025/07/Npadovahardcore_20250603_1.jpg
END:VEVENT
BEGIN:VEVENT
DTSTART;TZID=Europe/Rome:20250713T170000
DTEND;TZID=Europe/Rome:20250713T233000
DTSTAMP:20260425T183536
CREATED:20250616T184301Z
LAST-MODIFIED:20250616T184301Z
UID:305133-1752426000-1752449400@www.metalhead.it
SUMMARY:GARAGE INFERNO SUMMER LIVE @ San Donà di Piave (VE)
DESCRIPTION:Evento Facebook QUI \nDomenica 13 luglio 2025 – dalle ore 21:00 \nFREYA + RIG TIME! + CLOUDKILL \nGarage Guinguette Baladin \nVia XIII Martiri 52\, San Donà di Piave (VE). \nINGRESSO GRATUITO \nInfo: \n1911collective@gmail.com
URL:https://www.metalhead.it/evento/garage-inferno-summer-live-san-dona-di-piave-ve/
LOCATION:Garage Guinguette Baladin\, Via XIII Martiri\, 52\, San Donà di Piave (VE)\, 30027
ATTACH;FMTTYPE=image/jpeg:https://www.metalhead.it/wp-content/uploads/2025/06/Ngarageinfernosummerfestival_20250616.jpg
END:VEVENT
BEGIN:VEVENT
DTSTART;TZID=Europe/Rome:20250712T210000
DTEND;TZID=Europe/Rome:20250712T233000
DTSTAMP:20260425T183536
CREATED:20250707T171010Z
LAST-MODIFIED:20250707T171010Z
UID:305569-1752354000-1752363000@www.metalhead.it
SUMMARY:ANAL VOMIT @ Torino
DESCRIPTION:Allo Ziggy il 12 luglio con i Total Annihilation \nApertura porte: h 21:00 \nTotal Annihilation: h 22:00 \nAnal Vomit: h 23:00 \n  \nZiggy Club\, via Madama Cristina 66B – TORINO – ingresso riservato ai soci ARCI. \nBIGLIETTI: 12€ in prevendita (PayPal a burningtowertorino@gmail.com specificando nome\, cognome ed evento); 15€ in cassa.
URL:https://www.metalhead.it/evento/anal-vomit-torino/
LOCATION:Ziggy Club\, via Madama Cristina 66\, Torino\, TO\, Italia
ATTACH;FMTTYPE=image/jpeg:https://www.metalhead.it/wp-content/uploads/2025/07/Nanalvomit_20250707.jpg
END:VEVENT
BEGIN:VEVENT
DTSTART;TZID=Europe/Rome:20250712T193000
DTEND;TZID=Europe/Rome:20250712T233000
DTSTAMP:20260425T183536
CREATED:20250213T184455Z
LAST-MODIFIED:20250213T184455Z
UID:296449-1752348600-1752363000@www.metalhead.it
SUMMARY:MOTORCITY SUMMER FEST @ Torino
DESCRIPTION:Allo Spazio 211 \nPREVENDITE ATTIVE SU DICE QUI \n\nLINE UP: \nBELLICOSI – BULL BRIGADE – SUBLIMINAL – BACK FROM THE GRAVE \n  \nLABORATORIO GRAFICO CON ZEROCALCARE\, GIGIO BONIZIO E MOTORCITY GRAPHICS
URL:https://www.metalhead.it/evento/motorcity-summer-fest-torino/
LOCATION:sPAZIO211\, Via Francesco Cigna\, 211\, Torino\, 10155\, Italia
ATTACH;FMTTYPE=image/jpeg:https://www.metalhead.it/wp-content/uploads/2025/02/Nmotorcitysummerfest_20250213.jpg
END:VEVENT
BEGIN:VEVENT
DTSTART;TZID=Europe/Rome:20250712T160000
DTEND;TZID=Europe/Rome:20250712T233000
DTSTAMP:20260425T183536
CREATED:20250318T190027Z
LAST-MODIFIED:20250318T190027Z
UID:297837-1752336000-1752363000@www.metalhead.it
SUMMARY:STONEKRAS @ Prosecco (TS)
DESCRIPTION:*** STONERKRAS FEST 2025 *** \n– 12.07.2025 – Prosek-Prosecco (Trieste) –  \n  \nTRUCKFIGHTERS (stoner rock\, SVE) \nMR.BISON (heavy psych\, ITA) \nTHEM MOOSE RUSH (stoner prog\, CRO) \nZOLLE (lard rock duo\, ITA) \nBLACK POPE (southern metal\, ITA)\nVEUVE (heavy psych\, ITA) \n+ \nAFTERPARTY DJSET with Alterative Nite + Satisfaction \n  \nPer la realizzazione del progetto Rocket Panda Summer Days si ringrazia la Regione Friuli Venezia Giulia. La locandina dell’evento è opera dell’artista Mirkow Gastow. \nPrevendita QUI \nEvento Facebook QUI \nPREVENDITA BIGLIETTI QUI
URL:https://www.metalhead.it/evento/stonekras-prosecco-ts/
LOCATION:Prosecco (Trieste)\, Prosecco\, TS\, Italia
ATTACH;FMTTYPE=image/jpeg:https://www.metalhead.it/wp-content/uploads/2025/03/Nstonekras_20250318.jpg
END:VEVENT
BEGIN:VEVENT
DTSTART;TZID=Europe/Rome:20250711T150000
DTEND;TZID=Europe/Rome:20250712T235900
DTSTAMP:20260425T183536
CREATED:20250218T072318Z
LAST-MODIFIED:20250218T072608Z
UID:296559-1752246000-1752364740@www.metalhead.it
SUMMARY:ERESIA METAL FEST 2025 @ Resia (UD)
DESCRIPTION:Undicesima edizione del suggestivo eResia Metal Fest\, il fest di metal estremo che si tiene in Valle di Resia (UD)\, ai piedi del monte Canin. \nAppuntamento venerdì 11 luglio e sabato 12 luglio \nEvento Facebook QUI \nBiglietti: 1 giorno 30€ \, due giorni 50€.  Campeggio e parcheggio gratis. \nSul palco: \n \n11 Luglio:\nImpiety \nAnal vomit \nNihilo \nHusqwarnah \nIgnobleth \nPentakolo \nKrodah \nObscyria \n\n12 Luglio:\nDestroyer 666 \nDarvaza \nPlaguepreacher \nRefore \nPyra \nBlutsauger \nDTN \nDry food for dogs \nAzanothoa
URL:https://www.metalhead.it/evento/eresia-metal-fest-2025-resia-ud/
LOCATION:VAL RESIA (UD)\, Italia
ATTACH;FMTTYPE=image/jpeg:https://www.metalhead.it/wp-content/uploads/2025/02/nEresiaMF_20250118.jpg
END:VEVENT
BEGIN:VEVENT
DTSTART;TZID=Europe/Rome:20250711T100000
DTEND;TZID=Europe/Rome:20250712T233000
DTSTAMP:20260425T183536
CREATED:20250507T171423Z
LAST-MODIFIED:20250507T171423Z
UID:301660-1752228000-1752363000@www.metalhead.it
SUMMARY:SUPER METAL FEST @ Montebello Vicentino (VI)
DESCRIPTION:VENERDÌ 11 LUGLIO 2025 \nSICK N’ BEAUTIFUL \nCRAVEN \nFAMILY DEVOTION MURDER \nMALARIA \n  \n\nSABATO 12 LUGLIO 2025 \nDEATHLESS LEGACY \nBROTHERS OF NO ONE \nMIARA \nCIRCLE OF BLACK \nTHE NAKED ONE \n  \nDurante i due giorni all’interno dell’area concerti\, oltre alla ristorazione gestita dal Borgo e un food truck aggiuntivo\, saranno presenti un’area bar e relax\, stand di abbigliamento\, dischi ed esposizioni. La location inoltre sarà servita da un parcheggio gratuito e un’area campeggio libero. \nPer informazioni: supermetalfest@gmail.com \nEvento Facebook QUI
URL:https://www.metalhead.it/evento/super-metal-fest-montebello-vicentino-vi/
LOCATION:Il Borgo\, Via Borgo\, 31\, Montebello Vicentino (VI)\, 36054\, Italia
ATTACH;FMTTYPE=image/jpeg:https://www.metalhead.it/wp-content/uploads/2025/05/Nsupermetalfest_20250507.jpg
END:VEVENT
BEGIN:VEVENT
DTSTART;TZID=Europe/Rome:20250708T193000
DTEND;TZID=Europe/Rome:20250708T233000
DTSTAMP:20260425T183536
CREATED:20250116T203303Z
LAST-MODIFIED:20250116T204903Z
UID:294564-1752003000-1752017400@www.metalhead.it
SUMMARY:ALICE COOPER @ Bologna
DESCRIPTION:Bologna\, Sequoie Music Park / Parco delle Caserme Rosse – via di Saliceto\, 75 \nInizio concerti h. 21:45 \n  \nBiglietti disponibili su Ticketone e Boxerticket. \nPit in piedi: € 85\,00 + prev. \nPrato in piedi: € 50\,00 + prev. \nTribuna numerata a sedere: € 78\,00 + prev.
URL:https://www.metalhead.it/evento/alice-cooper-bologna/
LOCATION:Sequoie Music Park\, Via di Saliceto\, 75\, Bologna\, 40128\, Italy
ATTACH;FMTTYPE=image/jpeg:https://www.metalhead.it/wp-content/uploads/2023/11/nAliceCooper_20231106.jpg
END:VEVENT
BEGIN:VEVENT
DTSTART;TZID=Europe/Rome:20250705T213000
DTEND;TZID=Europe/Rome:20250705T233000
DTSTAMP:20260425T183536
CREATED:20250625T183022Z
LAST-MODIFIED:20250625T183022Z
UID:305269-1751751000-1751758200@www.metalhead.it
SUMMARY:SEXTRASH @ Erba (CO)
DESCRIPTION:Con i Sodomizer e Dead Chasm \nRunning order:\nSextrash      23.30\nSodomizer  22.30\nDead Chasm 21.30 \n\nOpen: 20.00\nTicket: 20€ \n\nInfo: Gravesinbookings@hotmail.com
URL:https://www.metalhead.it/evento/sextrash-erba-co/
LOCATION:Centrale Rock Pub\, via Cascina California 9\, Erba\, CO\, Italia
END:VEVENT
BEGIN:VEVENT
DTSTART;TZID=Europe/Rome:20250705T200000
DTEND;TZID=Europe/Rome:20250705T233000
DTSTAMP:20260425T183536
CREATED:20250630T165020Z
LAST-MODIFIED:20250630T165020Z
UID:305456-1751745600-1751758200@www.metalhead.it
SUMMARY:SWEAT AND RUST METAL FEST @ Abbiategrasso (MI)
DESCRIPTION:SCALA MERCALLI \nVICOLO INFERNO \nEVILIZERS \nCROMO \nAl Coop Rinascita \nInizio concerti h 20.00\nINGRESSO GRATUITO \nEvento Facebook QUI \nrinascita.eventi@gmail.com
URL:https://www.metalhead.it/evento/sweat-and-rust-metal-fest-abbiategrasso-mi/
LOCATION:Cooperativa Rinascita Abbiatense\, Via Novara 2\, Abbiategrasso (MI)\, Italia
ATTACH;FMTTYPE=image/jpeg:https://www.metalhead.it/wp-content/uploads/2025/06/Nscalamercalli_20250630.jpg
END:VEVENT
BEGIN:VEVENT
DTSTART;TZID=Europe/Rome:20250702T193000
DTEND;TZID=Europe/Rome:20250702T233000
DTSTAMP:20260425T183536
CREATED:20250610T183856Z
LAST-MODIFIED:20250610T183856Z
UID:305033-1751484600-1751499000@www.metalhead.it
SUMMARY:PAUL GILBERT @ Fontaneto d’Agogna (NO)
DESCRIPTION:Al Phenomenon
URL:https://www.metalhead.it/evento/paul-gilbert-fontaneto-dagogna-no/
LOCATION:Phenomenon Club\, SP229\, 10\, Fontaneto D’agnogna (NO)\, 28010
ATTACH;FMTTYPE=image/jpeg:https://www.metalhead.it/wp-content/uploads/2025/06/Npaulgilbert_20250610_2.jpg
END:VEVENT
BEGIN:VEVENT
DTSTART;TZID=Europe/Rome:20250701T193000
DTEND;TZID=Europe/Rome:20250701T233000
DTSTAMP:20260425T183536
CREATED:20250610T184117Z
LAST-MODIFIED:20250610T184117Z
UID:305035-1751398200-1751412600@www.metalhead.it
SUMMARY:PAUL GILBERT @ San Polo d’Enza (RE)
DESCRIPTION:Al Bilbao
URL:https://www.metalhead.it/evento/paul-gilbert-san-polo-denza-re/
LOCATION:BILBAO\, Via XXIV Maggio\, 1\, 42020 San Polo D'enza (RE)\, San Polo D'enza (RE)\, 42020\, Italia
ATTACH;FMTTYPE=image/jpeg:https://www.metalhead.it/wp-content/uploads/2025/06/Npaulgilbert_20250610.jpg
END:VEVENT
BEGIN:VEVENT
DTSTART;TZID=Europe/Rome:20250628T213000
DTEND;TZID=Europe/Rome:20250628T233000
DTSTAMP:20260425T183536
CREATED:20250624T170155Z
LAST-MODIFIED:20250624T170155Z
UID:305245-1751146200-1751153400@www.metalhead.it
SUMMARY:PENTAGRAM @ Torino
DESCRIPTION:Con Ponte Del Diavolo a El Barrio \nApertura porte ore 21:30 \nPonte del Diavolo ore 22:00 \nPentagram ore 23:10 \nEL BARRIO\, Strada Cuorgnè\, 81\, 10156 Torino (TO) \nEvento Facebook QUI \n  \nPrevendite: 25€ + ddp QUI \nIngresso in cassa: 30€
URL:https://www.metalhead.it/evento/pentagram-torino/
LOCATION:El Barrio\, Strada Provinciale Torino - Cuorgnè\, 81\, Torino\, 10156\, Italia
ATTACH;FMTTYPE=image/jpeg:https://www.metalhead.it/wp-content/uploads/2025/06/Npentagram_20250624.jpg
END:VEVENT
BEGIN:VEVENT
DTSTART;TZID=Europe/Rome:20250628T160000
DTEND;TZID=Europe/Rome:20250628T233000
DTSTAMP:20260425T183536
CREATED:20250211T201919Z
LAST-MODIFIED:20250211T202024Z
UID:296392-1751126400-1751153400@www.metalhead.it
SUMMARY:Southammer Metal Fest @ Castel Volturno (CE)
DESCRIPTION:Al Flava Beach con: \nLINE-UP\nRotting Christ\nFleshgod Apocalypse\nNecrodeath\nDarkane\nHideous Divinity\nMadvice\nJumpscare\n+ 2 more bands TBA\n+ DJ Set by Emo Night Napoli \nBiglietti disponibili sul circuito Xceed QUI
URL:https://www.metalhead.it/evento/southammer-metal-fest-castel-volturno-ce/
LOCATION:Flava Beach\, Viale Dante Alighieri\, Castel Volturno CE\, 81030\, Italy
ATTACH;FMTTYPE=image/jpeg:https://www.metalhead.it/wp-content/uploads/2025/02/Nrottingchrist_20250211.jpg
END:VEVENT
BEGIN:VEVENT
DTSTART;TZID=Europe/Rome:20250626T193000
DTEND;TZID=Europe/Rome:20250626T233000
DTSTAMP:20260425T183536
CREATED:20241219T190428Z
LAST-MODIFIED:20241219T190428Z
UID:294048-1750966200-1750980600@www.metalhead.it
SUMMARY:GORILLA BISCUITS @ Segrate (MI)
DESCRIPTION:Al Magnolia \nEvento Facebook QUI
URL:https://www.metalhead.it/evento/gorilla-biscuits-segrate-mi/
LOCATION:Circolo Magnolia\, ia Circonvallazione Idroscalo\, 41 Novegro-Tregarezzo MI\, 20090\, Italia
ATTACH;FMTTYPE=image/jpeg:https://www.metalhead.it/wp-content/uploads/2024/12/Ngorillabiscuits_20241219.jpg
END:VEVENT
BEGIN:VEVENT
DTSTART;TZID=Europe/Rome:20250625T193000
DTEND;TZID=Europe/Rome:20250625T233000
DTSTAMP:20260425T183536
CREATED:20241219T185828Z
LAST-MODIFIED:20241219T185828Z
UID:294046-1750879800-1750894200@www.metalhead.it
SUMMARY:GORILLA BISCUITS @ Roma
DESCRIPTION:Largo Venue \nEvento Facebook QUI
URL:https://www.metalhead.it/evento/gorilla-biscuits-roma/
LOCATION:Largo venue\, Via Biordo Michelotti\, 2\, Roma\, RM\, 00176\, Italia
ATTACH;FMTTYPE=image/jpeg:https://www.metalhead.it/wp-content/uploads/2024/12/Ngorillabiscuits_20241219.jpg
END:VEVENT
BEGIN:VEVENT
DTSTART;TZID=Europe/Rome:20250624T193000
DTEND;TZID=Europe/Rome:20250624T233000
DTSTAMP:20260425T183536
CREATED:20250122T194727Z
LAST-MODIFIED:20250122T194727Z
UID:294844-1750793400-1750807800@www.metalhead.it
SUMMARY:NINE INCH NAILS @ Milano
DESCRIPTION:Al Parco della Musica
URL:https://www.metalhead.it/evento/nine-inch-nails-milano/
LOCATION:Parco della Musica\, Via Venezia\, 40\, Padova\, 35131\, Italia
ATTACH;FMTTYPE=image/jpeg:https://www.metalhead.it/wp-content/uploads/2025/01/Nnineinchnails_20250122.jpg
END:VEVENT
BEGIN:VEVENT
DTSTART;TZID=Europe/Rome:20250621T193000
DTEND;TZID=Europe/Rome:20250621T233000
DTSTAMP:20260425T183536
CREATED:20250507T173228Z
LAST-MODIFIED:20250507T173316Z
UID:301665-1750534200-1750548600@www.metalhead.it
SUMMARY:PROPHETS OF DOOM @ Montebello Vicentino (VI)
DESCRIPTION:Presso Il Borgo con Kryuhm\, Arkon\, Kaylet e Di’Aul. presso Il Borgo.
URL:https://www.metalhead.it/evento/prophets-of-doom-montebello-vicentino-vi/
LOCATION:Il Borgo\, Via Borgo\, 31\, Montebello Vicentino (VI)\, 36054\, Italia
ATTACH;FMTTYPE=image/jpeg:https://www.metalhead.it/wp-content/uploads/2025/05/Nprophetsofdoom_20250507.jpg
END:VEVENT
BEGIN:VEVENT
DTSTART;TZID=Europe/Rome:20250621T120000
DTEND;TZID=Europe/Rome:20250621T233000
DTSTAMP:20260425T183536
CREATED:20250619T182635Z
LAST-MODIFIED:20250619T182635Z
UID:305180-1750507200-1750548600@www.metalhead.it
SUMMARY:PUNK ATTACKS! @ Prosecco (TS)
DESCRIPTION:ELVIS JACKSON (SLO) \nLIM SMRAD IN ŽILA (SLO) \nSNEAKY TOY (Trieste) \nWEEKEND CIGARETTES (Italia) \nLIZ PEGRIS (Gorizia) \n+ \nAFTERPARTY DJSET with Jack Rabbit Slim + L’Accademia della Cruska \n  \nIl Punk Attacks! aprirà le sue porte alle ore 17. \nIl festival offrirà zone ristoro\, mercatini vari\, aree relax e molto altro. \nIngresso per soci Arci e soci Never In 12€ \nIngresso per non soci 20€ \nEvento Facebook QUI \nPer la realizzazione del progetto Rocket Panda Summer Days si ringrazia la Regione Friuli Venezia Giulia.
URL:https://www.metalhead.it/evento/punk-attacks-prosecco-ts/
LOCATION:Prosecco (Trieste)\, Prosecco\, TS\, Italia
ATTACH;FMTTYPE=image/jpeg:https://www.metalhead.it/wp-content/uploads/2025/06/Npunkattaks_20250619.jpg
END:VEVENT
END:VCALENDAR