BEGIN:VCALENDAR
VERSION:2.0
PRODID:-//Metalhead - ECPv6.15.20//NONSGML v1.0//EN
CALSCALE:GREGORIAN
METHOD:PUBLISH
X-WR-CALNAME:Metalhead
X-ORIGINAL-URL:https://www.metalhead.it
X-WR-CALDESC:Eventi per Metalhead
REFRESH-INTERVAL;VALUE=DURATION:PT1H
X-Robots-Tag:noindex
X-PUBLISHED-TTL:PT1H
BEGIN:VTIMEZONE
TZID:Europe/Rome
BEGIN:DAYLIGHT
TZOFFSETFROM:+0100
TZOFFSETTO:+0200
TZNAME:CEST
DTSTART:20240331T010000
END:DAYLIGHT
BEGIN:STANDARD
TZOFFSETFROM:+0200
TZOFFSETTO:+0100
TZNAME:CET
DTSTART:20241027T010000
END:STANDARD
BEGIN:DAYLIGHT
TZOFFSETFROM:+0100
TZOFFSETTO:+0200
TZNAME:CEST
DTSTART:20250330T010000
END:DAYLIGHT
BEGIN:STANDARD
TZOFFSETFROM:+0200
TZOFFSETTO:+0100
TZNAME:CET
DTSTART:20251026T010000
END:STANDARD
BEGIN:DAYLIGHT
TZOFFSETFROM:+0100
TZOFFSETTO:+0200
TZNAME:CEST
DTSTART:20260329T010000
END:DAYLIGHT
BEGIN:STANDARD
TZOFFSETFROM:+0200
TZOFFSETTO:+0100
TZNAME:CET
DTSTART:20261025T010000
END:STANDARD
END:VTIMEZONE
BEGIN:VEVENT
DTSTART;TZID=Europe/Rome:20250614T170000
DTEND;TZID=Europe/Rome:20250614T233000
DTSTAMP:20260425T171241
CREATED:20250512T180549Z
LAST-MODIFIED:20250512T180549Z
UID:301796-1749920400-1749943800@www.metalhead.it
SUMMARY:INSUBRIAN BLACK METAL FEST @ Erba (CO)
DESCRIPTION:Insubrian Black Metal Fest al Centrale Rock Pub con: \nOPERA IX \nCULTUS SANGUINE \nHOMSELVAREG \nTANUN \nMAREA \nSPELLS OF MISERY \nPartners:\n• Clod the Ripper:\ntatuatore di fama internazionale specializzato in stile horror/realistico\, riproduzione di artwork e lettering.\n• Drawnchaos:\nmostra d’arte esclusiva a cura di Cristina Ferrero\, con opere pittoriche ispirate da un’estetica naturale profondamente oscura e melanconica. \n• Masked Dead Records Distro:\nuno stand con le ultime uscite discografiche e rarità per veri cultori del genere. \n• Fotoreporter X:\nfotografa ufficiale della serata\, specializzata in ritratti di band dal vivo. \nInfo utili:\n– Location facilmente raggiungibile anche con i mezzi pubblici\n– Ampio parcheggio gratuito disponibile\n– Cucina attiva per tutta la serata (anche opzioni vegetariane e vegane) \nEvento Facebook QUI\nIngresso: 20€
URL:https://www.metalhead.it/evento/insubrian-black-metal-fest-erba-co/
LOCATION:Centrale Rock Pub\, via Cascina California 9\, Erba\, CO\, Italia
ATTACH;FMTTYPE=image/jpeg:https://www.metalhead.it/wp-content/uploads/2025/05/Ninsubrian_20250512.jpg
END:VEVENT
BEGIN:VEVENT
DTSTART;TZID=Europe/Rome:20250614T120000
DTEND;TZID=Europe/Rome:20250614T233000
DTSTAMP:20260425T171241
CREATED:20250418T145107Z
LAST-MODIFIED:20250418T145107Z
UID:299981-1749902400-1749943800@www.metalhead.it
SUMMARY:DEATH IN CEMBRA @ Cembra Lisignago (TN)
DESCRIPTION:Sabato 14 giugno 2025\nHappy Ranch Località Lago Santo\, 2\, 38034 Cembra Lisignago TN\nIngresso gratuito | Free Camping \nSONUM – Progressive atmospheric death metal \nOBSCURA QALMA – Blackened death metal orchestrale\nLUX MORTALIS – Death melodico intriso di oscurità\nMAZE OF SOTHOTH – Technical death metal\nMASS CARNAGE – Death metal old school \nCONTATTI & SOCIAL\nEvento Facebook QUI\nInstagram: @deathincembra \nPer info e contatti: deathincembra@gmail.com
URL:https://www.metalhead.it/evento/death-in-cembra-cembra-lisignago-tn/
LOCATION:Happy Ranch\, Località Lago Santo\, 2\, Cembra Lisignago (TN)\, 38034\, Italy
ATTACH;FMTTYPE=image/jpeg:https://www.metalhead.it/wp-content/uploads/2025/04/Ndeathincembra_20250418.jpg
END:VEVENT
BEGIN:VEVENT
DTSTART;TZID=Europe/Rome:20250612T120000
DTEND;TZID=Europe/Rome:20250615T233000
DTSTAMP:20260425T171241
CREATED:20250404T183007Z
LAST-MODIFIED:20250404T183949Z
UID:299055-1749729600-1750030200@www.metalhead.it
SUMMARY:FIRENZE ROCKS @ Firenze
DESCRIPTION:Alla Visarno Arena \nI biglietti per il festival sono già disponibili su firenzerocks.it. \n\nGIOVEDÌ 12 GIUGNO: \nGuns N’ Roses\nFalling in Reverse\nRival Sons\nThe Warning\nDirty Honey \n  \nVENERDÌ 13 GIUGNO: \nKorn\nPublic Enemy\nEnter Shikari\nSoft Play\nAtwood\nLOccasione \n  \nDOMENICA 15 GIUGNO: \nGreen Day\nWeezer\nShame\nBad Nerves\nPunkcake\nRevue \n 
URL:https://www.metalhead.it/evento/firenze-rocks-firenze/
LOCATION:Visarno Arena\, Viale del Visarno\, Firenze\, 50144\, Italy
ATTACH;FMTTYPE=image/jpeg:https://www.metalhead.it/wp-content/uploads/2021/06/Nfirenzerocks16621.jpg
END:VEVENT
BEGIN:VEVENT
DTSTART;TZID=Europe/Rome:20250607T210000
DTEND;TZID=Europe/Rome:20250607T233000
DTSTAMP:20260425T171241
CREATED:20250217T185840Z
LAST-MODIFIED:20250217T185840Z
UID:296549-1749330000-1749339000@www.metalhead.it
SUMMARY:ATROX @ San Giuliano Milanese (MI)
DESCRIPTION:All’Eterotopia con Toxic Youth\, Zheros e MAdpain. \nOre 21 precise \nIngresso 5€
URL:https://www.metalhead.it/evento/atrox-san-giuliano-milanese-mi/
LOCATION:Eterotopia\, Via Risorgimento\, 21\, San Giuliano Milanese (MI)\, 20098\, Italy
ATTACH;FMTTYPE=image/jpeg:https://www.metalhead.it/wp-content/uploads/2025/02/Natrox_20250217.jpg
END:VEVENT
BEGIN:VEVENT
DTSTART;TZID=Europe/Rome:20250601T193000
DTEND;TZID=Europe/Rome:20250601T233000
DTSTAMP:20260425T171241
CREATED:20250502T152809Z
LAST-MODIFIED:20250502T152809Z
UID:301427-1748806200-1748820600@www.metalhead.it
SUMMARY:THE DOGS D'AMOUR @ Piedimonte San Germano (FR)
DESCRIPTION:Al Metropolis con Jolly Rox\, Furious Jane e Blax. \nEvento Facebook QUI
URL:https://www.metalhead.it/evento/the-dogs-damour-piedimonte-san-germano-fr/
LOCATION:Metropolis Live Club\, Via Calatafimi\, Piedimonte San Germano (FR)\, 03030\, Italia
ATTACH;FMTTYPE=image/jpeg:https://www.metalhead.it/wp-content/uploads/2025/05/Nthedogsdamour_20250502.jpg
END:VEVENT
BEGIN:VEVENT
DTSTART;TZID=Europe/Rome:20250531T193000
DTEND;TZID=Europe/Rome:20250531T233000
DTSTAMP:20260425T171241
CREATED:20250502T152451Z
LAST-MODIFIED:20250502T152451Z
UID:301423-1748719800-1748734200@www.metalhead.it
SUMMARY:THE DOGS D'AMOUR @ Bologna
DESCRIPTION:All’Alchremica con Jolly Rox\, Furious Jane e John Dallas. \nEvento Facebook QUI
URL:https://www.metalhead.it/evento/the-dogs-damour-bologna/
LOCATION:Alchemica\, Via dei Lapidari\, 8/B\, Bologna\, BO\, Italia
ATTACH;FMTTYPE=image/jpeg:https://www.metalhead.it/wp-content/uploads/2025/05/Nthedogsdamour_20250502.jpg
END:VEVENT
BEGIN:VEVENT
DTSTART;TZID=Europe/Rome:20250531T193000
DTEND;TZID=Europe/Rome:20250531T233000
DTSTAMP:20260425T171241
CREATED:20250403T192918Z
LAST-MODIFIED:20250403T192918Z
UID:299041-1748719800-1748734200@www.metalhead.it
SUMMARY:HEAVY METAL NIGHT @ Genova
DESCRIPTION:Al Crazy Bull con  \nMINDLIGHT \nNO MAN EYES \nSHADOWS OF STEEL \n  \nEVENTO FACEBOOK QUI \nInizio Live Music: 21:30 \nIngresso: 12 euro \nEvento realizzato in collaborazione CRAZY BULL CAFE
URL:https://www.metalhead.it/evento/heavy-metal-night-genova/
LOCATION:CRAZY BULL\, Via Eustachio Degola\, 4R\, Genova Sampierdarena\, GE\, 16151\, Italia
ATTACH;FMTTYPE=image/jpeg:https://www.metalhead.it/wp-content/uploads/2025/04/Nheavymetalnight_20250403.jpg
END:VEVENT
BEGIN:VEVENT
DTSTART;TZID=Europe/Rome:20250531T183000
DTEND;TZID=Europe/Rome:20250531T233000
DTSTAMP:20260425T171241
CREATED:20250505T173300Z
LAST-MODIFIED:20250505T173300Z
UID:301624-1748716200-1748734200@www.metalhead.it
SUMMARY:KLASSE KRIMINALE @ Parma
DESCRIPTION:Al CDC \nINGRESSO: 10€ + Tessera Arci\nLa tessera Arci si potrà fare al locale \nEvento Facebook QUI \nAPERTURA PORTE ore 18:30\nLa serata comincerà con un’intervista aperta al pubblico con i Klasse Kriminale per celebrare i loro 40 anni di carriera. \nAREA FOOD & DRINKS \n Inizio Live ore 20.00 (PUNTUALI!) \n  \nSUONERANNO PER VOI: \nP.O.G  \nPinco Punk da Parma \nIL COMPLESSO  \nStreetPunk da Caramagna \nBILLOWS  \nPunkRock Trio da Torino \nKLASSE KRIMINALE  \n40 Years Tour “Con La Tua Banda e le sue Regole…” – Oi! Legends da Savona
URL:https://www.metalhead.it/evento/klasse-kriminale-parma/
LOCATION:CIRCOLO DIPENDENTI COMUNALI – CDC\, Viale Mentana 31/A\, Parma\, 43121\, Italy
ATTACH;FMTTYPE=image/jpeg:https://www.metalhead.it/wp-content/uploads/2025/05/NklasseKriminale_20250505.jpg
END:VEVENT
BEGIN:VEVENT
DTSTART;TZID=Europe/Rome:20250530T193000
DTEND;TZID=Europe/Rome:20250530T233000
DTSTAMP:20260425T171241
CREATED:20250502T151958Z
LAST-MODIFIED:20250502T151958Z
UID:301419-1748633400-1748647800@www.metalhead.it
SUMMARY:THE DOGS D'AMOUR @ Cremona
DESCRIPTION:Al Music Factory con Jolly Rox e Furious Jane \nEvento Facebook QUI
URL:https://www.metalhead.it/evento/the-dogs-damour-cremona/
LOCATION:Music Factory Live\, Via Diritta\, 9b\, Cremona\, 26100\, Italy
ATTACH;FMTTYPE=image/jpeg:https://www.metalhead.it/wp-content/uploads/2025/05/Nthedogsdamour_20250502.jpg
END:VEVENT
BEGIN:VEVENT
DTSTART;TZID=Europe/Rome:20250529T193000
DTEND;TZID=Europe/Rome:20250529T233000
DTSTAMP:20260425T171241
CREATED:20250502T152223Z
LAST-MODIFIED:20250502T152223Z
UID:301421-1748547000-1748561400@www.metalhead.it
SUMMARY:THE DOGS D'AMOUR @ Rho (MI)
DESCRIPTION:Al Rock’N’Roll con Jolly Rox e Furious Jane. \nEvento Facebook QUI
URL:https://www.metalhead.it/evento/the-dogs-damour-rho-mi/
LOCATION:Rock’N’Roll\, Via Giuseppe Bruschetti\, 11\, Milano\, 20125\, Italy
ATTACH;FMTTYPE=image/jpeg:https://www.metalhead.it/wp-content/uploads/2025/05/Nthedogsdamour_20250502.jpg
END:VEVENT
BEGIN:VEVENT
DTSTART;TZID=Europe/Rome:20250524T193000
DTEND;TZID=Europe/Rome:20250524T233000
DTSTAMP:20260425T171241
CREATED:20250321T193045Z
LAST-MODIFIED:20250321T193045Z
UID:297917-1748115000-1748129400@www.metalhead.it
SUMMARY:LABYRINTH @ Paderno Dugnano (MI)
DESCRIPTION:Con Iron Savior come co-headliner\, in più DragonhammeR e Holy Shire allo Slaughter Club.
URL:https://www.metalhead.it/evento/labyrinth-paderno-dugnano-mi/
LOCATION:Slaughter Club  Via Tagliabue 4 – Paderno Dugnano (MI)\, Via Tagliabue 4\, Paderno Dugnano (MI)\, MI\, Italia
ATTACH;FMTTYPE=image/jpeg:https://www.metalhead.it/wp-content/uploads/2025/03/Nlabyrinth_20250321_2.jpg
END:VEVENT
BEGIN:VEVENT
DTSTART;TZID=Europe/Rome:20250524T190000
DTEND;TZID=Europe/Rome:20250524T235900
DTSTAMP:20260425T171241
CREATED:20250209T213329Z
LAST-MODIFIED:20250209T213329Z
UID:296340-1748113200-1748131140@www.metalhead.it
SUMMARY:BEHERIT @ Milano
DESCRIPTION:Occult Booking e Profanation Bookings sono lieti di presentare le leggende finlandesi del black metal\, i BEHERIT\, per la prima volta in Italia! \nL’appuntamento è per sabato 24 Maggio 2025 al Legend Club Milano! \nI Beherit sono una leggenda del black metal finlandese. La band nasce nel 1989 da Nuclear Holocausto Vengeance (Marko Laiho)\, Demonic Fornication (Jari Vaarala) and Sodomatic Slaughter (Jari Pirinen)\, con un unico obiettivo: suonare ‘the most primitive\, savage\, hell-obsessed black metal imaginable’. \nLe loro rare esibizioni dal vivo si sono intensificate a oltre trent’anni dal loro debutto\, e questa sarà la prima e per ora unica occasione di vedere il gruppo dal vivo in Italia. \nPrima di loro: il primo gruppo a supporto saranno i Gorrch\, duo italiano originario di Cavaso Del Tomba\, Treviso\, dedito a un black metal oscuro\, dissonante e atmosferico\, senza però mancare di ferocia e brutalità. Gemma nascosta del panorama italiano\, i Gorrch hanno recentemente intensificato la loro attività dal vivo in preparazione all’uscita del loro prossimo album e siamo orgogliosi di averli sul palco in questa serata speciale. \nBiglietti su Dice.fm \nEvento Facebook QUI
URL:https://www.metalhead.it/evento/beherit-milano/
LOCATION:LEGEND CLUB\, Viale Enrico Fermi\, 98\, Milano
ATTACH;FMTTYPE=image/jpeg:https://www.metalhead.it/wp-content/uploads/2025/02/nBeherit_20250209.jpg
END:VEVENT
BEGIN:VEVENT
DTSTART;TZID=Europe/Rome:20250523T193000
DTEND;TZID=Europe/Rome:20250523T233000
DTSTAMP:20260425T171241
CREATED:20250321T192650Z
LAST-MODIFIED:20250321T192650Z
UID:297915-1748028600-1748043000@www.metalhead.it
SUMMARY:LABYRINTH @ Taneto di Gattatico (RE)
DESCRIPTION:Con Iron Savior coe co-headliner\, DragonhammeR e Holy Shire al Fuori Orario \nPrevendite QUI
URL:https://www.metalhead.it/evento/labyrinth-taneto-di-gattatico-re/
LOCATION:Fuori Orario\, Via Don Minzoni 96/b\, Taneto\, FE\, Italy
ATTACH;FMTTYPE=image/jpeg:https://www.metalhead.it/wp-content/uploads/2025/03/Nlabyrinth_20250321_1.jpg
END:VEVENT
BEGIN:VEVENT
DTSTART;TZID=Europe/Rome:20250517T193000
DTEND;TZID=Europe/Rome:20250517T233000
DTSTAMP:20260425T171241
CREATED:20250512T175820Z
LAST-MODIFIED:20250512T175820Z
UID:301792-1747510200-1747524600@www.metalhead.it
SUMMARY:RAW POWER @ Modena
DESCRIPTION:Al Centrale 66 \nRaw Power + Call the Cops + Cancer Spreading \nSTAGE TIME : \n21.00 – Apertura locale \n21.45 – 22.15 Cancer Spreading \n22.30 – 23.15 Call the Cops \n23.30 – 00.30 Raw Power \n  \nContributo band: 10 Euro \nEvento Facebook QUI
URL:https://www.metalhead.it/evento/raw-power-modena/
LOCATION:Centrale 66\, via Nicolò dell’Abate 66\, Modena\, Italia
ATTACH;FMTTYPE=image/jpeg:https://www.metalhead.it/wp-content/uploads/2025/05/Nrawpower_20250512.jpg
END:VEVENT
BEGIN:VEVENT
DTSTART;TZID=Europe/Rome:20250517T170000
DTEND;TZID=Europe/Rome:20250517T233000
DTSTAMP:20260425T171241
CREATED:20250213T183716Z
LAST-MODIFIED:20250213T183716Z
UID:296444-1747501200-1747524600@www.metalhead.it
SUMMARY:KILL THE BRAIN FEST @ Roma
DESCRIPTION:Al Traffic Live con: \nPUTRID PILE (USA)\nJIG-AI (CZ)\nTEETHING (ES)\nBLOODTRUTH\nDISFORIA\nSPEED TEST \nDisponibili i biglietti sia in prevendita su Dice a 23€ che in cassa la sera dell’evento a 25€.\nDurante la serata selezioni musicali Disco\, 80s\, 90s\, Extreme Metal. Dopo la serata DJ-Set: IL VESCOVO – Techno-Metal\, Industrial\, Darkwave & Delirio. \nSABATO 17 MAGGIO 2025\nTraffic Live\nVia Prenestina 738\, Roma\nPrevendite QUI\nEvento Facebook QUI
URL:https://www.metalhead.it/evento/kill-the-brain-fest-roma-2/
LOCATION:TRAFFIC CLUB\, Via Prenestina\, 738\, Roma\, RM\, 00155\, Italia
ATTACH;FMTTYPE=image/jpeg:https://www.metalhead.it/wp-content/uploads/2025/02/Nkillthebrainfest_20250213.jpg
END:VEVENT
BEGIN:VEVENT
DTSTART;TZID=Europe/Rome:20250510T193000
DTEND;TZID=Europe/Rome:20250510T233000
DTSTAMP:20260425T171241
CREATED:20250505T181954Z
LAST-MODIFIED:20250505T181954Z
UID:301635-1746905400-1746919800@www.metalhead.it
SUMMARY:MASTER OF GORE @ Bologna
DESCRIPTION:All’Alcheica con: \nBRAINSORE: 18:35 – 19:00 \nINVERECUND: 19:20 – 19:50 \nINTRACRANIAL PURULENCY: 20:05 – 20:35 \nSTORM UPON THE MASSES: 20:50 – 21:20 \nGOLEM OF GORE: 21:40 – 22:20 \nDEVANGELIC: 22:35 – 23:15 \nVULVECTOMY: 23:30 – 00:20 \n  \nI biglietti sono disponibili in prevendita QUI. \nEvento Facebook QUI \nL’accesso è riservato ai possessori di tessera ACSI.
URL:https://www.metalhead.it/evento/master-of-gore-bologna/
LOCATION:Alchemica\, Via dei Lapidari\, 8/B\, Bologna\, BO\, Italia
ATTACH;FMTTYPE=image/jpeg:https://www.metalhead.it/wp-content/uploads/2025/05/Nmasterofgore_20250505.jpg
END:VEVENT
BEGIN:VEVENT
DTSTART;TZID=Europe/Rome:20250510T193000
DTEND;TZID=Europe/Rome:20250510T233000
DTSTAMP:20260425T171241
CREATED:20250429T190500Z
LAST-MODIFIED:20250429T190500Z
UID:300648-1746905400-1746919800@www.metalhead.it
SUMMARY:FIL DI FERRO @ Torino
DESCRIPTION:Fil Di Ferro e The Headless Ghost. allo Ziggy di Torino \nIngresso riservato ai soci ARCI – Apertura porte 21.00 \nEvento Facebook QUI \nPREVENDITE: 10€ via Paypal su burningtowertorino@gmail.com indicando nome\, cognome e la data del concerto \nBIGLIETTI IN CASSA: 15€
URL:https://www.metalhead.it/evento/fil-di-ferro-torino/
LOCATION:Ziggy Club\, via Madama Cristina 66\, Torino\, TO\, Italia
ATTACH;FMTTYPE=image/jpeg:https://www.metalhead.it/wp-content/uploads/2025/04/Nfildiferro_20250429.jpg
END:VEVENT
BEGIN:VEVENT
DTSTART;TZID=Europe/Rome:20250510T193000
DTEND;TZID=Europe/Rome:20250510T233000
DTSTAMP:20260425T171241
CREATED:20250107T183554Z
LAST-MODIFIED:20250107T183554Z
UID:294380-1746905400-1746919800@www.metalhead.it
SUMMARY:FROZEN CROWN @ Milano
DESCRIPTION:Al Legend Club con Embrace Of Souls e Break Me Dawn
URL:https://www.metalhead.it/evento/frozen-crown-milano-2/
LOCATION:LEGEND CLUB\, Viale Enrico Fermi\, 98\, Milano
ATTACH;FMTTYPE=image/jpeg:https://www.metalhead.it/wp-content/uploads/2025/01/Nfrozencrown_20250107.jpg
END:VEVENT
BEGIN:VEVENT
DTSTART;TZID=Europe/Rome:20250510T080000
DTEND;TZID=Europe/Rome:20250510T170000
DTSTAMP:20260425T171241
CREATED:20241128T185300Z
LAST-MODIFIED:20241128T185300Z
UID:293530-1746864000-1746896400@www.metalhead.it
SUMMARY:FROZEN CROWN @ Milano
DESCRIPTION:Al Legend Club
URL:https://www.metalhead.it/evento/frozen-crown-milano/
LOCATION:LEGEND CLUB\, Viale Enrico Fermi\, 98\, Milano
ATTACH;FMTTYPE=image/jpeg:https://www.metalhead.it/wp-content/uploads/2024/11/Nfrowncrown_20241128.jpg
END:VEVENT
BEGIN:VEVENT
DTSTART;TZID=Europe/Rome:20250508T173000
DTEND;TZID=Europe/Rome:20250511T233000
DTSTAMP:20260425T171241
CREATED:20250222T135812Z
LAST-MODIFIED:20250222T135812Z
UID:296630-1746725400-1747006200@www.metalhead.it
SUMMARY:ISOLA ROCK @ Verona
DESCRIPTION:Al Palariso \nISOLA ROCK -18^ Edizione\n8/9/10/11 Maggio 2025\nPALARISO – Via Parco del Riso\, 1\nIsola della Scala (VR)\nINGRESSO GRATUITO\nINFO
URL:https://www.metalhead.it/evento/isola-rock-verona/
LOCATION:Palariso\, Via Parco del Riso\, 1\, Isola della Scala (VE)\, Italia
ATTACH;FMTTYPE=image/jpeg:https://www.metalhead.it/wp-content/uploads/2025/02/Nisolarock_20250222.jpg
END:VEVENT
BEGIN:VEVENT
DTSTART;TZID=Europe/Rome:20250508T160000
DTEND;TZID=Europe/Rome:20250511T235900
DTSTAMP:20260425T171241
CREATED:20250227T095725Z
LAST-MODIFIED:20250227T095725Z
UID:296802-1746720000-1747007940@www.metalhead.it
SUMMARY:ISOLA ROCK @ Isola della Scala (VR)
DESCRIPTION:ISOLA ROCK -18^ Edizione \n8/9/10/11 Maggio 2025 \nPALARISO – Via Parco del Riso\, 1 \nIsola della Scala (VR) \nINGRESSO GRATUITO
URL:https://www.metalhead.it/evento/isola-rock-isola-della-scala-vr/
LOCATION:Palariso\, Via Parco del Riso\, 1\, Isola della Scala (VE)\, Italia
ATTACH;FMTTYPE=image/jpeg:https://www.metalhead.it/wp-content/uploads/2025/02/nISOLAROCK_20250227.jpg
END:VEVENT
BEGIN:VEVENT
DTSTART;TZID=Europe/Rome:20250506T193000
DTEND;TZID=Europe/Rome:20250506T233000
DTSTAMP:20260425T171241
CREATED:20241124T154509Z
LAST-MODIFIED:20241124T154509Z
UID:293394-1746559800-1746574200@www.metalhead.it
SUMMARY:AMENRA @ Milano
DESCRIPTION:Al Legend Club
URL:https://www.metalhead.it/evento/amenra-milano/
LOCATION:LEGEND CLUB\, Viale Enrico Fermi\, 98\, Milano
ATTACH;FMTTYPE=image/jpeg:https://www.metalhead.it/wp-content/uploads/2024/11/Namenra_20241124.jpg
END:VEVENT
BEGIN:VEVENT
DTSTART;TZID=Europe/Rome:20250505T193000
DTEND;TZID=Europe/Rome:20250505T233000
DTSTAMP:20260425T171241
CREATED:20241124T154405Z
LAST-MODIFIED:20241124T154405Z
UID:293391-1746473400-1746487800@www.metalhead.it
SUMMARY:AMENRA @ Roma
DESCRIPTION:Al Monk
URL:https://www.metalhead.it/evento/amenra-roma/
LOCATION:Monk\, Via Giuseppe Mirri\, 35\, Roma\, 00159\, Italy
ATTACH;FMTTYPE=image/jpeg:https://www.metalhead.it/wp-content/uploads/2024/11/Namenra_20241124.jpg
END:VEVENT
BEGIN:VEVENT
DTSTART;TZID=Europe/Rome:20250504T193000
DTEND;TZID=Europe/Rome:20250504T233000
DTSTAMP:20260425T171241
CREATED:20241124T154304Z
LAST-MODIFIED:20241124T154304Z
UID:293390-1746387000-1746401400@www.metalhead.it
SUMMARY:AMENRA @ Bologna
DESCRIPTION:Al TPO
URL:https://www.metalhead.it/evento/amenra-bologna/
LOCATION:TPO Club\, Via Camillo Casarini 17\, Bologna\, BO\, Italia
ATTACH;FMTTYPE=image/jpeg:https://www.metalhead.it/wp-content/uploads/2024/11/Namenra_20241124.jpg
END:VEVENT
BEGIN:VEVENT
DTSTART;TZID=Europe/Rome:20250503T193000
DTEND;TZID=Europe/Rome:20250503T233000
DTSTAMP:20260425T171241
CREATED:20250417T170535Z
LAST-MODIFIED:20250417T170535Z
UID:299967-1746300600-1746315000@www.metalhead.it
SUMMARY:PAGAN METAL FEST @ Cremona
DESCRIPTION:Al Music Factory Liuve con Vallorch\, Circle Of Witche e Druids \nEvento Facebook QUI
URL:https://www.metalhead.it/evento/pagan-metal-fest-cremona/
LOCATION:Music Factory Live\, Via Diritta\, 9b\, Cremona\, 26100\, Italy
ATTACH;FMTTYPE=image/jpeg:https://www.metalhead.it/wp-content/uploads/2025/04/Npaganmetalfest_20250417.jpg
END:VEVENT
BEGIN:VEVENT
DTSTART;TZID=Europe/Rome:20250503T193000
DTEND;TZID=Europe/Rome:20250503T233000
DTSTAMP:20260425T171241
CREATED:20250406T122617Z
LAST-MODIFIED:20250406T122617Z
UID:299100-1746300600-1746315000@www.metalhead.it
SUMMARY:STRUNG OUT @ Paderno Dugnano (MI)
DESCRIPTION:Con i Belvedere allo Slaughter Club
URL:https://www.metalhead.it/evento/strung-out-paderno-dugnano-mi/
LOCATION:Slaughter Club  Via Tagliabue 4 – Paderno Dugnano (MI)\, Via Tagliabue 4\, Paderno Dugnano (MI)\, MI\, Italia
ATTACH;FMTTYPE=image/jpeg:https://www.metalhead.it/wp-content/uploads/2025/04/Nstrungout_20250406.jpg
END:VEVENT
BEGIN:VEVENT
DTSTART;TZID=Europe/Rome:20250501T190000
DTEND;TZID=Europe/Rome:20250501T235900
DTSTAMP:20260425T171241
CREATED:20241225T104956Z
LAST-MODIFIED:20241225T104956Z
UID:294219-1746126000-1746143940@www.metalhead.it
SUMMARY:DARK TRANQUILLITY @ Padova
DESCRIPTION:DARK TRANQUILLITY! \n+MOONSPELL \n+HIRAES \nL’appuntamento a l’Hall di Padova\, per il 1° maggio 2025. \nI biglietti saranno in vendita su MC2Live.it e Vivaticket.com dalle ore 10:00 del 30 dicembre. \nEvento Facebook QUI
URL:https://www.metalhead.it/evento/dark-tranquillity-padova/
LOCATION:HALL\, Via Nona Strada 11b\, Padova\, 35124
ATTACH;FMTTYPE=image/jpeg:https://www.metalhead.it/wp-content/uploads/2024/12/nDarkTranquillity_20241225.jpg
END:VEVENT
BEGIN:VEVENT
DTSTART;TZID=Europe/Rome:20250430T193000
DTEND;TZID=Europe/Rome:20250430T233000
DTSTAMP:20260425T171241
CREATED:20241130T191745Z
LAST-MODIFIED:20241130T191745Z
UID:293570-1746041400-1746055800@www.metalhead.it
SUMMARY:SPECTRAL WOUND\, @ Rovellasca (CO)
DESCRIPTION:Al Centrale di Erba (CO). I biglietti in prevendita saranno disponibili a partire dalle ore 10 del 2 dicembre QUI.\nEvento Facebook QUI \nSpectral Wound + Lamp Of Murmuur + Fuoco Fatuo \nMercoledì 30.04.25\nCentrale Rock Pub\nVia Cascina California 9\, 22036\nErba\, CO
URL:https://www.metalhead.it/evento/spectral-wound-rovellasca-co/
LOCATION:Centrale Rock Pub\, via Cascina California 9\, Erba\, CO\, Italia
ATTACH;FMTTYPE=image/jpeg:https://www.metalhead.it/wp-content/uploads/2024/11/Nspectralwound_20241130.jpg
END:VEVENT
BEGIN:VEVENT
DTSTART;TZID=Europe/Rome:20250421T120000
DTEND;TZID=Europe/Rome:20250421T235900
DTSTAMP:20260425T171241
CREATED:20250126T183831Z
LAST-MODIFIED:20250126T183831Z
UID:294923-1745236800-1745279940@www.metalhead.it
SUMMARY:MAXIMUM FESTIVAL 2025 @ Zero Branco (TV)
DESCRIPTION:È stato annunciato il Maximum Festival 2025\, 12 ore di maledetto Rock ‘n’ Roll! \nL’appuntamento è per lunedì 21 aprile 2025 (Pasquetta)\, presso ALTROQUANDO\, via Corniani 32 – Zero Branco (TV) \nSul palco: \nACID MAMMOTH\nCUT\nGOTHO\nSMALL JACKETS\nCOLTAINE\nANIMAUX FORMIDABLES\nBOSCO SACRO\nMAD DOGS\nRED SUN\nKRÖWNN\nVEUVE\nFRANA\nSTILL HOUSE\nZETSU\nUROBORUS \nDJ set by HENRY \nEntrata:\n• Early Bird: €10 + fees\nLimitato a 100 ingressi (Include tessera + CD/LP) \n• Door Ticket: €15 (Include tessera + CD/LP)  \n• GRATIS minori di 16 anni \nPranzo disponibile: PASQUETTA LUNCH\, dal vegano al BBQ. Info  via WhatsApp: +39 349 799 9755 \nArea ragazzi\, dalle 13 alle 18\, con giochi\, workshop creativi\, letture animate\, face painting ecc. \nEvento FACEBOOK QUI
URL:https://www.metalhead.it/evento/maximum-festival-2025-zero-branco-tv/
LOCATION:ALTROQUANDO Via Corniani 32\, 31059 Zero Branco TV\, Via Corniani 32\, Zero Branco\, TV\, 31059
ATTACH;FMTTYPE=image/jpeg:https://www.metalhead.it/wp-content/uploads/2025/01/nMAXIMUMFESTIVAL2025_20250126.jpg
END:VEVENT
BEGIN:VEVENT
DTSTART;TZID=Europe/Rome:20250419T193000
DTEND;TZID=Europe/Rome:20250419T233000
DTSTAMP:20260425T171241
CREATED:20250406T121042Z
LAST-MODIFIED:20250406T121042Z
UID:299090-1745091000-1745105400@www.metalhead.it
SUMMARY:DEATHLESS LEFACY @ Scandicci (FI)
DESCRIPTION:Con Hellfox + Sinister Ghost al VHS – Retró \nL’evento si svolgerà presso VHS – Retró Club\, via 4 Novembre\, Scandicci (FI)  \nIngresso riservato ai soli soci ACSI con tessera e documento valido da presentare alla porta. \nEvento Facebook QUI
URL:https://www.metalhead.it/evento/deathless-lefacy-scandicci-fi/
LOCATION:Viper Theatre\, Via Pistoiese\, 309\, Firenze\, 50145\, Italia
ATTACH;FMTTYPE=image/jpeg:https://www.metalhead.it/wp-content/uploads/2025/04/Ndeathlesslegacy_20250406.jpg
END:VEVENT
END:VCALENDAR