BEGIN:VCALENDAR
VERSION:2.0
PRODID:-//Metalhead - ECPv6.15.20//NONSGML v1.0//EN
CALSCALE:GREGORIAN
METHOD:PUBLISH
X-WR-CALNAME:Metalhead
X-ORIGINAL-URL:https://www.metalhead.it
X-WR-CALDESC:Eventi per Metalhead
REFRESH-INTERVAL;VALUE=DURATION:PT1H
X-Robots-Tag:noindex
X-PUBLISHED-TTL:PT1H
BEGIN:VTIMEZONE
TZID:Europe/Rome
BEGIN:DAYLIGHT
TZOFFSETFROM:+0100
TZOFFSETTO:+0200
TZNAME:CEST
DTSTART:20230326T010000
END:DAYLIGHT
BEGIN:STANDARD
TZOFFSETFROM:+0200
TZOFFSETTO:+0100
TZNAME:CET
DTSTART:20231029T010000
END:STANDARD
BEGIN:DAYLIGHT
TZOFFSETFROM:+0100
TZOFFSETTO:+0200
TZNAME:CEST
DTSTART:20240331T010000
END:DAYLIGHT
BEGIN:STANDARD
TZOFFSETFROM:+0200
TZOFFSETTO:+0100
TZNAME:CET
DTSTART:20241027T010000
END:STANDARD
BEGIN:DAYLIGHT
TZOFFSETFROM:+0100
TZOFFSETTO:+0200
TZNAME:CEST
DTSTART:20250330T010000
END:DAYLIGHT
BEGIN:STANDARD
TZOFFSETFROM:+0200
TZOFFSETTO:+0100
TZNAME:CET
DTSTART:20251026T010000
END:STANDARD
END:VTIMEZONE
BEGIN:VEVENT
DTSTART;TZID=Europe/Rome:20241221T193000
DTEND;TZID=Europe/Rome:20241221T233000
DTSTAMP:20260426T035746
CREATED:20240903T171549Z
LAST-MODIFIED:20240903T171549Z
UID:289301-1734809400-1734823800@www.metalhead.it
SUMMARY:LITTLE ALBERT @ Modena
DESCRIPTION:Al Centrale 66 con Vadva \nEvento Facebook QUI\nContributo band : 10 €
URL:https://www.metalhead.it/evento/little-albert-modena/
LOCATION:Centrale 66\, via Nicolò dell’Abate 66\, Modena\, Italia
ATTACH;FMTTYPE=image/jpeg:https://www.metalhead.it/wp-content/uploads/2024/09/Nlittlealbert_20240903.jpg
END:VEVENT
BEGIN:VEVENT
DTSTART;TZID=Europe/Rome:20241214T193000
DTEND;TZID=Europe/Rome:20241214T233000
DTSTAMP:20260426T035746
CREATED:20241210T190635Z
LAST-MODIFIED:20241210T190635Z
UID:293803-1734204600-1734219000@www.metalhead.it
SUMMARY:UNSCARRED @ Abbiategrasso (MI)
DESCRIPTION:Con Havenfall alla Coop Rinascita \nInizio concerti alle 21:00\nINGRESSO GRATUITO!  \n\nCoopMetalBeer\nrinascita.eventi@gmail.com
URL:https://www.metalhead.it/evento/unscarred-abbiategrasso-mi/
LOCATION:Cooperativa Rinascita Abbiatense\, Via Novara 2\, Abbiategrasso (MI)\, Italia
ATTACH;FMTTYPE=image/jpeg:https://www.metalhead.it/wp-content/uploads/2024/12/Nunscarred_20241210.jpg
END:VEVENT
BEGIN:VEVENT
DTSTART;TZID=Europe/Rome:20241214T193000
DTEND;TZID=Europe/Rome:20241214T233000
DTSTAMP:20260426T035746
CREATED:20241126T174953Z
LAST-MODIFIED:20241126T174953Z
UID:293482-1734204600-1734219000@www.metalhead.it
SUMMARY:OSCURA (w Master Boot Record) @ Firenze
DESCRIPTION:Oscura \nMASTER BOOT RECORD\, ELYNE\, SLUGCHOP e NO ONE CARES\nA seguire Dj Set Obscene\nViper Theatre – Firenze \nEvento Facebook QUI \nBiglietti:\nPrezzo del biglietto in prevendita: €15 + d.p\, | in cassa la sera dello show: €20\nPrevendite disponibili su Ticketone a questo indirizzo.
URL:https://www.metalhead.it/evento/oscura-w-master-boot-record-firenze/
LOCATION:Viper Theatre\, Via Pistoiese\, 309\, Firenze\, 50145\, Italia
ATTACH;FMTTYPE=image/jpeg:https://www.metalhead.it/wp-content/uploads/2024/11/Noscura_20241126.jpg
END:VEVENT
BEGIN:VEVENT
DTSTART;TZID=Europe/Rome:20241214T193000
DTEND;TZID=Europe/Rome:20241214T233000
DTSTAMP:20260426T035746
CREATED:20240902T193333Z
LAST-MODIFIED:20241025T174857Z
UID:289080-1734204600-1734219000@www.metalhead.it
SUMMARY:BLACK WINTER FEST XVI @ Paderno Dugnano (MI)
DESCRIPTION:BLACK WINTER FEST XVI con \n– SARGEIST (Fin)\n– INFERNAL WAR (Pol)\n– CORPUS CHRISTII (Por)\n– DRUDENSANG (Ger)\n– INFERNAL ANGELS (It)\n– UNVIAR (It)\n– BLACK RAPTUS (It) \nPrevendite disponibili QUI\nSponsorizzato da Wine and Fog \n\nINGRESSO CON TESSERA ACSI\nTesseramento online QUI\nProvvedete PER TEMPO alla sottoscrizione online così da risparmiare tempo in cassa \nEvento Facebook QUI \n 
URL:https://www.metalhead.it/evento/black-winter-fest-xvi-paderno-dugnano-mi/
LOCATION:Slaughter Club  Via Tagliabue 4 – Paderno Dugnano (MI)\, Via Tagliabue 4\, Paderno Dugnano (MI)\, MI\, Italia
ATTACH;FMTTYPE=image/jpeg:https://www.metalhead.it/wp-content/uploads/2024/09/Nblackwinterfest_20240902.jpg
END:VEVENT
BEGIN:VEVENT
DTSTART;VALUE=DATE:20241213
DTEND;VALUE=DATE:20241216
DTSTAMP:20260426T035746
CREATED:20241202T210130Z
LAST-MODIFIED:20241202T210130Z
UID:293601-1734048000-1734307199@www.metalhead.it
SUMMARY:3DAYS IN ROCK @ Bologna
DESCRIPTION:All’Alchemica di Bologna: \nVENERDI 13 DICEMBRE\n► Human Tornado -23\,15 – 00\,15\n► Fate of Faith ( Svizzera) – 22\,15 – 23\,00\n► Lvxifers – 21\,15- 22\,00\nOpen Door ore 20\,30 \nSABATO 14 DICEMBRE\n► Tarchon Fist + guest – 23\,15 – 00\,30\n► Amon Sethis ( Francia) – 22\,10 – 23.00\n► Devil Crusade – 21\,15 – 21\,55\nOpen Door 20\,30 \nDOMENICA 15 DICEMBRE\n► Methedras – 22\,30 – 23\,30\n► Martyr – 21\,35 – 22\,15\n► Silent Scream – 20\,45 – 21\,20\nOpen Door 20\,30\n✠ Ingresso venerdi 13 – euro 10\n✠ Ingresso sabato 14 – euro 15\n✠ Ingresso domenica 15 – euro 10\n✠✠✠ Abbonamento alle 3 serate euro 30 \nEvento Facebook QUI
URL:https://www.metalhead.it/evento/3days-in-rock-bologna/
LOCATION:Alchemica\, Via dei Lapidari\, 8/B\, Bologna\, BO\, Italia
ATTACH;FMTTYPE=image/jpeg:https://www.metalhead.it/wp-content/uploads/2024/12/N3daysinrock_20241202.jpg
END:VEVENT
BEGIN:VEVENT
DTSTART;TZID=Europe/Rome:20241206T193000
DTEND;TZID=Europe/Rome:20241206T233000
DTSTAMP:20260426T035746
CREATED:20240207T192440Z
LAST-MODIFIED:20240207T192440Z
UID:272055-1733513400-1733527800@www.metalhead.it
SUMMARY:THERAPY? @ Milano
DESCRIPTION:Al Legend Club. \nTHERAPY? \nTroublegum 30 – The 30th Anniversary Tour \n  \nVenerdì 6 Dicembre 2024 \nMilano\, Legend Club – viale Enrico Fermi\, 98 \nInizio concerti h. 21:00 \n  \nBiglietti disponibili su Ticketone e Ticketmaster. \nPosto unico in piedi: € 25\,00 + prev.
URL:https://www.metalhead.it/evento/therapy-milano/
LOCATION:LEGEND CLUB\, Viale Enrico Fermi\, 98\, Milano
ATTACH;FMTTYPE=image/jpeg:https://www.metalhead.it/wp-content/uploads/2023/03/Ntherapy10323.jpg
END:VEVENT
BEGIN:VEVENT
DTSTART;TZID=Europe/Rome:20241201T193000
DTEND;TZID=Europe/Rome:20241201T233000
DTSTAMP:20260426T035746
CREATED:20240522T183034Z
LAST-MODIFIED:20240522T183034Z
UID:277780-1733081400-1733095800@www.metalhead.it
SUMMARY:AS I LAY DYING @ Ciampino (RM)
DESCRIPTION:All’Orion con: \nDECAPITATED \nCALIBAN \nLEFT TO SUFFER
URL:https://www.metalhead.it/evento/as-i-lay-dying-ciampino-rm/
LOCATION:ORION Viale John Fitzgerald Kennedy\, 52\, 00043 Ciampino Roma\, Viale John Fitzgerald Kennedy\, 52\,\, Ciampino Roma\, 00043
ATTACH;FMTTYPE=image/jpeg:https://www.metalhead.it/wp-content/uploads/2024/05/Nasilaydying_20240522.jpg
END:VEVENT
BEGIN:VEVENT
DTSTART;TZID=Europe/Rome:20241130T193000
DTEND;TZID=Europe/Rome:20241130T233000
DTSTAMP:20260426T035746
CREATED:20240522T182648Z
LAST-MODIFIED:20240522T182648Z
UID:277778-1732995000-1733009400@www.metalhead.it
SUMMARY:AS I LAY DYING @ Milano
DESCRIPTION:All’Alcatraz con: \nAS I LAY DYING \nDECAPITATED \nCALIBAN \nLEFT TO SUFFER
URL:https://www.metalhead.it/evento/as-i-lay-dying-milano/
LOCATION:Alcatraz\, via Valtellina 25\, Milano\, MI\, Italia
ATTACH;FMTTYPE=image/jpeg:https://www.metalhead.it/wp-content/uploads/2024/05/Nasilaydying_20240522.jpg
END:VEVENT
BEGIN:VEVENT
DTSTART;TZID=Europe/Rome:20241130T173000
DTEND;TZID=Europe/Rome:20241130T235900
DTSTAMP:20260426T035746
CREATED:20240909T082654Z
LAST-MODIFIED:20240909T082654Z
UID:289652-1732987800-1733011140@www.metalhead.it
SUMMARY:GOREBUMPS NIGHT 2 @ Bologna
DESCRIPTION:Dopo il sold out della prima edizione\, il 30 novembre l’Alchemica Music Club di Bologna si prepara a ospitare il Gorebumps Night\, un evento imperdibile per gli amanti del Grindcore! \nL’appuntamento è per il 30 novembre 2024\, sempre all’Alchemica Music Club di Bologna\nBiglietti: 20 euro in prevendita mandando una mail ad alchemicainfoprev@gmail.com.  – 22 euro all’ingresso la sera dell’evento \nEvento Facebook QUI 
URL:https://www.metalhead.it/evento/gorebumps-night-2-bologna/
LOCATION:Alchemica\, Via dei Lapidari\, 8/B\, Bologna\, BO\, Italia
ATTACH;FMTTYPE=image/jpeg:https://www.metalhead.it/wp-content/uploads/2024/09/nGorebumpsNight2_20240909.jpg
END:VEVENT
BEGIN:VEVENT
DTSTART;TZID=Europe/Rome:20241130T170000
DTEND;TZID=Europe/Rome:20241130T233000
DTSTAMP:20260426T035746
CREATED:20241111T184226Z
LAST-MODIFIED:20241111T184226Z
UID:293075-1732986000-1733009400@www.metalhead.it
SUMMARY:DOOM HEART FEST VI @ Paderno Dugnano (MI)
DESCRIPTION:allo Slaughter: \n– Officium Triste (NL)\n– Shattered Hope (GR)\n– Di’Aul (IT)\n– Mourning Dawn (FR)\n– Lethvm (BE) \n  \nEsposizioni di: \n– Daria Pigmentaria (painter and digital artist)\n– Norma Valsecchi (painter)\n– Vlad Ov Thelema (tattoo artist)\n– Samuele Puligheddu (painter)\n– Masked Dead Records (distro)\n– Sulphur Fanzine (fanzine) \nPrezzo: 25.00€ \nEvento Facebook QUI \nIngresso con tessera ACSI\nPer tesserarsi online QUI \nIl festival è organizzato da Doom Heart\, (EchO)\, For The Storms e Collettivo Ombra. \nInstagram e Facebook
URL:https://www.metalhead.it/evento/doom-heart-fest-vi-paderno-dugnano-mi/
LOCATION:Slaughter Club  Via Tagliabue 4 – Paderno Dugnano (MI)\, Via Tagliabue 4\, Paderno Dugnano (MI)\, MI\, Italia
ATTACH;FMTTYPE=image/jpeg:https://www.metalhead.it/wp-content/uploads/2024/11/Ndoomheartfest_20241111.jpg
END:VEVENT
BEGIN:VEVENT
DTSTART;TZID=Europe/Rome:20241129T200000
DTEND;TZID=Europe/Rome:20241129T235900
DTSTAMP:20260426T035746
CREATED:20241030T080804Z
LAST-MODIFIED:20241030T080804Z
UID:292328-1732910400-1732924740@www.metalhead.it
SUMMARY:SEDNA @ San Zenone degli Ezzelini (TV)
DESCRIPTION:Venerdì 29 Novembre\, a Villa Albrizzi Marini\, in provincia di Treviso\, i SednA porteranno il loro black metal atmosferico per una notte che si preannuncia carica di intensità e oscurità. \nQuesta speciale data fa parte di una serie di concerti esclusivi che la band capostipite del genere in Italia terrà a novembre\, in anticipazione di un tour europeo previsto per gennaio e prima di chiudersi in studio per le registrazioni del nuovo album. Una delle ultime occasioni per vederli dal vivo in Italia\, nei prossimi mesi. \nA scaldare il palco prima dei SednA\, una lineup di alto livello che include gli sloveni Cvinger\, Pyra ed Ad Harmony Dies. \nVilla Albrizzi Marini\, San Zenone degli Ezzelini (TV) \nEvento Facebook QUI \nIngresso 15€ riservato ai soci ACSI
URL:https://www.metalhead.it/evento/sedna-san-zenone-degli-ezzelini-tv/
LOCATION:Villa Albrizzi Marini\, Via T. Rubelli\, 1\, San Zenone degli Ezzelini (TV)\, 31020\, Italia
ATTACH;FMTTYPE=image/jpeg:https://www.metalhead.it/wp-content/uploads/2024/10/nSedna_20241030.jpg
END:VEVENT
BEGIN:VEVENT
DTSTART;TZID=Europe/Rome:20241129T193000
DTEND;TZID=Europe/Rome:20241129T233000
DTSTAMP:20260426T035746
CREATED:20240801T163732Z
LAST-MODIFIED:20240801T163732Z
UID:287724-1732908600-1732923000@www.metalhead.it
SUMMARY:BROWBEAT @ Modena
DESCRIPTION:Al Centrale 66 con Infection Code \ndj set by The Abyss. \nPrevisto contributo band: 8€ \nEvento Facebook QUI
URL:https://www.metalhead.it/evento/browbeat-modena/
LOCATION:Centrale 66\, via Nicolò dell’Abate 66\, Modena\, Italia
ATTACH;FMTTYPE=image/jpeg:https://www.metalhead.it/wp-content/uploads/2024/08/Nbrowbeat_20240801.jpg
END:VEVENT
BEGIN:VEVENT
DTSTART;TZID=Europe/Rome:20241124T180000
DTEND;TZID=Europe/Rome:20241124T233000
DTSTAMP:20260426T035746
CREATED:20241020T160124Z
LAST-MODIFIED:20241020T160124Z
UID:291431-1732471200-1732491000@www.metalhead.it
SUMMARY:GOBLIN @ Torino
DESCRIPTION:Al Magazzino SUl Po nell’ambito del Torino Film Festival \nBiglietti QUI\nIngresso riservato ai Soci ARCI (Tessera al costo di Euro 12\,00)
URL:https://www.metalhead.it/evento/goblin-torino/
LOCATION:Magazzino Sul Po\, Via dei Murazzi 18/20\, Torino\, 10124\, Italy
ATTACH;FMTTYPE=image/jpeg:https://www.metalhead.it/wp-content/uploads/2024/10/Ngoblin_200241020.jpg
END:VEVENT
BEGIN:VEVENT
DTSTART;TZID=Europe/Rome:20241123T193000
DTEND;TZID=Europe/Rome:20241123T233000
DTSTAMP:20260426T035746
CREATED:20241002T172658Z
LAST-MODIFIED:20241022T184914Z
UID:290797-1732390200-1732404600@www.metalhead.it
SUMMARY:VALLE CAUDINA METAL FEST @ Ceppaloni (BN)
DESCRIPTION:All’Auditorium Beltiglio \nEvento Facebook QUI \nAphelion (Melodic Heavy Metal) – da Salerno \nDownburst (Groove Metal) – da Benevento \nHeruka (Black Metal) – da Roma \nJumpscare (Melodic Death Metal) – da Napoli \nRavine (Post Hardcore) – da Bari \n\nI biglietti sono già disponibili QUI \nDettagli dell’Evento\n Data: 23 novembre 2024\n️ Apertura Porte: Dalle 19:30\n️ Luogo: Auditorium presso la Scuola Primaria di Beltiglio\, Ceppaloni (BN)\n Indicazioni Stradali
URL:https://www.metalhead.it/evento/valle-caudina-metal-fest-ceppaloni-bn/
LOCATION:Auditorium Beltiglio\, Via Maielli\, 2\,\, Ceppaloni (BN)\, 82014
ATTACH;FMTTYPE=image/jpeg:https://www.metalhead.it/wp-content/uploads/2024/10/Nvallecaudinametalfest_20241002.jpg
END:VEVENT
BEGIN:VEVENT
DTSTART;TZID=Europe/Rome:20241123T150000
DTEND;TZID=Europe/Rome:20241123T235900
DTSTAMP:20260426T035746
CREATED:20241107T165714Z
LAST-MODIFIED:20241107T165905Z
UID:292758-1732374000-1732406340@www.metalhead.it
SUMMARY:STIGE FESTIVAL 2024 @ Parma
DESCRIPTION:STIGE FESTIVAL 2024 \nMYSTICUM 23:30\nCULT OF FIRE 21:50\nDOOMRAISER 20:30\nCORPUS DIAVOLIS 19:30\nSTORMCROW 18:30\nHOMSELVAREG 17:10\nIGNOBLETH 16:25 \nApertura cancelli: 15:30 \nSabato 23 novembre 2024\nCampus Industry\nLargo Francesco Antonio Simonini\, 1 – Parma\nEvento Facebook QUI \nBiglietti: \nPrezzo del biglietto in prevendita: €40 + d.p\, / in cassa la sera dello show: €55\nPrevendite disponibili su Ticketone
URL:https://www.metalhead.it/evento/stige-festival-2024-parma/
LOCATION:Campus Industry\, Parma\, Parma
ATTACH;FMTTYPE=image/jpeg:https://www.metalhead.it/wp-content/uploads/2024/11/nSTIGEFESTIVAL2024.jpg
END:VEVENT
BEGIN:VEVENT
DTSTART;TZID=Europe/Rome:20241119T193000
DTEND;TZID=Europe/Rome:20241119T233000
DTSTAMP:20260426T035746
CREATED:20240723T201652Z
LAST-MODIFIED:20240723T201652Z
UID:286589-1732044600-1732059000@www.metalhead.it
SUMMARY:INTEGRITY @ Paderno Dugnano (MI)
DESCRIPTION:Allo Slaughter Club con gli Eyes.
URL:https://www.metalhead.it/evento/integrity-paderno-dugnano-mi/
LOCATION:Slaughter Club  Via Tagliabue 4 – Paderno Dugnano (MI)\, Via Tagliabue 4\, Paderno Dugnano (MI)\, MI\, Italia
ATTACH;FMTTYPE=image/jpeg:https://www.metalhead.it/wp-content/uploads/2024/07/Nintegrity_20240723.jpg
END:VEVENT
BEGIN:VEVENT
DTSTART;TZID=Europe/Rome:20241119T193000
DTEND;TZID=Europe/Rome:20241119T233000
DTSTAMP:20260426T035746
CREATED:20240522T182256Z
LAST-MODIFIED:20240522T182256Z
UID:277776-1732044600-1732059000@www.metalhead.it
SUMMARY:LUCIFER @ Milano
DESCRIPTION:Al Legend Club con The Night Eternal e i Tanith. \nEvento Facebook QUI
URL:https://www.metalhead.it/evento/lucifer-milano/
LOCATION:LEGEND CLUB\, Viale Enrico Fermi\, 98\, Milano
ATTACH;FMTTYPE=image/jpeg:https://www.metalhead.it/wp-content/uploads/2024/05/Nlucifer_20240522.jpg
END:VEVENT
BEGIN:VEVENT
DTSTART;TZID=Europe/Rome:20241116T190000
DTEND;TZID=Europe/Rome:20241116T233000
DTSTAMP:20260426T035746
CREATED:20240918T190145Z
LAST-MODIFIED:20241113T200145Z
UID:290249-1731783600-1731799800@www.metalhead.it
SUMMARY:FIRENZE METAL @ Firenze
DESCRIPTION:Al Viper Theatre di Firenze \nFIRENZE METAL | Viper Theatre\, Firenze\nFLESHGOD APOCALYPSE\n+ Graveworm\, Subhuman\, Inner Code\, Apocalyptic Salvation \nApertura porte: 19:00\nInizio concerti: 19:30 \nBiglietti:\nBoxer Ticket QUI\nTicketOne QUI
URL:https://www.metalhead.it/evento/firenze-metal-firenze/
LOCATION:Viper Theatre\, Via Pistoiese\, 309\, Firenze\, 50145\, Italia
ATTACH;FMTTYPE=image/jpeg:https://www.metalhead.it/wp-content/uploads/2024/09/Nfleshgodapocalypse_20240918.jpg
END:VEVENT
BEGIN:VEVENT
DTSTART;TZID=Europe/Rome:20241109T193000
DTEND;TZID=Europe/Rome:20241109T233000
DTSTAMP:20260426T035746
CREATED:20241008T180250Z
LAST-MODIFIED:20241008T180250Z
UID:290942-1731180600-1731195000@www.metalhead.it
SUMMARY:TORINO DISTORTA VOL.1 @ Torino
DESCRIPTION:Presso El Barrio con Five To Nowhere\, Damnation\, Portal Minds e Damage Black. \nEvento Facebook QUI
URL:https://www.metalhead.it/evento/torino-distorta-vol-1-torino/
LOCATION:El Barrio\, Strada Provinciale Torino - Cuorgnè\, 81\, Torino\, 10156\, Italia
ATTACH;FMTTYPE=image/jpeg:https://www.metalhead.it/wp-content/uploads/2024/10/Ntorinodistorta_20241008.jpg
END:VEVENT
BEGIN:VEVENT
DTSTART;TZID=Europe/Rome:20241106T193000
DTEND;TZID=Europe/Rome:20241106T233000
DTSTAMP:20260426T035746
CREATED:20240513T180142Z
LAST-MODIFIED:20240513T180142Z
UID:277547-1730921400-1730935800@www.metalhead.it
SUMMARY:BARONESS / GRAVEYARD @ Milano
DESCRIPTION:Al Legend Club
URL:https://www.metalhead.it/evento/baroness-graveyard-milano/
LOCATION:LEGEND CLUB\, Viale Enrico Fermi\, 98\, Milano
ATTACH;FMTTYPE=image/jpeg:https://www.metalhead.it/wp-content/uploads/2024/05/Nbaroness_20240513.jpg
END:VEVENT
BEGIN:VEVENT
DTSTART;TZID=Europe/Rome:20241103T193000
DTEND;TZID=Europe/Rome:20241103T233000
DTSTAMP:20260426T035746
CREATED:20240925T173945Z
LAST-MODIFIED:20240925T173945Z
UID:290402-1730662200-1730676600@www.metalhead.it
SUMMARY:GILBY CLARKE @ Paderno Dugnano (MI)
DESCRIPTION:Allo Slaughter Club con i Wardogs
URL:https://www.metalhead.it/evento/gilby-clarke-paderno-dugnano-mi/
LOCATION:Slaughter Club  Via Tagliabue 4 – Paderno Dugnano (MI)\, Via Tagliabue 4\, Paderno Dugnano (MI)\, MI\, Italia
ATTACH;FMTTYPE=image/jpeg:https://www.metalhead.it/wp-content/uploads/2024/09/Ngilbyclarke_20240925.jpg
END:VEVENT
BEGIN:VEVENT
DTSTART;TZID=Europe/Rome:20241102T193000
DTEND;TZID=Europe/Rome:20241102T233000
DTSTAMP:20260426T035746
CREATED:20241026T075921Z
LAST-MODIFIED:20241026T075921Z
UID:291854-1730575800-1730590200@www.metalhead.it
SUMMARY:MORTUARY DRAPE & CULTUS SANGUINE @ Torino
DESCRIPTION:ZIGGYCLUB – via Madama Cristina 66/B\, Torino \n\nIngresso riservato ai soci ARCI – Apertura porte 21.00 \nEvento Facebook QUI \nPREVENDITE QUI \nPrezzo in prevendita 20\,70€ – biglietti in cassa 22€
URL:https://www.metalhead.it/evento/mortuary-drape-cultus-sanguine-torino/
LOCATION:Ziggy Club\, via Madama Cristina 66\, Torino\, TO\, Italia
ATTACH;FMTTYPE=image/jpeg:https://www.metalhead.it/wp-content/uploads/2024/10/Nmortuarydrapecultussanguine_20241026.jpg
END:VEVENT
BEGIN:VEVENT
DTSTART;TZID=Europe/Rome:20241102T193000
DTEND;TZID=Europe/Rome:20241102T233000
DTSTAMP:20260426T035746
CREATED:20240925T175344Z
LAST-MODIFIED:20240925T175344Z
UID:290411-1730575800-1730590200@www.metalhead.it
SUMMARY:GILBY CLARKE @ Roma
DESCRIPTION:All CrossRoads con Wardogs
URL:https://www.metalhead.it/evento/gilby-clarke-roma/
LOCATION:CrossRoads Live Club\, Via Braccianese Claudia\, 771\, Roma\, 00123\, Italy
ATTACH;FMTTYPE=image/jpeg:https://www.metalhead.it/wp-content/uploads/2024/09/Ngilbyclarke_20240925.jpg
END:VEVENT
BEGIN:VEVENT
DTSTART;TZID=Europe/Rome:20241101T193000
DTEND;TZID=Europe/Rome:20241101T233000
DTSTAMP:20260426T035746
CREATED:20240925T174958Z
LAST-MODIFIED:20240925T174958Z
UID:290409-1730489400-1730503800@www.metalhead.it
SUMMARY:GILBY CLARKE @ Treviso
DESCRIPTION:Presso Home Rock Club con Wardogs
URL:https://www.metalhead.it/evento/gilby-clarke-treviso/
LOCATION:Home Rock\, Via Fonderia\, 73\, Treviso\, Treviso\, 31100\, Italy
ATTACH;FMTTYPE=image/jpeg:https://www.metalhead.it/wp-content/uploads/2024/09/Ngilbyclarke_20240925.jpg
END:VEVENT
BEGIN:VEVENT
DTSTART;TZID=Europe/Rome:20241031T200000
DTEND;TZID=Europe/Rome:20241031T235900
DTSTAMP:20260426T035746
CREATED:20240924T122127Z
LAST-MODIFIED:20240924T122127Z
UID:290381-1730404800-1730419140@www.metalhead.it
SUMMARY:ABYSMAL GRIEF @ Bologna
DESCRIPTION:ABYSMAL GRIEF \n+Darkend \n+Blaze Of Sorrow \n31.10.2024 \nAlchemica Music Club\, Bologna \nEvento Facebook QUI \nApertura porte: 20.00
URL:https://www.metalhead.it/evento/abysmal-grief-bologna/
LOCATION:Alchemica\, Via dei Lapidari\, 8/B\, Bologna\, BO\, Italia
ATTACH;FMTTYPE=image/jpeg:https://www.metalhead.it/wp-content/uploads/2024/09/nAbysmalGrief_20240924.jpg
END:VEVENT
BEGIN:VEVENT
DTSTART;TZID=Europe/Rome:20241030T193000
DTEND;TZID=Europe/Rome:20241030T233000
DTSTAMP:20260426T035746
CREATED:20240417T071512Z
LAST-MODIFIED:20240417T071512Z
UID:276321-1730316600-1730331000@www.metalhead.it
SUMMARY:THE GEMS @ Milano
DESCRIPTION:Tre ex Thundermother al Legend Club \nBiglietti disponibili online solo su DICE\nprezzo del biglietto 20 euro + commissioni\, 25 euro in cassa
URL:https://www.metalhead.it/evento/the-gems-milano/
LOCATION:LEGEND CLUB\, Viale Enrico Fermi\, 98\, Milano
ATTACH;FMTTYPE=image/jpeg:https://www.metalhead.it/wp-content/uploads/2024/04/Nthegems_20240417.jpg
END:VEVENT
BEGIN:VEVENT
DTSTART;TZID=Europe/Rome:20241026T193000
DTEND;TZID=Europe/Rome:20241026T233000
DTSTAMP:20260426T035746
CREATED:20241023T190550Z
LAST-MODIFIED:20241023T190550Z
UID:291805-1729971000-1729985400@www.metalhead.it
SUMMARY:DARK WAVE NIGHT PARTY @ Torino
DESCRIPTION:Presso El Barrio \nDunkelwald + Naturamorta + Angst Joy + Estetica Noir @ El Barrio (TO) \nSabato 26 ottobre 2024 \nStart ore 21.00 \nContributo artistico: 10 € \nInfo & Contatti: Lorenzo Moffa: 329.4270625 \n  \nEvento Facebook QUI
URL:https://www.metalhead.it/evento/dark-wave-night-party-torino/
LOCATION:El Barrio\, Strada Provinciale Torino - Cuorgnè\, 81\, Torino\, 10156\, Italia
ATTACH;FMTTYPE=image/jpeg:https://www.metalhead.it/wp-content/uploads/2024/10/Ndarkwavenightparty_20241023.jpg
END:VEVENT
BEGIN:VEVENT
DTSTART;TZID=Europe/Rome:20241026T193000
DTEND;TZID=Europe/Rome:20241026T233000
DTSTAMP:20260426T035746
CREATED:20241010T175949Z
LAST-MODIFIED:20241010T175949Z
UID:291001-1729971000-1729985400@www.metalhead.it
SUMMARY:BENGALA FOLK NOIR ENSEMBLE @ Monza
DESCRIPTION:Al Teatro Binario 7 \nEvento Facebook QUI\nPrevendite 13€+ddp QUI\nIngresso 13€
URL:https://www.metalhead.it/evento/bengala-folk-noir-ensemble-monza/
LOCATION:Teatro Binario 7\, via F. Turati 8\, MOnza\, 20900\, Italy
ATTACH;FMTTYPE=image/jpeg:https://www.metalhead.it/wp-content/uploads/2024/10/Nbengalafolknoire_20241010.jpg
END:VEVENT
BEGIN:VEVENT
DTSTART;TZID=Europe/Rome:20241026T193000
DTEND;TZID=Europe/Rome:20241026T233000
DTSTAMP:20260426T035746
CREATED:20240624T182324Z
LAST-MODIFIED:20240624T182324Z
UID:284784-1729971000-1729985400@www.metalhead.it
SUMMARY:NE OBLIVISCARIS @ Paderno Dugnano (MI)
DESCRIPTION:Allo Slaughter Club \nEvento Facebook QUI
URL:https://www.metalhead.it/evento/ne-obliviscaris-paderno-dugnano-mi/
LOCATION:Slaughter Club  Via Tagliabue 4 – Paderno Dugnano (MI)\, Via Tagliabue 4\, Paderno Dugnano (MI)\, MI\, Italia
ATTACH;FMTTYPE=image/jpeg:https://www.metalhead.it/wp-content/uploads/2024/06/Nneobliviscaris_20240624.jpg
END:VEVENT
BEGIN:VEVENT
DTSTART;TZID=Europe/Rome:20241025T193000
DTEND;TZID=Europe/Rome:20241025T233000
DTSTAMP:20260426T035746
CREATED:20241023T180352Z
LAST-MODIFIED:20241023T180352Z
UID:291786-1729884600-1729899000@www.metalhead.it
SUMMARY:CELESTE @ Torino
DESCRIPTION:Allo Ziggy Club con Infection Code \nIngresso riservato ai soci ARCI – Apertura porte 21.00 \nEvento Facebook QUI \nPrevednite QUI \nPrezzo in prevendita 17€ + ddp – biglietti in cassa 20€
URL:https://www.metalhead.it/evento/celeste-torino/
LOCATION:Ziggy Club\, via Madama Cristina 66\, Torino\, TO\, Italia
ATTACH;FMTTYPE=image/jpeg:https://www.metalhead.it/wp-content/uploads/2024/10/Nceleste_20241023.jpg
END:VEVENT
END:VCALENDAR