BEGIN:VCALENDAR
VERSION:2.0
PRODID:-//Metalhead - ECPv6.15.20//NONSGML v1.0//EN
CALSCALE:GREGORIAN
METHOD:PUBLISH
X-WR-CALNAME:Metalhead
X-ORIGINAL-URL:https://www.metalhead.it
X-WR-CALDESC:Eventi per Metalhead
REFRESH-INTERVAL;VALUE=DURATION:PT1H
X-Robots-Tag:noindex
X-PUBLISHED-TTL:PT1H
BEGIN:VTIMEZONE
TZID:Europe/Rome
BEGIN:DAYLIGHT
TZOFFSETFROM:+0100
TZOFFSETTO:+0200
TZNAME:CEST
DTSTART:20240331T010000
END:DAYLIGHT
BEGIN:STANDARD
TZOFFSETFROM:+0200
TZOFFSETTO:+0100
TZNAME:CET
DTSTART:20241027T010000
END:STANDARD
BEGIN:DAYLIGHT
TZOFFSETFROM:+0100
TZOFFSETTO:+0200
TZNAME:CEST
DTSTART:20250330T010000
END:DAYLIGHT
BEGIN:STANDARD
TZOFFSETFROM:+0200
TZOFFSETTO:+0100
TZNAME:CET
DTSTART:20251026T010000
END:STANDARD
BEGIN:DAYLIGHT
TZOFFSETFROM:+0100
TZOFFSETTO:+0200
TZNAME:CEST
DTSTART:20260329T010000
END:DAYLIGHT
BEGIN:STANDARD
TZOFFSETFROM:+0200
TZOFFSETTO:+0100
TZNAME:CET
DTSTART:20261025T010000
END:STANDARD
END:VTIMEZONE
BEGIN:VEVENT
DTSTART;TZID=Europe/Rome:20250510T080000
DTEND;TZID=Europe/Rome:20250510T170000
DTSTAMP:20260425T174321
CREATED:20241128T185300Z
LAST-MODIFIED:20241128T185300Z
UID:293530-1746864000-1746896400@www.metalhead.it
SUMMARY:FROZEN CROWN @ Milano
DESCRIPTION:Al Legend Club
URL:https://www.metalhead.it/evento/frozen-crown-milano/
LOCATION:LEGEND CLUB\, Viale Enrico Fermi\, 98\, Milano
ATTACH;FMTTYPE=image/jpeg:https://www.metalhead.it/wp-content/uploads/2024/11/Nfrowncrown_20241128.jpg
END:VEVENT
BEGIN:VEVENT
DTSTART;TZID=Europe/Rome:20250508T173000
DTEND;TZID=Europe/Rome:20250511T233000
DTSTAMP:20260425T174321
CREATED:20250222T135812Z
LAST-MODIFIED:20250222T135812Z
UID:296630-1746725400-1747006200@www.metalhead.it
SUMMARY:ISOLA ROCK @ Verona
DESCRIPTION:Al Palariso \nISOLA ROCK -18^ Edizione\n8/9/10/11 Maggio 2025\nPALARISO – Via Parco del Riso\, 1\nIsola della Scala (VR)\nINGRESSO GRATUITO\nINFO
URL:https://www.metalhead.it/evento/isola-rock-verona/
LOCATION:Palariso\, Via Parco del Riso\, 1\, Isola della Scala (VE)\, Italia
ATTACH;FMTTYPE=image/jpeg:https://www.metalhead.it/wp-content/uploads/2025/02/Nisolarock_20250222.jpg
END:VEVENT
BEGIN:VEVENT
DTSTART;TZID=Europe/Rome:20250508T160000
DTEND;TZID=Europe/Rome:20250511T235900
DTSTAMP:20260425T174321
CREATED:20250227T095725Z
LAST-MODIFIED:20250227T095725Z
UID:296802-1746720000-1747007940@www.metalhead.it
SUMMARY:ISOLA ROCK @ Isola della Scala (VR)
DESCRIPTION:ISOLA ROCK -18^ Edizione \n8/9/10/11 Maggio 2025 \nPALARISO – Via Parco del Riso\, 1 \nIsola della Scala (VR) \nINGRESSO GRATUITO
URL:https://www.metalhead.it/evento/isola-rock-isola-della-scala-vr/
LOCATION:Palariso\, Via Parco del Riso\, 1\, Isola della Scala (VE)\, Italia
ATTACH;FMTTYPE=image/jpeg:https://www.metalhead.it/wp-content/uploads/2025/02/nISOLAROCK_20250227.jpg
END:VEVENT
BEGIN:VEVENT
DTSTART;TZID=Europe/Rome:20250506T193000
DTEND;TZID=Europe/Rome:20250506T233000
DTSTAMP:20260425T174321
CREATED:20241124T154509Z
LAST-MODIFIED:20241124T154509Z
UID:293394-1746559800-1746574200@www.metalhead.it
SUMMARY:AMENRA @ Milano
DESCRIPTION:Al Legend Club
URL:https://www.metalhead.it/evento/amenra-milano/
LOCATION:LEGEND CLUB\, Viale Enrico Fermi\, 98\, Milano
ATTACH;FMTTYPE=image/jpeg:https://www.metalhead.it/wp-content/uploads/2024/11/Namenra_20241124.jpg
END:VEVENT
BEGIN:VEVENT
DTSTART;TZID=Europe/Rome:20250505T193000
DTEND;TZID=Europe/Rome:20250505T233000
DTSTAMP:20260425T174321
CREATED:20241124T154405Z
LAST-MODIFIED:20241124T154405Z
UID:293391-1746473400-1746487800@www.metalhead.it
SUMMARY:AMENRA @ Roma
DESCRIPTION:Al Monk
URL:https://www.metalhead.it/evento/amenra-roma/
LOCATION:Monk\, Via Giuseppe Mirri\, 35\, Roma\, 00159\, Italy
ATTACH;FMTTYPE=image/jpeg:https://www.metalhead.it/wp-content/uploads/2024/11/Namenra_20241124.jpg
END:VEVENT
BEGIN:VEVENT
DTSTART;TZID=Europe/Rome:20250504T193000
DTEND;TZID=Europe/Rome:20250504T233000
DTSTAMP:20260425T174321
CREATED:20241124T154304Z
LAST-MODIFIED:20241124T154304Z
UID:293390-1746387000-1746401400@www.metalhead.it
SUMMARY:AMENRA @ Bologna
DESCRIPTION:Al TPO
URL:https://www.metalhead.it/evento/amenra-bologna/
LOCATION:TPO Club\, Via Camillo Casarini 17\, Bologna\, BO\, Italia
ATTACH;FMTTYPE=image/jpeg:https://www.metalhead.it/wp-content/uploads/2024/11/Namenra_20241124.jpg
END:VEVENT
BEGIN:VEVENT
DTSTART;TZID=Europe/Rome:20250503T193000
DTEND;TZID=Europe/Rome:20250503T233000
DTSTAMP:20260425T174321
CREATED:20250417T170535Z
LAST-MODIFIED:20250417T170535Z
UID:299967-1746300600-1746315000@www.metalhead.it
SUMMARY:PAGAN METAL FEST @ Cremona
DESCRIPTION:Al Music Factory Liuve con Vallorch\, Circle Of Witche e Druids \nEvento Facebook QUI
URL:https://www.metalhead.it/evento/pagan-metal-fest-cremona/
LOCATION:Music Factory Live\, Via Diritta\, 9b\, Cremona\, 26100\, Italy
ATTACH;FMTTYPE=image/jpeg:https://www.metalhead.it/wp-content/uploads/2025/04/Npaganmetalfest_20250417.jpg
END:VEVENT
BEGIN:VEVENT
DTSTART;TZID=Europe/Rome:20250503T193000
DTEND;TZID=Europe/Rome:20250503T233000
DTSTAMP:20260425T174321
CREATED:20250406T122617Z
LAST-MODIFIED:20250406T122617Z
UID:299100-1746300600-1746315000@www.metalhead.it
SUMMARY:STRUNG OUT @ Paderno Dugnano (MI)
DESCRIPTION:Con i Belvedere allo Slaughter Club
URL:https://www.metalhead.it/evento/strung-out-paderno-dugnano-mi/
LOCATION:Slaughter Club  Via Tagliabue 4 – Paderno Dugnano (MI)\, Via Tagliabue 4\, Paderno Dugnano (MI)\, MI\, Italia
ATTACH;FMTTYPE=image/jpeg:https://www.metalhead.it/wp-content/uploads/2025/04/Nstrungout_20250406.jpg
END:VEVENT
BEGIN:VEVENT
DTSTART;TZID=Europe/Rome:20250501T190000
DTEND;TZID=Europe/Rome:20250501T235900
DTSTAMP:20260425T174321
CREATED:20241225T104956Z
LAST-MODIFIED:20241225T104956Z
UID:294219-1746126000-1746143940@www.metalhead.it
SUMMARY:DARK TRANQUILLITY @ Padova
DESCRIPTION:DARK TRANQUILLITY! \n+MOONSPELL \n+HIRAES \nL’appuntamento a l’Hall di Padova\, per il 1° maggio 2025. \nI biglietti saranno in vendita su MC2Live.it e Vivaticket.com dalle ore 10:00 del 30 dicembre. \nEvento Facebook QUI
URL:https://www.metalhead.it/evento/dark-tranquillity-padova/
LOCATION:HALL\, Via Nona Strada 11b\, Padova\, 35124
ATTACH;FMTTYPE=image/jpeg:https://www.metalhead.it/wp-content/uploads/2024/12/nDarkTranquillity_20241225.jpg
END:VEVENT
BEGIN:VEVENT
DTSTART;TZID=Europe/Rome:20250430T193000
DTEND;TZID=Europe/Rome:20250430T233000
DTSTAMP:20260425T174321
CREATED:20241130T191745Z
LAST-MODIFIED:20241130T191745Z
UID:293570-1746041400-1746055800@www.metalhead.it
SUMMARY:SPECTRAL WOUND\, @ Rovellasca (CO)
DESCRIPTION:Al Centrale di Erba (CO). I biglietti in prevendita saranno disponibili a partire dalle ore 10 del 2 dicembre QUI.\nEvento Facebook QUI \nSpectral Wound + Lamp Of Murmuur + Fuoco Fatuo \nMercoledì 30.04.25\nCentrale Rock Pub\nVia Cascina California 9\, 22036\nErba\, CO
URL:https://www.metalhead.it/evento/spectral-wound-rovellasca-co/
LOCATION:Centrale Rock Pub\, via Cascina California 9\, Erba\, CO\, Italia
ATTACH;FMTTYPE=image/jpeg:https://www.metalhead.it/wp-content/uploads/2024/11/Nspectralwound_20241130.jpg
END:VEVENT
BEGIN:VEVENT
DTSTART;TZID=Europe/Rome:20250421T120000
DTEND;TZID=Europe/Rome:20250421T235900
DTSTAMP:20260425T174321
CREATED:20250126T183831Z
LAST-MODIFIED:20250126T183831Z
UID:294923-1745236800-1745279940@www.metalhead.it
SUMMARY:MAXIMUM FESTIVAL 2025 @ Zero Branco (TV)
DESCRIPTION:È stato annunciato il Maximum Festival 2025\, 12 ore di maledetto Rock ‘n’ Roll! \nL’appuntamento è per lunedì 21 aprile 2025 (Pasquetta)\, presso ALTROQUANDO\, via Corniani 32 – Zero Branco (TV) \nSul palco: \nACID MAMMOTH\nCUT\nGOTHO\nSMALL JACKETS\nCOLTAINE\nANIMAUX FORMIDABLES\nBOSCO SACRO\nMAD DOGS\nRED SUN\nKRÖWNN\nVEUVE\nFRANA\nSTILL HOUSE\nZETSU\nUROBORUS \nDJ set by HENRY \nEntrata:\n• Early Bird: €10 + fees\nLimitato a 100 ingressi (Include tessera + CD/LP) \n• Door Ticket: €15 (Include tessera + CD/LP)  \n• GRATIS minori di 16 anni \nPranzo disponibile: PASQUETTA LUNCH\, dal vegano al BBQ. Info  via WhatsApp: +39 349 799 9755 \nArea ragazzi\, dalle 13 alle 18\, con giochi\, workshop creativi\, letture animate\, face painting ecc. \nEvento FACEBOOK QUI
URL:https://www.metalhead.it/evento/maximum-festival-2025-zero-branco-tv/
LOCATION:ALTROQUANDO Via Corniani 32\, 31059 Zero Branco TV\, Via Corniani 32\, Zero Branco\, TV\, 31059
ATTACH;FMTTYPE=image/jpeg:https://www.metalhead.it/wp-content/uploads/2025/01/nMAXIMUMFESTIVAL2025_20250126.jpg
END:VEVENT
BEGIN:VEVENT
DTSTART;TZID=Europe/Rome:20250419T193000
DTEND;TZID=Europe/Rome:20250419T233000
DTSTAMP:20260425T174321
CREATED:20250406T121042Z
LAST-MODIFIED:20250406T121042Z
UID:299090-1745091000-1745105400@www.metalhead.it
SUMMARY:DEATHLESS LEFACY @ Scandicci (FI)
DESCRIPTION:Con Hellfox + Sinister Ghost al VHS – Retró \nL’evento si svolgerà presso VHS – Retró Club\, via 4 Novembre\, Scandicci (FI)  \nIngresso riservato ai soli soci ACSI con tessera e documento valido da presentare alla porta. \nEvento Facebook QUI
URL:https://www.metalhead.it/evento/deathless-lefacy-scandicci-fi/
LOCATION:Viper Theatre\, Via Pistoiese\, 309\, Firenze\, 50145\, Italia
ATTACH;FMTTYPE=image/jpeg:https://www.metalhead.it/wp-content/uploads/2025/04/Ndeathlesslegacy_20250406.jpg
END:VEVENT
BEGIN:VEVENT
DTSTART;TZID=Europe/Rome:20250419T193000
DTEND;TZID=Europe/Rome:20250419T233000
DTSTAMP:20260425T174321
CREATED:20250329T065256Z
LAST-MODIFIED:20250329T065256Z
UID:298597-1745091000-1745105400@www.metalhead.it
SUMMARY:ERISU @ Genova
DESCRIPTION:Con i Malombra al Crazy Bull \nINIZIO ore 21\,00\nPrezzo 15 € \nPer informazioni e prenotazioni\nCRAZY BULL Cafè\nVia Eustachio Degola\, 4 R\n16151-Genova Sampierdarena\ninfo@crazybullgenova.it\nTel. 347 9832744 \nBLACK WIDOW RECORDS\nTel. 010 24617 08\nblackwidow@blackwidow.it \n \n 
URL:https://www.metalhead.it/evento/erisu-genova/
LOCATION:CRAZY BULL\, Via Eustachio Degola\, 4R\, Genova Sampierdarena\, GE\, 16151\, Italia
ATTACH;FMTTYPE=image/jpeg:https://www.metalhead.it/wp-content/uploads/2025/03/Nmalombra_20250329_1.jpg
END:VEVENT
BEGIN:VEVENT
DTSTART;TZID=Europe/Rome:20250419T193000
DTEND;TZID=Europe/Rome:20250419T233000
DTSTAMP:20260425T174321
CREATED:20250113T201446Z
LAST-MODIFIED:20250113T201446Z
UID:294486-1745091000-1745105400@www.metalhead.it
SUMMARY:HERETOIR @ Roma
DESCRIPTION:Al Traffic con Svnth e Blaze of Sorrow. \nPrevendite su Dice\nEvento Facebook QUI
URL:https://www.metalhead.it/evento/heretoir-roma/
LOCATION:TRAFFIC CLUB\, Via Prenestina\, 738\, Roma\, RM\, 00155\, Italia
ATTACH;FMTTYPE=image/jpeg:https://www.metalhead.it/wp-content/uploads/2025/01/Nheretoir_20250113_2.jpg
END:VEVENT
BEGIN:VEVENT
DTSTART;TZID=Europe/Rome:20250419T190000
DTEND;TZID=Europe/Rome:20250419T235900
DTSTAMP:20260425T174321
CREATED:20250303T141101Z
LAST-MODIFIED:20250303T141101Z
UID:297032-1745089200-1745107140@www.metalhead.it
SUMMARY:BENEDICTION @ Parma
DESCRIPTION:BENEDICTION (unica data italiana)\, DISTRUZIONE + Altre band da annunciare.\nCampus Industry\, Parma \nEvento Facebook QUI \nBiglietto Solo Concerto: \n25€ + d.p. in prevendita su Ticketone\, 30€ alla cassa. \nBiglietto “Carrozza Bus 666”: 45€ (include viaggio in Bus 666\, ingresso al concerto al Campus Industry\, shot di benvenuto ad ogni tappa e buffet). Disponibile solo tramite prenotazione via e-mail
URL:https://www.metalhead.it/evento/benediction-parma/
LOCATION:Campus Industry\, Parma\, Parma
ATTACH;FMTTYPE=image/jpeg:https://www.metalhead.it/wp-content/uploads/2025/03/nBenediction_20250303.jpg
END:VEVENT
BEGIN:VEVENT
DTSTART;TZID=Europe/Rome:20250418T193000
DTEND;TZID=Europe/Rome:20250418T233000
DTSTAMP:20260425T174321
CREATED:20250113T201241Z
LAST-MODIFIED:20250113T201241Z
UID:294487-1745004600-1745019000@www.metalhead.it
SUMMARY:HERETOIR @ Milano
DESCRIPTION:Al Legend Club con con Svnth e Blaze Of Sorrow. \nPrevendite su Dice\nEvento Facebook QUI
URL:https://www.metalhead.it/evento/heretoir-milano/
LOCATION:LEGEND CLUB\, Viale Enrico Fermi\, 98\, Milano
ATTACH;FMTTYPE=image/jpeg:https://www.metalhead.it/wp-content/uploads/2025/01/Nheretoir_20250113_2.jpg
END:VEVENT
BEGIN:VEVENT
DTSTART;TZID=Europe/Rome:20250417T193000
DTEND;TZID=Europe/Rome:20250417T233000
DTSTAMP:20260425T174321
CREATED:20250113T200014Z
LAST-MODIFIED:20250113T200014Z
UID:294483-1744918200-1744932600@www.metalhead.it
SUMMARY:HERETOIR @ Bologna
DESCRIPTION:All’Alchemica con Svnth e Blaze Of Sorrow. \nEvento Facebook QUI\nPrevendite QUI
URL:https://www.metalhead.it/evento/heretoir-bologna/
LOCATION:Alchemica\, Via dei Lapidari\, 8/B\, Bologna\, BO\, Italia
ATTACH;FMTTYPE=image/jpeg:https://www.metalhead.it/wp-content/uploads/2025/01/Nheretoir_20250113.jpg
END:VEVENT
BEGIN:VEVENT
DTSTART;TZID=Europe/Rome:20250412T203000
DTEND;TZID=Europe/Rome:20250412T233000
DTSTAMP:20260425T174321
CREATED:20250114T194036Z
LAST-MODIFIED:20250114T194036Z
UID:294512-1744489800-1744500600@www.metalhead.it
SUMMARY:METAL MORPHOSIS @ Rovellasca (CO)
DESCRIPTION:Con Xenos A.D.\, Vide e ReDraw al Dedolor di Rovellasca (CO). \nIngresso: 5€ \nEvento Facebook QUI \n \n 
URL:https://www.metalhead.it/evento/metal-morphosis-rovellasca-co/
LOCATION:Dedolor Music Headquarters\, Via XX Settembre\, 33\, 22069 Rovellasca CO\, Rovellasca (RO)\, 22069\, Italia
ATTACH;FMTTYPE=image/jpeg:https://www.metalhead.it/wp-content/uploads/2025/01/Nmetalmorphosis_20250114.jpg
END:VEVENT
BEGIN:VEVENT
DTSTART;TZID=Europe/Rome:20250412T193000
DTEND;TZID=Europe/Rome:20250412T233000
DTSTAMP:20260425T174321
CREATED:20241220T174251Z
LAST-MODIFIED:20241220T174251Z
UID:294062-1744486200-1744500600@www.metalhead.it
SUMMARY:ABSU @ Paderno Dugnano (MI)
DESCRIPTION:Allo Slaughter Club nell’ambito dell’HELLBRIGADE XI\, con i Zemial a supporto.\nEvento Facebook QUI
URL:https://www.metalhead.it/evento/absu-paderno-dugnano-mi/
LOCATION:Slaughter Club  Via Tagliabue 4 – Paderno Dugnano (MI)\, Via Tagliabue 4\, Paderno Dugnano (MI)\, MI\, Italia
ATTACH;FMTTYPE=image/jpeg:https://www.metalhead.it/wp-content/uploads/2024/12/Nabsu_20241220.jpg
END:VEVENT
BEGIN:VEVENT
DTSTART;TZID=Europe/Rome:20250412T190000
DTEND;TZID=Europe/Rome:20250412T235900
DTSTAMP:20260425T174321
CREATED:20250226T091728Z
LAST-MODIFIED:20250226T091728Z
UID:296747-1744484400-1744502340@www.metalhead.it
SUMMARY:CLAUDIO SIMONETTI’S GOBLIN @ Mantova
DESCRIPTION:Ricorrono i 50 dall’uscita di Profondo Rosso\, film horror cult del maestro del brivido Dario Argento. Arci Tom è stra orgogliosa di ospitare la band pietra miliare del prog rock italiano autrice di quella indimenticabile colonna sonora\, i CLAUDIO SIMONETTI’S GOBLIN. \nUna serata culto che avrà come protagonista proprio PROFONDO ROSSO\, ma dedicata anche ad alcune delle iconiche colonne sonore del cinema horror\, come TENEBRE\, SUSPIRIA\, OPERA \, LA TERZA MADRE e altri iconiche colonne sonore della filmografia horror\, durante la quale ai brani eseguiti dalla leggendaria band del Maestro Claudio Simonetti\, si accompagneranno le immagini tratte dai film storici del maestro Dario Argento e non solo. \nPrima di loro un’altra band storica del panorama prog rock italiano\, Il Segno del Comando è un gruppo caratterizzato da sonorità cupe e temi legati a opere letterarie di carattere esoterico e fantastico. \nAd aprire la serata ci saranno i Nefeshcore \, Modern Metal band siciliana che presenternno il loro album di esordio dal titolo “Identity Collapse”. \n12.4.2205 \nARCITOM \nPiazza Tom Benetollo\, 1\, 46100 Mantova \nEvento Facebook QUI \nIngresso 25 euro+d.p. in prevendita\, 30 euro in cassa il giorno dell’evento.\nPrevendite QUI \nRiservato ai soci Arci con tessera 2024/2025 .
URL:https://www.metalhead.it/evento/claudio-simonettis-goblin-mantova/
LOCATION:ARCI TOM\, Piazza Tom Benetollo 2\, Mantova\, 46100\, Italia
ATTACH;FMTTYPE=image/jpeg:https://www.metalhead.it/wp-content/uploads/2025/02/nGoblin_20250226.jpg
END:VEVENT
BEGIN:VEVENT
DTSTART;TZID=Europe/Rome:20250411T193000
DTEND;TZID=Europe/Rome:20250411T233000
DTSTAMP:20260425T174321
CREATED:20241220T174400Z
LAST-MODIFIED:20241220T174400Z
UID:294061-1744399800-1744414200@www.metalhead.it
SUMMARY:ABSU @ Bologna
DESCRIPTION:All’Alchemica con Zemial \nEvento Facebook QUI
URL:https://www.metalhead.it/evento/absu-bologna/
LOCATION:Alchemica\, Via dei Lapidari\, 8/B\, Bologna\, BO\, Italia
ATTACH;FMTTYPE=image/jpeg:https://www.metalhead.it/wp-content/uploads/2024/12/Nabsu_20241220.jpg
END:VEVENT
BEGIN:VEVENT
DTSTART;TZID=Europe/Rome:20250410T193000
DTEND;TZID=Europe/Rome:20250410T233000
DTSTAMP:20260425T174321
CREATED:20241220T174516Z
LAST-MODIFIED:20241220T174516Z
UID:294060-1744313400-1744327800@www.metalhead.it
SUMMARY:ABSU @ Roma
DESCRIPTION:Al Traffic Club con i Zemial \nEvento Facebook QUI
URL:https://www.metalhead.it/evento/absu-roma/
LOCATION:TRAFFIC CLUB\, Via Prenestina\, 738\, Roma\, RM\, 00155\, Italia
ATTACH;FMTTYPE=image/jpeg:https://www.metalhead.it/wp-content/uploads/2024/12/Nabsu_20241220.jpg
END:VEVENT
BEGIN:VEVENT
DTSTART;TZID=Europe/Rome:20250410T193000
DTEND;TZID=Europe/Rome:20250410T233000
DTSTAMP:20260425T174321
CREATED:20241216T184030Z
LAST-MODIFIED:20241216T184254Z
UID:293907-1744313400-1744327800@www.metalhead.it
SUMMARY:NEGATIVE PLANE @ Erba (CO)
DESCRIPTION:Con i Black Oath al Centrale Rock Pub \nEvento Facebook QUI \n 
URL:https://www.metalhead.it/evento/negative-plane-erba-co/
ATTACH;FMTTYPE=image/jpeg:https://www.metalhead.it/wp-content/uploads/2024/12/Nnegativeplane_20241216.jpg
END:VEVENT
BEGIN:VEVENT
DTSTART;TZID=Europe/Rome:20250407T193000
DTEND;TZID=Europe/Rome:20250407T233000
DTSTAMP:20260425T174322
CREATED:20250108T205440Z
LAST-MODIFIED:20250108T205440Z
UID:294415-1744054200-1744068600@www.metalhead.it
SUMMARY:CULT OF FIRE @ Roma
DESCRIPTION:Con The Great Old Ones e Caronte al Largo Venue
URL:https://www.metalhead.it/evento/cult-of-fire-roma/
LOCATION:Largo venue\, Via Biordo Michelotti\, 2\, Roma\, RM\, 00176\, Italia
ATTACH;FMTTYPE=image/jpeg:https://www.metalhead.it/wp-content/uploads/2024/12/nCultOfFire_20241225.jpg
END:VEVENT
BEGIN:VEVENT
DTSTART;TZID=Europe/Rome:20250406T193000
DTEND;TZID=Europe/Rome:20250406T233000
DTSTAMP:20260425T174322
CREATED:20250108T210021Z
LAST-MODIFIED:20250108T210021Z
UID:294414-1743967800-1743982200@www.metalhead.it
SUMMARY:CULT OF FIRE @ Taneto di Gattatico (RE)
DESCRIPTION:Al Fuori Orario con The Great Old Ones e Caronte.
URL:https://www.metalhead.it/evento/cult-of-fire-taneto-di-gattatico-re/
LOCATION:Fuori Orario\, Via Don Minzoni 96/b\, Taneto\, FE\, Italy
ATTACH;FMTTYPE=image/jpeg:https://www.metalhead.it/wp-content/uploads/2024/12/nCultOfFire_20241225.jpg
END:VEVENT
BEGIN:VEVENT
DTSTART;TZID=Europe/Rome:20250405T193000
DTEND;TZID=Europe/Rome:20250405T233000
DTSTAMP:20260425T174322
CREATED:20250108T202205Z
LAST-MODIFIED:20250108T202205Z
UID:294405-1743881400-1743895800@www.metalhead.it
SUMMARY:CULT OF FIRE @ San Donà di Piave (VE)
DESCRIPTION:Al Revolver con The Great Old Ones e Caronte
URL:https://www.metalhead.it/evento/cult-of-fire-san-dona-di-piave-ve/
LOCATION:Revolver Club\, via Kennedy 39\, San Donà di Piave\, VE\, 30027\, Italia
ATTACH;FMTTYPE=image/jpeg:https://www.metalhead.it/wp-content/uploads/2025/01/Ncultoffire_20250108.jpg
END:VEVENT
BEGIN:VEVENT
DTSTART;TZID=Europe/Rome:20250404T193000
DTEND;TZID=Europe/Rome:20250404T233000
DTSTAMP:20260425T174322
CREATED:20250201T145912Z
LAST-MODIFIED:20250201T145912Z
UID:295801-1743795000-1743809400@www.metalhead.it
SUMMARY:RATS @ Milano
DESCRIPTION:Al Legend Club \nApertura cancelli: h.19\,30 – Inizio concerto: h.20\,30 \nBiglietti:\nPrevendita: €20\,00 + ddp su MAILTICKET\nIn cassa: €25\,00 \nA breve prevendite disponibili anche su TICKETONE. \nEvento Facebook QUI
URL:https://www.metalhead.it/evento/rats-milano/
ATTACH;FMTTYPE=image/jpeg:https://www.metalhead.it/wp-content/uploads/2025/02/Nrats_20250201.jpg
END:VEVENT
BEGIN:VEVENT
DTSTART;TZID=Europe/Rome:20250404T193000
DTEND;TZID=Europe/Rome:20250404T233000
DTSTAMP:20260425T174322
CREATED:20241125T191005Z
LAST-MODIFIED:20241125T191005Z
UID:293447-1743795000-1743809400@www.metalhead.it
SUMMARY:URAL @ Modena
DESCRIPTION:Al Centrale 66 \nUral + Explorer + Final Struggle \nVenerdì 4 aprile 2025 \, a partire dalle ore 21 \nL’evento si svolgerà presso Centrale 66\, via Nicolò dell’Abate 66\, Modena. \nContributo band: 8 Euro \nEvento Facebook QUI
URL:https://www.metalhead.it/evento/ural-modena/
LOCATION:Centrale 66\, via Nicolò dell’Abate 66\, Modena\, Italia
ATTACH;FMTTYPE=image/jpeg:https://www.metalhead.it/wp-content/uploads/2024/11/Nural_20241125.jpg
END:VEVENT
BEGIN:VEVENT
DTSTART;TZID=Europe/Rome:20250402T193000
DTEND;TZID=Europe/Rome:20250402T233000
DTSTAMP:20260425T174322
CREATED:20241029T195017Z
LAST-MODIFIED:20241029T195017Z
UID:292317-1743622200-1743636600@www.metalhead.it
SUMMARY:AXEL RUDI PELL @ Ranica (BG)
DESCRIPTION:Al Druso \nEvento Facebook QUI\nPrevendite solo su Ciaotickets QUI
URL:https://www.metalhead.it/evento/axel-rudi-pell-ranica-bg/
LOCATION:Druso\, Via Antonio Locatelli 17\, Ranica\, BG\, Italia
ATTACH;FMTTYPE=image/jpeg:https://www.metalhead.it/wp-content/uploads/2024/10/Naxelrudipell_20241029.jpg
END:VEVENT
BEGIN:VEVENT
DTSTART;TZID=Europe/Rome:20250328T193000
DTEND;TZID=Europe/Rome:20250328T233000
DTSTAMP:20260425T174322
CREATED:20250227T184556Z
LAST-MODIFIED:20250227T184556Z
UID:296816-1743190200-1743204600@www.metalhead.it
SUMMARY:OVO & BOLOGNA VIOLENTA @ Torino
DESCRIPTION:Allo Ziggy \nContributo artistico 18€ \nL’ingresso è riservato ai possessori di tessera ARCI. Sarà possibile sottoscrivere la tessera la sera stessa dell’evento. \n\nEvento Facebook QUI
URL:https://www.metalhead.it/evento/ovo-bologna-violenta-torino/
ATTACH;FMTTYPE=image/jpeg:https://www.metalhead.it/wp-content/uploads/2025/02/Novobolognaviolenta_20250227.jpg
END:VEVENT
END:VCALENDAR