BEGIN:VCALENDAR
VERSION:2.0
PRODID:-//Metalhead - ECPv6.15.20//NONSGML v1.0//EN
CALSCALE:GREGORIAN
METHOD:PUBLISH
X-ORIGINAL-URL:https://www.metalhead.it
X-WR-CALDESC:Eventi per Metalhead
REFRESH-INTERVAL;VALUE=DURATION:PT1H
X-Robots-Tag:noindex
X-PUBLISHED-TTL:PT1H
BEGIN:VTIMEZONE
TZID:Europe/Rome
BEGIN:DAYLIGHT
TZOFFSETFROM:+0100
TZOFFSETTO:+0200
TZNAME:CEST
DTSTART:20230326T010000
END:DAYLIGHT
BEGIN:STANDARD
TZOFFSETFROM:+0200
TZOFFSETTO:+0100
TZNAME:CET
DTSTART:20231029T010000
END:STANDARD
BEGIN:DAYLIGHT
TZOFFSETFROM:+0100
TZOFFSETTO:+0200
TZNAME:CEST
DTSTART:20240331T010000
END:DAYLIGHT
BEGIN:STANDARD
TZOFFSETFROM:+0200
TZOFFSETTO:+0100
TZNAME:CET
DTSTART:20241027T010000
END:STANDARD
BEGIN:DAYLIGHT
TZOFFSETFROM:+0100
TZOFFSETTO:+0200
TZNAME:CEST
DTSTART:20250330T010000
END:DAYLIGHT
BEGIN:STANDARD
TZOFFSETFROM:+0200
TZOFFSETTO:+0100
TZNAME:CET
DTSTART:20251026T010000
END:STANDARD
END:VTIMEZONE
BEGIN:VEVENT
DTSTART;TZID=Europe/Rome:20241106T193000
DTEND;TZID=Europe/Rome:20241106T233000
DTSTAMP:20260425T172158
CREATED:20240513T180142Z
LAST-MODIFIED:20240513T180142Z
UID:277547-1730921400-1730935800@www.metalhead.it
SUMMARY:BARONESS / GRAVEYARD @ Milano
DESCRIPTION:Al Legend Club
URL:https://www.metalhead.it/evento/baroness-graveyard-milano/
LOCATION:LEGEND CLUB\, Viale Enrico Fermi\, 98\, Milano
ATTACH;FMTTYPE=image/jpeg:https://www.metalhead.it/wp-content/uploads/2024/05/Nbaroness_20240513.jpg
END:VEVENT
BEGIN:VEVENT
DTSTART;TZID=Europe/Rome:20241103T193000
DTEND;TZID=Europe/Rome:20241103T233000
DTSTAMP:20260425T172158
CREATED:20240925T173945Z
LAST-MODIFIED:20240925T173945Z
UID:290402-1730662200-1730676600@www.metalhead.it
SUMMARY:GILBY CLARKE @ Paderno Dugnano (MI)
DESCRIPTION:Allo Slaughter Club con i Wardogs
URL:https://www.metalhead.it/evento/gilby-clarke-paderno-dugnano-mi/
LOCATION:Slaughter Club  Via Tagliabue 4 – Paderno Dugnano (MI)\, Via Tagliabue 4\, Paderno Dugnano (MI)\, MI\, Italia
ATTACH;FMTTYPE=image/jpeg:https://www.metalhead.it/wp-content/uploads/2024/09/Ngilbyclarke_20240925.jpg
END:VEVENT
BEGIN:VEVENT
DTSTART;TZID=Europe/Rome:20241102T193000
DTEND;TZID=Europe/Rome:20241102T233000
DTSTAMP:20260425T172158
CREATED:20241026T075921Z
LAST-MODIFIED:20241026T075921Z
UID:291854-1730575800-1730590200@www.metalhead.it
SUMMARY:MORTUARY DRAPE & CULTUS SANGUINE @ Torino
DESCRIPTION:ZIGGYCLUB – via Madama Cristina 66/B\, Torino \n\nIngresso riservato ai soci ARCI – Apertura porte 21.00 \nEvento Facebook QUI \nPREVENDITE QUI \nPrezzo in prevendita 20\,70€ – biglietti in cassa 22€
URL:https://www.metalhead.it/evento/mortuary-drape-cultus-sanguine-torino/
LOCATION:Ziggy Club\, via Madama Cristina 66\, Torino\, TO\, Italia
ATTACH;FMTTYPE=image/jpeg:https://www.metalhead.it/wp-content/uploads/2024/10/Nmortuarydrapecultussanguine_20241026.jpg
END:VEVENT
BEGIN:VEVENT
DTSTART;TZID=Europe/Rome:20241102T193000
DTEND;TZID=Europe/Rome:20241102T233000
DTSTAMP:20260425T172158
CREATED:20240925T175344Z
LAST-MODIFIED:20240925T175344Z
UID:290411-1730575800-1730590200@www.metalhead.it
SUMMARY:GILBY CLARKE @ Roma
DESCRIPTION:All CrossRoads con Wardogs
URL:https://www.metalhead.it/evento/gilby-clarke-roma/
LOCATION:CrossRoads Live Club\, Via Braccianese Claudia\, 771\, Roma\, 00123\, Italy
ATTACH;FMTTYPE=image/jpeg:https://www.metalhead.it/wp-content/uploads/2024/09/Ngilbyclarke_20240925.jpg
END:VEVENT
BEGIN:VEVENT
DTSTART;TZID=Europe/Rome:20241101T193000
DTEND;TZID=Europe/Rome:20241101T233000
DTSTAMP:20260425T172158
CREATED:20240925T174958Z
LAST-MODIFIED:20240925T174958Z
UID:290409-1730489400-1730503800@www.metalhead.it
SUMMARY:GILBY CLARKE @ Treviso
DESCRIPTION:Presso Home Rock Club con Wardogs
URL:https://www.metalhead.it/evento/gilby-clarke-treviso/
LOCATION:Home Rock\, Via Fonderia\, 73\, Treviso\, Treviso\, 31100\, Italy
ATTACH;FMTTYPE=image/jpeg:https://www.metalhead.it/wp-content/uploads/2024/09/Ngilbyclarke_20240925.jpg
END:VEVENT
BEGIN:VEVENT
DTSTART;TZID=Europe/Rome:20241031T200000
DTEND;TZID=Europe/Rome:20241031T235900
DTSTAMP:20260425T172158
CREATED:20240924T122127Z
LAST-MODIFIED:20240924T122127Z
UID:290381-1730404800-1730419140@www.metalhead.it
SUMMARY:ABYSMAL GRIEF @ Bologna
DESCRIPTION:ABYSMAL GRIEF \n+Darkend \n+Blaze Of Sorrow \n31.10.2024 \nAlchemica Music Club\, Bologna \nEvento Facebook QUI \nApertura porte: 20.00
URL:https://www.metalhead.it/evento/abysmal-grief-bologna/
LOCATION:Alchemica\, Via dei Lapidari\, 8/B\, Bologna\, BO\, Italia
ATTACH;FMTTYPE=image/jpeg:https://www.metalhead.it/wp-content/uploads/2024/09/nAbysmalGrief_20240924.jpg
END:VEVENT
BEGIN:VEVENT
DTSTART;TZID=Europe/Rome:20241030T193000
DTEND;TZID=Europe/Rome:20241030T233000
DTSTAMP:20260425T172158
CREATED:20240417T071512Z
LAST-MODIFIED:20240417T071512Z
UID:276321-1730316600-1730331000@www.metalhead.it
SUMMARY:THE GEMS @ Milano
DESCRIPTION:Tre ex Thundermother al Legend Club \nBiglietti disponibili online solo su DICE\nprezzo del biglietto 20 euro + commissioni\, 25 euro in cassa
URL:https://www.metalhead.it/evento/the-gems-milano/
LOCATION:LEGEND CLUB\, Viale Enrico Fermi\, 98\, Milano
ATTACH;FMTTYPE=image/jpeg:https://www.metalhead.it/wp-content/uploads/2024/04/Nthegems_20240417.jpg
END:VEVENT
BEGIN:VEVENT
DTSTART;TZID=Europe/Rome:20241026T193000
DTEND;TZID=Europe/Rome:20241026T233000
DTSTAMP:20260425T172158
CREATED:20241023T190550Z
LAST-MODIFIED:20241023T190550Z
UID:291805-1729971000-1729985400@www.metalhead.it
SUMMARY:DARK WAVE NIGHT PARTY @ Torino
DESCRIPTION:Presso El Barrio \nDunkelwald + Naturamorta + Angst Joy + Estetica Noir @ El Barrio (TO) \nSabato 26 ottobre 2024 \nStart ore 21.00 \nContributo artistico: 10 € \nInfo & Contatti: Lorenzo Moffa: 329.4270625 \n  \nEvento Facebook QUI
URL:https://www.metalhead.it/evento/dark-wave-night-party-torino/
LOCATION:El Barrio\, Strada Provinciale Torino - Cuorgnè\, 81\, Torino\, 10156\, Italia
ATTACH;FMTTYPE=image/jpeg:https://www.metalhead.it/wp-content/uploads/2024/10/Ndarkwavenightparty_20241023.jpg
END:VEVENT
BEGIN:VEVENT
DTSTART;TZID=Europe/Rome:20241026T193000
DTEND;TZID=Europe/Rome:20241026T233000
DTSTAMP:20260425T172158
CREATED:20241010T175949Z
LAST-MODIFIED:20241010T175949Z
UID:291001-1729971000-1729985400@www.metalhead.it
SUMMARY:BENGALA FOLK NOIR ENSEMBLE @ Monza
DESCRIPTION:Al Teatro Binario 7 \nEvento Facebook QUI\nPrevendite 13€+ddp QUI\nIngresso 13€
URL:https://www.metalhead.it/evento/bengala-folk-noir-ensemble-monza/
LOCATION:Teatro Binario 7\, via F. Turati 8\, MOnza\, 20900\, Italy
ATTACH;FMTTYPE=image/jpeg:https://www.metalhead.it/wp-content/uploads/2024/10/Nbengalafolknoire_20241010.jpg
END:VEVENT
BEGIN:VEVENT
DTSTART;TZID=Europe/Rome:20241026T193000
DTEND;TZID=Europe/Rome:20241026T233000
DTSTAMP:20260425T172158
CREATED:20240624T182324Z
LAST-MODIFIED:20240624T182324Z
UID:284784-1729971000-1729985400@www.metalhead.it
SUMMARY:NE OBLIVISCARIS @ Paderno Dugnano (MI)
DESCRIPTION:Allo Slaughter Club \nEvento Facebook QUI
URL:https://www.metalhead.it/evento/ne-obliviscaris-paderno-dugnano-mi/
LOCATION:Slaughter Club  Via Tagliabue 4 – Paderno Dugnano (MI)\, Via Tagliabue 4\, Paderno Dugnano (MI)\, MI\, Italia
ATTACH;FMTTYPE=image/jpeg:https://www.metalhead.it/wp-content/uploads/2024/06/Nneobliviscaris_20240624.jpg
END:VEVENT
BEGIN:VEVENT
DTSTART;TZID=Europe/Rome:20241025T193000
DTEND;TZID=Europe/Rome:20241025T233000
DTSTAMP:20260425T172158
CREATED:20241023T180352Z
LAST-MODIFIED:20241023T180352Z
UID:291786-1729884600-1729899000@www.metalhead.it
SUMMARY:CELESTE @ Torino
DESCRIPTION:Allo Ziggy Club con Infection Code \nIngresso riservato ai soci ARCI – Apertura porte 21.00 \nEvento Facebook QUI \nPrevednite QUI \nPrezzo in prevendita 17€ + ddp – biglietti in cassa 20€
URL:https://www.metalhead.it/evento/celeste-torino/
LOCATION:Ziggy Club\, via Madama Cristina 66\, Torino\, TO\, Italia
ATTACH;FMTTYPE=image/jpeg:https://www.metalhead.it/wp-content/uploads/2024/10/Nceleste_20241023.jpg
END:VEVENT
BEGIN:VEVENT
DTSTART;TZID=Europe/Rome:20241025T193000
DTEND;TZID=Europe/Rome:20241025T233000
DTSTAMP:20260425T172158
CREATED:20240808T154827Z
LAST-MODIFIED:20240808T154827Z
UID:287919-1729884600-1729899000@www.metalhead.it
SUMMARY:KING DUNN @ Milano
DESCRIPTION:Al Santeria \nEvento Facebook QUI
URL:https://www.metalhead.it/evento/king-dunn-milano/
LOCATION:Santeria\, Viale Toscana\, 31\, Milano\, 20136\, Italia
ATTACH;FMTTYPE=image/jpeg:https://www.metalhead.it/wp-content/uploads/2024/08/Nkingbuzzotrevordunn_20240808.jpg
END:VEVENT
BEGIN:VEVENT
DTSTART;TZID=Europe/Rome:20241025T193000
DTEND;TZID=Europe/Rome:20241025T233000
DTSTAMP:20260425T172158
CREATED:20240226T131035Z
LAST-MODIFIED:20240226T131035Z
UID:272952-1729884600-1729899000@www.metalhead.it
SUMMARY:KING BUZZO & TREVOR DUNN @ Milano
DESCRIPTION:SANTERIA TOSCANA \nViale Toscana\, 31\, 20136 Milano \nEvento Facebook QUI
URL:https://www.metalhead.it/evento/king-buzzo-trevor-dunn-milano/
LOCATION:Santeria\, Viale Toscana\, 31\, Milano\, 20136\, Italia
ATTACH;FMTTYPE=image/jpeg:https://www.metalhead.it/wp-content/uploads/2024/02/Nkingbuzzotrevordunn_20240226.jpg
END:VEVENT
BEGIN:VEVENT
DTSTART;TZID=Europe/Rome:20241024T193000
DTEND;TZID=Europe/Rome:20241024T233000
DTSTAMP:20260425T172158
CREATED:20240808T155525Z
LAST-MODIFIED:20240808T155525Z
UID:287922-1729798200-1729812600@www.metalhead.it
SUMMARY:KING DUNN @ Roma
DESCRIPTION:Al Largo Venue \nEvento Facebook QUI
URL:https://www.metalhead.it/evento/king-dunn-roma/
LOCATION:Largo venue\, Via Biordo Michelotti\, 2\, Roma\, RM\, 00176\, Italia
ATTACH;FMTTYPE=image/jpeg:https://www.metalhead.it/wp-content/uploads/2024/08/Nkingbuzzotrevordunn_20240808.jpg
END:VEVENT
BEGIN:VEVENT
DTSTART;TZID=Europe/Rome:20241024T193000
DTEND;TZID=Europe/Rome:20241024T233000
DTSTAMP:20260425T172158
CREATED:20240226T130745Z
LAST-MODIFIED:20240226T130745Z
UID:272950-1729798200-1729812600@www.metalhead.it
SUMMARY:KING BUZZO & TREVOR DUNN @ Roma
DESCRIPTION:LARGO VENUE \nVia Biordo Michelotti\, 2\, 00176 Roma \nEvento Facebook QUI
URL:https://www.metalhead.it/evento/king-buzzo-trevor-dunn-roma/
LOCATION:Largo venue\, Via Biordo Michelotti\, 2\, Roma\, RM\, 00176\, Italia
ATTACH;FMTTYPE=image/jpeg:https://www.metalhead.it/wp-content/uploads/2024/02/Nkingbuzzotrevordunn_20240226.jpg
END:VEVENT
BEGIN:VEVENT
DTSTART;TZID=Europe/Rome:20241022T193000
DTEND;TZID=Europe/Rome:20241022T233000
DTSTAMP:20260425T172158
CREATED:20240402T193538Z
LAST-MODIFIED:20240402T193538Z
UID:275597-1729625400-1729639800@www.metalhead.it
SUMMARY:SEPTICFLESH @ Milano
DESCRIPTION:Al Legend Club con Equilibrium\, Scar Of The Sun e Oceans
URL:https://www.metalhead.it/evento/septicflesh-milano/
LOCATION:LEGEND CLUB\, Viale Enrico Fermi\, 98\, Milano
ATTACH;FMTTYPE=image/jpeg:https://www.metalhead.it/wp-content/uploads/2024/04/NSepticflesh_20240402.jpg
END:VEVENT
BEGIN:VEVENT
DTSTART;TZID=Europe/Rome:20241020T193000
DTEND;TZID=Europe/Rome:20241020T233000
DTSTAMP:20260425T172158
CREATED:20240307T080915Z
LAST-MODIFIED:20240307T080915Z
UID:273828-1729452600-1729467000@www.metalhead.it
SUMMARY:NECROPHOBIC @ Roma
DESCRIPTION:Domenica 20 ottobre: Death Over Rome Festival – Largo Venue – Roma\nEvento Facebook QUI\nPrevendite disponibili su Dice
URL:https://www.metalhead.it/evento/necrophobic-roma/
LOCATION:Largo venue\, Via Biordo Michelotti\, 2\, Roma\, RM\, 00176\, Italia
ATTACH;FMTTYPE=image/jpeg:https://www.metalhead.it/wp-content/uploads/2024/03/Nnecrophobic_20240307.jpg
END:VEVENT
BEGIN:VEVENT
DTSTART;TZID=Europe/Rome:20241019T193000
DTEND;TZID=Europe/Rome:20241019T233000
DTSTAMP:20260425T172158
CREATED:20240921T065815Z
LAST-MODIFIED:20240921T065815Z
UID:290321-1729366200-1729380600@www.metalhead.it
SUMMARY:SATANIC KOMMANDO FESTIVAL @ Paderno Dugnano (MI)
DESCRIPTION:Satanic Kommando 2024\nSabato 19 ottobre\nDESTRÖYER 666\, HATRED\, FUNEST\, NUCLEAR STORM + Guest\nSlaughter Club – Paderno Dugnano (MI) \nEvento Facebook QUI \nBIGLIETTI\nBiglietto in prevendita: €30\,00 + d.p. | In cassa la sera dello show: €35\,00\nI biglietti saranno disponibili sulla piattaforma Dice a questo indirizzo
URL:https://www.metalhead.it/evento/satanic-kommando-festival-paderno-dugnano-mi/
LOCATION:Slaughter Club  Via Tagliabue 4 – Paderno Dugnano (MI)\, Via Tagliabue 4\, Paderno Dugnano (MI)\, MI\, Italia
ATTACH;FMTTYPE=image/jpeg:https://www.metalhead.it/wp-content/uploads/2024/09/Nsatanickomandof_20240921.jpg
END:VEVENT
BEGIN:VEVENT
DTSTART;TZID=Europe/Rome:20241019T193000
DTEND;TZID=Europe/Rome:20241019T233000
DTSTAMP:20260425T172158
CREATED:20240729T175937Z
LAST-MODIFIED:20240729T175937Z
UID:287357-1729366200-1729380600@www.metalhead.it
SUMMARY:JORELIA @ Modena
DESCRIPTION:Al Centrale 66 con Dedalus Project e Waves in Autumn \nA seguire dj set by The Abyss. \nPrevisto un contributo per le band di 8€ \nEvento Facebook QUI
URL:https://www.metalhead.it/evento/jorelia-modena/
LOCATION:Centrale 66\, via Nicolò dell’Abate 66\, Modena\, Italia
ATTACH;FMTTYPE=image/jpeg:https://www.metalhead.it/wp-content/uploads/2024/07/Njorelia_20240729.jpg
END:VEVENT
BEGIN:VEVENT
DTSTART;TZID=Europe/Rome:20241019T193000
DTEND;TZID=Europe/Rome:20241019T233000
DTSTAMP:20260425T172158
CREATED:20240307T080715Z
LAST-MODIFIED:20240307T080715Z
UID:273827-1729366200-1729380600@www.metalhead.it
SUMMARY:NECROPHOBIC @ Bologna
DESCRIPTION:Sabato 19 ottobre: Alchemica Music Club – Bologna\nEvento Facebook QUI\nPrevendite disponibili via mail a alchemicainfoprev@gmail.com
URL:https://www.metalhead.it/evento/necrophobic-bologna/
LOCATION:Alchemica\, Via dei Lapidari\, 8/B\, Bologna\, BO\, Italia
ATTACH;FMTTYPE=image/jpeg:https://www.metalhead.it/wp-content/uploads/2024/03/Nnecrophobic_20240307.jpg
END:VEVENT
BEGIN:VEVENT
DTSTART;TZID=Europe/Rome:20241018T193000
DTEND;TZID=Europe/Rome:20241018T233000
DTSTAMP:20260425T172158
CREATED:20240307T080517Z
LAST-MODIFIED:20240307T080517Z
UID:273824-1729279800-1729294200@www.metalhead.it
SUMMARY:NECROPHOBIC @ Paderno Dugnano (MI)
DESCRIPTION:Venerdì 18 ottobre: WFR NIGHT – Slaughter Club – Milano\nEvento Facebook QUI\nPrevendite disponibili su Dice
URL:https://www.metalhead.it/evento/necrophobic-paderno-dugnano-mi/
LOCATION:Slaughter Club  Via Tagliabue 4 – Paderno Dugnano (MI)\, Via Tagliabue 4\, Paderno Dugnano (MI)\, MI\, Italia
ATTACH;FMTTYPE=image/jpeg:https://www.metalhead.it/wp-content/uploads/2024/03/Nnecrophobic_20240307.jpg
END:VEVENT
BEGIN:VEVENT
DTSTART;VALUE=DATE:20241017
DTEND;VALUE=DATE:20241019
DTSTAMP:20260425T172158
CREATED:20240329T123257Z
LAST-MODIFIED:20240329T123257Z
UID:275068-1729123200-1729295999@www.metalhead.it
SUMMARY:AUTUMN BLACK CÆRIMONIA @ Paderno Dugnano (MI)
DESCRIPTION:Allo Slaughter club con 1349\, Kampfar\, Afsky\, Necrophobic\, Hierophant + TBA \nAi primi 100 abbonamenti con ingresso per entrambi i giorni sarà riservato un prezzo speciale scontato. \nLink prevendite abbonamento QUI\, Evento Facebook QUI dove è anche possibile acquistare biglietti giornalieri \nINGRESSO CON TESSERA ACSI – possibilità di cenare al locale – ampio parcheggio FREE \nSlaughter Club – Via Tagliabue 4\, Paderno Dugnano (MI) \nEvento di WFR – Supports The Underground e Slaughter Club in collaborazione con Erocks Production\, Orion Agency e K2 Management.
URL:https://www.metalhead.it/evento/autumn-black-caerimonia-paderno-dugnano-mi/
LOCATION:Slaughter Club  Via Tagliabue 4 – Paderno Dugnano (MI)\, Via Tagliabue 4\, Paderno Dugnano (MI)\, MI\, Italia
ATTACH;FMTTYPE=image/jpeg:https://www.metalhead.it/wp-content/uploads/2024/03/Nautumnblackcaerimonia_20240329.jpg
END:VEVENT
BEGIN:VEVENT
DTSTART;TZID=Europe/Rome:20241015T193000
DTEND;TZID=Europe/Rome:20241015T233000
DTSTAMP:20260425T172158
CREATED:20240801T184944Z
LAST-MODIFIED:20240801T184944Z
UID:287735-1729020600-1729035000@www.metalhead.it
SUMMARY:ANATOMIA @ Milano
DESCRIPTION:Al Barrio’s Live con Ossuary e Morbus Grave \nEvento Facebook QUI \n 
URL:https://www.metalhead.it/evento/anatomia-milano/
LOCATION:Barrio’s\, Piazza Donne Partigiane\, Milano\, 20142\, Italia
ATTACH;FMTTYPE=image/jpeg:https://www.metalhead.it/wp-content/uploads/2024/08/Nanatomia_20240801.jpg
END:VEVENT
BEGIN:VEVENT
DTSTART;TZID=Europe/Rome:20241015T193000
DTEND;TZID=Europe/Rome:20241015T233000
DTSTAMP:20260425T172158
CREATED:20240402T190959Z
LAST-MODIFIED:20240402T190959Z
UID:275587-1729020600-1729035000@www.metalhead.it
SUMMARY:CANNIBAL CORPSE @ Milano
DESCRIPTION:All’Alcatraz con Immolation\, Schizophrenia\, Municipal Waste.
URL:https://www.metalhead.it/evento/cannibal-corpse-milano/
LOCATION:Alcatraz\, via Valtellina 25\, Milano\, MI\, Italia
ATTACH;FMTTYPE=image/jpeg:https://www.metalhead.it/wp-content/uploads/2024/04/Ncannibalcorpse_20299492.jpg
END:VEVENT
BEGIN:VEVENT
DTSTART;TZID=Europe/Rome:20241012T200000
DTEND;TZID=Europe/Rome:20241012T233000
DTSTAMP:20260425T172158
CREATED:20241010T180226Z
LAST-MODIFIED:20241010T180226Z
UID:291004-1728763200-1728775800@www.metalhead.it
SUMMARY:METHODICA @ Schio (VI)
DESCRIPTION:Release party del nuovo album “Hypocriscity” dei Methodica al CSA Arcadia di Schio\, in provincia di Vicenza. \n  \nOrari dell’evento: \nApertura porte: 20:30 \nSeeds: 21:00 – 21:40 \nEarthache: 22:00 – 22:40 \nMethodica: 23:00 \n  \nIngresso 10€ in cassa\, no tessere \nEvento Facebook QUI
URL:https://www.metalhead.it/evento/methodica-schio-vi/
LOCATION:CSA Arcadia\, Via Lago di Tovel\, 18\, Schio (VI)\, 36015\, Italia
ATTACH;FMTTYPE=image/jpeg:https://www.metalhead.it/wp-content/uploads/2024/10/Nmethodica_202410109.jpg
END:VEVENT
BEGIN:VEVENT
DTSTART;TZID=Europe/Rome:20241012T180000
DTEND;TZID=Europe/Rome:20241012T233000
DTSTAMP:20260425T172158
CREATED:20240904T184413Z
LAST-MODIFIED:20240904T184413Z
UID:289349-1728756000-1728775800@www.metalhead.it
SUMMARY:TYROL BLAST FEST V @ Egna (BZ)
DESCRIPTION:con Skanners\, Bullet-Proof\, Worbeth a Egna in provincia di Bolzano \nEvento Facebook QUI \n \n 
URL:https://www.metalhead.it/evento/tyrol-blast-fest-v-egna-bz/
LOCATION:Egna (BZ)\, Egna\, 39044
END:VEVENT
BEGIN:VEVENT
DTSTART;TZID=Europe/Rome:20241011T203000
DTEND;TZID=Europe/Rome:20241011T233000
DTSTAMP:20260425T172158
CREATED:20240722T200804Z
LAST-MODIFIED:20240722T201112Z
UID:286560-1728678600-1728689400@www.metalhead.it
SUMMARY:ATMF FEST @ Pordenone
DESCRIPTION:Tune Music Club di Pordenone con:\nCultus Sanguine\, Deadly Carnage\, Unviar Blutsauger \nL’evento avrà inizio alle 20:30\, il biglietto di ingresso è di 12 Euro\, non sono previste prevendite. \nDettagli sul Tune Music Club QUI\nIndirizzo: Via Udine 128\, 33170 Pordenone\, Friuli-Venezia Giulia\, Italia\nEvento Facebook QUI
URL:https://www.metalhead.it/evento/atmf-fest-pordenone/
LOCATION:Tune Music Lab\, Via Udine\, 128\, Pordenone\, PN\, 33170\, Italy
END:VEVENT
BEGIN:VEVENT
DTSTART;VALUE=DATE:20241011
DTEND;VALUE=DATE:20241013
DTSTAMP:20260425T172158
CREATED:20240207T191947Z
LAST-MODIFIED:20241010T062348Z
UID:272052-1728604800-1728777599@www.metalhead.it
SUMMARY:ARCANUM FEST II @ Bologna
DESCRIPTION:ARCANUM FEST \nAlchemica Music Club di Bologna\, in via dei Lapidari 8/b. \nDAY 1 – 11 ottobre \nApertura porte 19:00 \nDuir 19:15-19:45 \nServant 20:00-20:30 \nGroza 20:50-21:50 \nEllende 22:20-23:30 \n\nDAY 2 – 12 ottobre \nApertura porte 19:00 \nAbove Aurora 19:05-19:35 \nNel buio 20:00-20:30 \nPonte Del Diavolo 20:50-21:20 \nCvinger 21:40-22:20 \nOwls Woods Graves 22:45-23:30 \nTsjuder 24:00-1:00 \n  \nBiglietti \n1* giorno 25 euro in prevendita | 30 euro in cassa \n2* giorno 30 euro in prevendita | 35 euro in cassa \nSono ancora disponibili gli ultimi abbonamenti al costo di 50 euro per le due giornate di festival.  \nAcquisto biglietti: scrivere a alchemicainfoprev@gmail.com \nEvento Facebook QUI \n 
URL:https://www.metalhead.it/evento/arcanum-fest-ii-bologna/
LOCATION:Alchemica\, Via dei Lapidari\, 8/B\, Bologna\, BO\, Italia
ATTACH;FMTTYPE=image/jpeg:https://www.metalhead.it/wp-content/uploads/2024/10/nArcanumFest_20241010_1.jpg
END:VEVENT
BEGIN:VEVENT
DTSTART;TZID=Europe/Rome:20241007T193000
DTEND;TZID=Europe/Rome:20241007T233000
DTSTAMP:20260425T172158
CREATED:20240530T194611Z
LAST-MODIFIED:20240530T194611Z
UID:278479-1728329400-1728343800@www.metalhead.it
SUMMARY:ROTTING CHRIST / BORKNAGAR @ Bologna
DESCRIPTION:Al Locomotiv con i Seth \nEvento Facebook QUI
URL:https://www.metalhead.it/evento/rotting-christ-borknagar-bologna/
LOCATION:FE
ATTACH;FMTTYPE=image/jpeg:https://www.metalhead.it/wp-content/uploads/2024/05/Nrottingchrist_20240530.jpg
END:VEVENT
BEGIN:VEVENT
DTSTART;TZID=Europe/Rome:20241006T193000
DTEND;TZID=Europe/Rome:20241006T233000
DTSTAMP:20260425T172158
CREATED:20240601T054752Z
LAST-MODIFIED:20240601T054752Z
UID:278517-1728243000-1728257400@www.metalhead.it
SUMMARY:BATUSHKA @ Paderno Dugnano (MI)
DESCRIPTION:Allo Slaughter Club con Vltimas e God Dethroned
URL:https://www.metalhead.it/evento/batushka-paderno-dugnano-mi/
LOCATION:Slaughter Club  Via Tagliabue 4 – Paderno Dugnano (MI)\, Via Tagliabue 4\, Paderno Dugnano (MI)\, MI\, Italia
ATTACH;FMTTYPE=image/jpeg:https://www.metalhead.it/wp-content/uploads/2024/06/Nvltimas_20240601.jpg
END:VEVENT
END:VCALENDAR