BEGIN:VCALENDAR
VERSION:2.0
PRODID:-//Metalhead - ECPv6.15.20//NONSGML v1.0//EN
CALSCALE:GREGORIAN
METHOD:PUBLISH
X-WR-CALNAME:Metalhead
X-ORIGINAL-URL:https://www.metalhead.it
X-WR-CALDESC:Eventi per Metalhead
REFRESH-INTERVAL;VALUE=DURATION:PT1H
X-Robots-Tag:noindex
X-PUBLISHED-TTL:PT1H
BEGIN:VTIMEZONE
TZID:Europe/Rome
BEGIN:DAYLIGHT
TZOFFSETFROM:+0100
TZOFFSETTO:+0200
TZNAME:CEST
DTSTART:20230326T010000
END:DAYLIGHT
BEGIN:STANDARD
TZOFFSETFROM:+0200
TZOFFSETTO:+0100
TZNAME:CET
DTSTART:20231029T010000
END:STANDARD
BEGIN:DAYLIGHT
TZOFFSETFROM:+0100
TZOFFSETTO:+0200
TZNAME:CEST
DTSTART:20240331T010000
END:DAYLIGHT
BEGIN:STANDARD
TZOFFSETFROM:+0200
TZOFFSETTO:+0100
TZNAME:CET
DTSTART:20241027T010000
END:STANDARD
BEGIN:DAYLIGHT
TZOFFSETFROM:+0100
TZOFFSETTO:+0200
TZNAME:CEST
DTSTART:20250330T010000
END:DAYLIGHT
BEGIN:STANDARD
TZOFFSETFROM:+0200
TZOFFSETTO:+0100
TZNAME:CET
DTSTART:20251026T010000
END:STANDARD
END:VTIMEZONE
BEGIN:VEVENT
DTSTART;TZID=Europe/Rome:20240928T193000
DTEND;TZID=Europe/Rome:20240928T233000
DTSTAMP:20260425T183009
CREATED:20240902T192043Z
LAST-MODIFIED:20240902T192043Z
UID:289074-1727551800-1727566200@www.metalhead.it
SUMMARY:VISION DIVINE @ Milano
DESCRIPTION:Al Legend Club con Avelon e altri
URL:https://www.metalhead.it/evento/vision-divine-milano/
LOCATION:LEGEND CLUB\, Viale Enrico Fermi\, 98\, Milano
ATTACH;FMTTYPE=image/jpeg:https://www.metalhead.it/wp-content/uploads/2024/09/Nvisiondivine_20240902.jpg
END:VEVENT
BEGIN:VEVENT
DTSTART;TZID=Europe/Rome:20240926T193000
DTEND;TZID=Europe/Rome:20240926T233000
DTSTAMP:20260425T183009
CREATED:20240508T184725Z
LAST-MODIFIED:20240508T184725Z
UID:277254-1727379000-1727393400@www.metalhead.it
SUMMARY:NILE @ Modena
DESCRIPTION:Al NotteTempio con Hideous Divinity\, Intrepid e Monastery. \nEvento Facebook QUI \nBiglietti disponibili a 30 euro + diritto di prevendita QUI | 35 euro in cassa la sera dell’evento.
URL:https://www.metalhead.it/evento/nile-modena/
LOCATION:NotteTempio\, Via Nicolò Biondo\, 194\, 41126 Modena\, Modena\, 41126\, Italia
ATTACH;FMTTYPE=image/jpeg:https://www.metalhead.it/wp-content/uploads/2024/05/Nnile_20240508.jpg
END:VEVENT
BEGIN:VEVENT
DTSTART;TZID=Europe/Rome:20240925T193000
DTEND;TZID=Europe/Rome:20240925T233000
DTSTAMP:20260425T183009
CREATED:20240625T192018Z
LAST-MODIFIED:20240625T192018Z
UID:284809-1727292600-1727307000@www.metalhead.it
SUMMARY:PAIN OF SALVATION @ Milano
DESCRIPTION:Al Santeria con Kingcrow.
URL:https://www.metalhead.it/evento/pain-of-salvation-milano/
LOCATION:Santeria\, Viale Toscana\, 31\, Milano\, 20136\, Italia
ATTACH;FMTTYPE=image/jpeg:https://www.metalhead.it/wp-content/uploads/2024/06/Npainofsalvation_20240625.jpg
END:VEVENT
BEGIN:VEVENT
DTSTART;TZID=Europe/Rome:20240924T193000
DTEND;TZID=Europe/Rome:20240924T233000
DTSTAMP:20260425T183009
CREATED:20240625T192121Z
LAST-MODIFIED:20240625T192121Z
UID:284808-1727206200-1727220600@www.metalhead.it
SUMMARY:PAIN OF SALVATION @ Bologna
DESCRIPTION:Al Locomotiv con Kingcrow
URL:https://www.metalhead.it/evento/pain-of-salvation-bologna/
LOCATION:Locomotiv Club\, Via Sebastiano Serlio\, 25/2\, Bologna\, 40128\, Italia
ATTACH;FMTTYPE=image/jpeg:https://www.metalhead.it/wp-content/uploads/2024/06/Npainofsalvation_20240625.jpg
END:VEVENT
BEGIN:VEVENT
DTSTART;TZID=Europe/Rome:20240923T193000
DTEND;TZID=Europe/Rome:20240923T233000
DTSTAMP:20260425T183009
CREATED:20240625T191655Z
LAST-MODIFIED:20240625T191655Z
UID:284807-1727119800-1727134200@www.metalhead.it
SUMMARY:PAIN OF SALVATION @ Roma
DESCRIPTION:Al Largo Venue con Kingcrow
URL:https://www.metalhead.it/evento/pain-of-salvation-roma/
LOCATION:Largo venue\, Via Biordo Michelotti\, 2\, Roma\, RM\, 00176\, Italia
ATTACH;FMTTYPE=image/jpeg:https://www.metalhead.it/wp-content/uploads/2024/06/Npainofsalvation_20240625.jpg
END:VEVENT
BEGIN:VEVENT
DTSTART;TZID=Europe/Rome:20240921T193000
DTEND;TZID=Europe/Rome:20240921T233000
DTSTAMP:20260425T183009
CREATED:20240712T190108Z
LAST-MODIFIED:20240712T190108Z
UID:286229-1726947000-1726961400@www.metalhead.it
SUMMARY:KRAANIUM @ Bologna
DESCRIPTION:Al FreakOut: \nKRAANIUM: \nRETURN OF THE REAL SLAMS TOUR\nKRAANIUM (EU – Unique Leader Records)\nKATAPLEXIA (FIN)\nAMPUTATED (UK)\nORAL FISTFUCK (SWI) \nIngresso: 12€ solo in cassa\nINGRESSO RISERVATO AI SOCI AICS
URL:https://www.metalhead.it/evento/kraanium-bologna/
LOCATION:Freakout Club\, Via Emilio Zago\, 7c\, Bologna\, BO\, 40128\, Italia
ATTACH;FMTTYPE=image/jpeg:https://www.metalhead.it/wp-content/uploads/2024/07/Nkraanium_20240712.jpg
END:VEVENT
BEGIN:VEVENT
DTSTART;VALUE=DATE:20240914
DTEND;VALUE=DATE:20240916
DTSTAMP:20260425T183009
CREATED:20240516T171729Z
LAST-MODIFIED:20240516T171729Z
UID:277627-1726272000-1726444799@www.metalhead.it
SUMMARY:METALITALIA FESTIVAL @ Trezzo Sull'Adda (MI)
DESCRIPTION:Al Live Music Club \nDay 1 – Sabato 14 settembre 2024\nOVERKILL\nDESTRUCTION\nMORBID SAINT\nCRIPPLE BASTARDS\nAnd many more… \nDay 2 – Domenica 15 settembre 2024\nDEATH SS – special show\nCIRITH UNGOL – farewell show\nWARLORD – In memory of William J. Tsamis\nNIGHT DEMON\nAnd many more… \nBIGLIETTI\nGiornata Singola in prevendita 49€ + d.p. | alla cassa 60€\nAbbonamento 2 giorni in prevendita 79€ + d.p. | alla cassa 90€ \n \nBiglietti disponibili su Ticketone e Mailticket. \nAcquista QUI\n \nEvento Facebook QUI
URL:https://www.metalhead.it/evento/metalitalia-festival-trezzo-sulladda-mi/
LOCATION:Live Club\, Trezzo Sull’Adda\, Trezzo sull'Adda\, Italia
ATTACH;FMTTYPE=image/jpeg:https://www.metalhead.it/wp-content/uploads/2024/05/Nmetalitaliafestival_20240516.jpg
END:VEVENT
BEGIN:VEVENT
DTSTART;TZID=Europe/Rome:20240908T193000
DTEND;TZID=Europe/Rome:20240908T233000
DTSTAMP:20260425T183009
CREATED:20240510T180421Z
LAST-MODIFIED:20240510T180421Z
UID:277431-1725823800-1725838200@www.metalhead.it
SUMMARY:SYLVAINE @ Cimadolmo (TV)
DESCRIPTION:Domenica 8 settembre\, Feffarkhorn Festival\, San Michele di Piave (Treviso)
URL:https://www.metalhead.it/evento/sylvaine-cimadolmo-tv/
LOCATION:Cimadolmo (TV)\, Cimadolmo\, Cimadolmo\, TV\, Italia
ATTACH;FMTTYPE=image/jpeg:https://www.metalhead.it/wp-content/uploads/2024/05/Nsylvaine_20240510.jpg
END:VEVENT
BEGIN:VEVENT
DTSTART;TZID=Europe/Rome:20240907T193000
DTEND;TZID=Europe/Rome:20240907T233000
DTSTAMP:20260425T183009
CREATED:20240510T174630Z
LAST-MODIFIED:20240529T191205Z
UID:277429-1725737400-1725751800@www.metalhead.it
SUMMARY:SYLVAINE @ Bologna
DESCRIPTION:Sabato 7 settembre\, Alchemica Music Club\, Bologna con Die Sünde e Bosco Sacro.\nEvento Facebook QUI \nBiglietti saranno disponibili a 18€ in prevendita e 20€ in cassa.
URL:https://www.metalhead.it/evento/sylvaine-bologna/
LOCATION:Alchemica\, Via dei Lapidari\, 8/B\, Bologna\, BO\, Italia
ATTACH;FMTTYPE=image/jpeg:https://www.metalhead.it/wp-content/uploads/2024/05/Nsylvaine_20240510.jpg
END:VEVENT
BEGIN:VEVENT
DTSTART;TZID=Europe/Rome:20240906T193000
DTEND;TZID=Europe/Rome:20240906T233000
DTSTAMP:20260425T183009
CREATED:20240510T174413Z
LAST-MODIFIED:20240510T174413Z
UID:277427-1725651000-1725665400@www.metalhead.it
SUMMARY:SYLVAINE @ Torino
DESCRIPTION:Venerdì 6 settembre\, Ziggy Club\, Torino (Special Guest: Ponte Del Diavolo).\nEvento Facebook QUI \nBiglietto disponibile a 18€ in prevendita e 20€ in cassa.
URL:https://www.metalhead.it/evento/sylvaine-torino-2/
LOCATION:Ziggy Club\, via Madama Cristina 66\, Torino\, TO\, Italia
ATTACH;FMTTYPE=image/jpeg:https://www.metalhead.it/wp-content/uploads/2024/05/Nsylvaine_20240510.jpg
END:VEVENT
BEGIN:VEVENT
DTSTART;VALUE=DATE:20240906
DTEND;VALUE=DATE:20240909
DTSTAMP:20260425T183009
CREATED:20240510T180006Z
LAST-MODIFIED:20240510T180006Z
UID:277432-1725580800-1725839999@www.metalhead.it
SUMMARY:FEFFARKHORN FESTIVAL @ Cimadolmo (TV)
DESCRIPTION:Sylvaine\, Månegarm\, Cruachan\, Kanseil + MORE TBA \nSito Ufficiale \nPagina Facebook QUI
URL:https://www.metalhead.it/evento/feffarkhorn-festival-cimadolmo-tv/
LOCATION:Cimadolmo (TV)\, Cimadolmo\, Cimadolmo\, TV\, Italia
ATTACH;FMTTYPE=image/jpeg:https://www.metalhead.it/wp-content/uploads/2024/05/Schermata-2024-05-10-alle-19.57.50.jpg
END:VEVENT
BEGIN:VEVENT
DTSTART;TZID=Europe/Rome:20240903T193000
DTEND;TZID=Europe/Rome:20240903T233000
DTSTAMP:20260425T183009
CREATED:20240606T184650Z
LAST-MODIFIED:20240606T185051Z
UID:280251-1725391800-1725406200@www.metalhead.it
SUMMARY:EUROPE @ Trento
DESCRIPTION:Al Trento\, Trentino Music Arena – via di San Vincenzo \nBiglietti disponibili su Ticketone\, Ticketmaster e Vivaticket. \nPosto unico: € 40\,00 + prev.
URL:https://www.metalhead.it/evento/europe-trento/
LOCATION:Trentino Music Arena\, Via di S. Vincenzo\, Trento\, 38123
ATTACH;FMTTYPE=image/jpeg:https://www.metalhead.it/wp-content/uploads/2024/03/Neurope_20240326.jpg
END:VEVENT
BEGIN:VEVENT
DTSTART;TZID=Europe/Rome:20240819T193000
DTEND;TZID=Europe/Rome:20240819T233000
DTSTAMP:20260425T183009
CREATED:20231212T191413Z
LAST-MODIFIED:20231212T191727Z
UID:269621-1724095800-1724110200@www.metalhead.it
SUMMARY:EXODUS @ Brescia
DESCRIPTION:Gli Exodus si esibiranno alla Festa Radio Onda d’Urto presso Area Feste Sant’Eufemia\, 25135 Brescia \nEvento Facebbok QUI\n*Informazioni sulle modalità di acquisto dei biglietti a venire nei prossimi mesi \n\n 
URL:https://www.metalhead.it/evento/exodus-brescia/
LOCATION:Area Feste Sant’Eufemia\, via Serenissima\, Brescia\, 25135
ATTACH;FMTTYPE=image/jpeg:https://www.metalhead.it/wp-content/uploads/2023/12/Nexodus_20231212.jpg
END:VEVENT
BEGIN:VEVENT
DTSTART;TZID=Europe/Rome:20240817T080000
DTEND;TZID=Europe/Rome:20240817T170000
DTSTAMP:20260425T183009
CREATED:20240607T184618Z
LAST-MODIFIED:20240720T090146Z
UID:281885-1723881600-1723914000@www.metalhead.it
SUMMARY:ROCK METAL FEST XIV @ Pulsano (TA)
DESCRIPTION:Rock Metal Fest a Pulsano (TA)\, sabato 17 agosto 2024 Organizzato dalla Onlus a Pulsano (Taranto) \nHeadliner: VISION DIVINE – Prog Power \nQuesti i gruppi (in ordine alfabetico): \n– JOLLY ROX – Cyber Glam  – Savona \n – KRYTIOS – Thrash Metal – Massafra (TA) \n – la MENADE – Alternative Dark Metal  – Roma \n – MIND CONTROL – Progressive Death Metal – Pescara \nSabato 17 Agosto 2024\nSTART ORE 20:30\nZona Industriale di Pulsano (TA) \nRiferimenti Google maps QUI \nINGRESSO GRATUITO COME SEMPRE. Nell’area del concerto saranno presenti numerosi stand con cibo e bevande ed inoltre merchandising\, magliette\, bracciali\, dischi\, fumetti\, musica e tanto altro.
URL:https://www.metalhead.it/evento/rock-metal-fest-xiv-pulsano-ta/
LOCATION:Rock Metal Fest\, Via Taranto\, 65\, Pulsano (TA)\, 74026\, Italia
ATTACH;FMTTYPE=image/jpeg:https://www.metalhead.it/wp-content/uploads/2024/07/Nrockmetalfest_20240720.jpg
END:VEVENT
BEGIN:VEVENT
DTSTART;TZID=Europe/Rome:20240816T180000
DTEND;TZID=Europe/Rome:20240816T233000
DTSTAMP:20260425T183009
CREATED:20240708T172116Z
LAST-MODIFIED:20240708T172757Z
UID:286111-1723831200-1723851000@www.metalhead.it
SUMMARY:CASTALDI METAL NIGHT XI @ Sedico (BL)
DESCRIPTION:Località Pian dei Castaldi sopra Barp di Sedico (BL)\nINFO\nINGRESSO GRATUITO\nVallorcH | Folk Metal – Venezia –\nMerciless Attack | Thrash Metal – Venezia –\nEscape From Nowhere | Nu Metal Core – Belluno – \nLe Ceneri | Blackened Death Metal – Belluno – \nBills | Passive-Aggressive Metal – Belluno –\n\nCome ogni anno il ricavato del festival sarà devoluto in beneficenza al Comitato Pollicino di Belluno. \nFacilmente raggiungibile dall’uscita dell’autostrada A27 il festival si trova QUI. \nEvento Facebook QUI
URL:https://www.metalhead.it/evento/castaldi-metal-night-xi-sedico-bl/
LOCATION:Pian dei Castaldi Music Festival\, Via Barp\, 130\, Sedico (BL)\, 32036\, Italia
ATTACH;FMTTYPE=image/jpeg:https://www.metalhead.it/wp-content/uploads/2024/07/Ncastaldimetalnight_20240708.jpg
END:VEVENT
BEGIN:VEVENT
DTSTART;TZID=Europe/Rome:20240814T193000
DTEND;TZID=Europe/Rome:20240814T233000
DTSTAMP:20260425T183009
CREATED:20240609T181035Z
LAST-MODIFIED:20240609T181405Z
UID:283408-1723663800-1723678200@www.metalhead.it
SUMMARY:SOULFLY @ Pinarella di Cervia (RA)
DESCRIPTION:Al Rock Planet
URL:https://www.metalhead.it/evento/soulfly-pinarella-di-cervia-ra/
LOCATION:Rock Planet\, Via Tritone\, 77\, Pinarella di Cervia (RA)\, 48015\, Italia
ATTACH;FMTTYPE=image/jpeg:https://www.metalhead.it/wp-content/uploads/2024/06/Nsoulfly_20240609_1.jpg
END:VEVENT
BEGIN:VEVENT
DTSTART;TZID=Europe/Rome:20240813T193000
DTEND;TZID=Europe/Rome:20240813T233000
DTSTAMP:20260425T183009
CREATED:20240222T195212Z
LAST-MODIFIED:20240222T195212Z
UID:272886-1723577400-1723591800@www.metalhead.it
SUMMARY:LEFT TO DIE @ Torino
DESCRIPTION:Allo Ziggy con Hellripper \nEvento Facebook QUI \nBIGLIETTI\nPrezzo del biglietto in prevendita: €25 | in cassa la sera dello show: €30\nLe prevendite sono disponibili su Dice\n \nUna produzione: Mostro Production\, Cerberus Booking\, Burning Tower
URL:https://www.metalhead.it/evento/left-to-die-torino/
LOCATION:Ziggy Club\, via Madama Cristina 66\, Torino\, TO\, Italia
ATTACH;FMTTYPE=image/jpeg:https://www.metalhead.it/wp-content/uploads/2024/02/Nlefttodie_20240222.jpg
END:VEVENT
BEGIN:VEVENT
DTSTART;TZID=Europe/Rome:20240811T193000
DTEND;TZID=Europe/Rome:20240811T233000
DTSTAMP:20260425T183009
CREATED:20240415T174104Z
LAST-MODIFIED:20240415T174104Z
UID:276263-1723404600-1723419000@www.metalhead.it
SUMMARY:INCANTATION @ Erba (CO)
DESCRIPTION:Domenica 11.08.24\nCENTRALE ROCK PUB\nVia Cascina California 9\n22036 Erba CO \nINCANTATION (us)\nSpecial guest: INTO DARKNESS (it) + BURIAL (it) \nEvento Facebook QUI
URL:https://www.metalhead.it/evento/incantation-erba-co/
LOCATION:Centrale 66\, via Nicolò dell’Abate 66\, Modena\, Italia
ATTACH;FMTTYPE=image/jpeg:https://www.metalhead.it/wp-content/uploads/2024/04/Nincantation_20240415.jpg
END:VEVENT
BEGIN:VEVENT
DTSTART;TZID=Europe/Rome:20240811T193000
DTEND;TZID=Europe/Rome:20240811T193000
DTSTAMP:20260425T183009
CREATED:20240307T071839Z
LAST-MODIFIED:20240806T163524Z
UID:273807-1723404600-1723404600@www.metalhead.it
SUMMARY:THE BLACK DAHLIA MURDER @ Paderno Dugnano (MI)
DESCRIPTION:ＷＥ  ＡＲＥ  ＤＥＡＴＨＣＯＲ E \n17.00 Apertura porte\n17.30 BOWIE \n18.20 AASAR \n19.10 GRAVERY (“Everything That Is Born Must Die” EP release show)\n20.00 SCORN\n20.50 PROLIFERHATE\n21.40 DISTANT\n22.40 THE BLACK DAHLIA MURDER \n\nBIGLIETTI QUI\nINGRESSO con tessera ACSI  \nTesseramento online QUI \nPowered by:\nBAM Booking • Versus Music Project • Baratro Merch \nPossibilità di cenare al locale  \nAmpio parcheggio FREE\nTaxi 02 6969 \nSlaughter Club\nPaderno Dugnano (MI)\nVia Tagliabue 4 \n \n 
URL:https://www.metalhead.it/evento/the-black-dahlia-murder-paderno-dugnano-mi/
LOCATION:Slaughter Club  Via Tagliabue 4 – Paderno Dugnano (MI)\, Via Tagliabue 4\, Paderno Dugnano (MI)\, MI\, Italia
ATTACH;FMTTYPE=image/jpeg:https://www.metalhead.it/wp-content/uploads/2024/08/Nwearedeathcore_20240806.jpg
END:VEVENT
BEGIN:VEVENT
DTSTART;TZID=Europe/Rome:20240805T190000
DTEND;TZID=Europe/Rome:20240805T235900
DTSTAMP:20260425T183009
CREATED:20240313T093413Z
LAST-MODIFIED:20240315T170438Z
UID:274069-1722884400-1722902340@www.metalhead.it
SUMMARY:ABBATH @ Lignano Sabbiadoro (UD)
DESCRIPTION:Abbath performs Immortal: i brani degli Immortal per la prima volta in nove anni! \nDi spalla i Deicide e TBA \nARENA ALPE\, LIGNANO SABBIADORO \nViale Europa 26\, 33054 Lignano Sabbiadoro (UD) \nEvento Facebook QUI \nPrevendite esclusivamente su Ticketone 
URL:https://www.metalhead.it/evento/abbath-lignano-sabbiadoro-ud/
LOCATION:ARENA ALPE\, Viale Europa 26\, Lignano Sabbiadoro\, UD\, 33054\, Italia
ATTACH;FMTTYPE=image/jpeg:https://www.metalhead.it/wp-content/uploads/2024/03/nABBATH_20240313.jpg
END:VEVENT
BEGIN:VEVENT
DTSTART;TZID=Europe/Rome:20240804T120000
DTEND;TZID=Europe/Rome:20240804T233000
DTSTAMP:20260425T183009
CREATED:20240206T181616Z
LAST-MODIFIED:20240206T181910Z
UID:271981-1722772800-1722814200@www.metalhead.it
SUMMARY:WOLFMOTHER @ Majano (UD)
DESCRIPTION:La band suonerà al Festival di Majano
URL:https://www.metalhead.it/evento/wolfmother-majano-ud/
LOCATION:Associazione Pro Majano\, Via P. Zorutti\, 4\, Majano (UD)\, 33030\, Italia
ATTACH;FMTTYPE=image/jpeg:https://www.metalhead.it/wp-content/uploads/2024/02/Nwolfmother_20240206.jpg
END:VEVENT
BEGIN:VEVENT
DTSTART;TZID=Europe/Rome:20240726T193000
DTEND;TZID=Europe/Rome:20240726T233000
DTSTAMP:20260425T183009
CREATED:20240609T175847Z
LAST-MODIFIED:20240609T175847Z
UID:283403-1722022200-1722036600@www.metalhead.it
SUMMARY:IGNITE @ Roma
DESCRIPTION:Al Traffic Club \nEvento Facebook QUI
URL:https://www.metalhead.it/evento/ignite-roma/
LOCATION:TRAFFIC CLUB\, Via Prenestina\, 738\, Roma\, RM\, 00155\, Italia
ATTACH;FMTTYPE=image/jpeg:https://www.metalhead.it/wp-content/uploads/2024/06/Nignite_20240610.jpg
END:VEVENT
BEGIN:VEVENT
DTSTART;TZID=Europe/Rome:20240726T150000
DTEND;TZID=Europe/Rome:20240728T235900
DTSTAMP:20260425T183009
CREATED:20240311T175451Z
LAST-MODIFIED:20240311T175451Z
UID:273950-1722006000-1722211140@www.metalhead.it
SUMMARY:PADOVA METAL FEST XI @ Padova
DESCRIPTION:PADOVA METAL FEST \nParco Degli Alpini di Padova \nultimo fine settimana di luglio \nVENERDÌ 26 LUGLIO 2024 \nDEATHLESS LEGACY  \nTHE MOOR \nHAND OF JUNO  \nBULLTIED  \nTHE DOPERIDERS  \nSABATO 27 LUGLIO 2024 \nPINO SCOTTO  \nBURNING BLACK  \nGREAT MASTER  \nBROKEN WINGS  \nTHE SHAMELESS  \nDOMENICA 28 LUGLIO 2024 \nANCIENT  \nDARKEND  \nVOJTEK  \nASKESIS  \nKRYPTONOMICON  \nEvento Facebook QUI \nAll’interno del parco\, durante la tre giorni\, oltre alla ristorazione gestita da APS Rilabo\, saranno presenti numerosi stand di abbigliamento\, dischi\, esposizioni di opere d’arte ed in particolare uno spazio interamente dedicato al fotografo delle rockstar ALEX RUFFINI a cura dell’associazione benefica CANCER DRUGS & ROCK N’ ROLL.
URL:https://www.metalhead.it/evento/padova-metal-fest-xi-padova/
LOCATION:Parco degli Alpini Padova\, via capitello\, Padova\, PD\, 35136\, Italia
ATTACH;FMTTYPE=image/jpeg:https://www.metalhead.it/wp-content/uploads/2024/03/nPadovaMetalFest2024_20240311.jpg
END:VEVENT
BEGIN:VEVENT
DTSTART;VALUE=DATE:20240724
DTEND;VALUE=DATE:20240729
DTSTAMP:20260425T183009
CREATED:20240311T181058Z
LAST-MODIFIED:20240311T181058Z
UID:273957-1721779200-1722211199@www.metalhead.it
SUMMARY:TOLMINATOR FESTIVAL @ Tolmino (Slovenia)
DESCRIPTION:BEHEMOTH\, TESTAMENT\, ELECTRIC WIZARD\, EXODUS\, DARK TRANQUILLITY\, PRIMORDIAL\, RISE OF THE NORTHSTAR\, TANKARD\, ASPHYX\, SUFFOCATION\, DESTRÖYER 666\, MISERY INDEX\, HARAKIRI FOR THE SKY\, GUTALAX\, GAEREA\, STONED JESUS\, TOXIC HOLOCAUST\, LIK\, MILKING THE GOAT MACHINE. SINISTER\, JUNGLE ROT\, DOPELORD\, DEVIL MASTER\, DÖDSRIT\, STILLBIRTH\, NECROT\, DUST BOLT\, MONOCHROMATIC BLACK\, MEZZROW\, NEMESIS\, INFEST\, DUSK\, DARK INSANITY\, TOTAL ANNIHILATION\, CARRION\, BATTLESWORD\, ASTRAL PARALYSIS\, BEHIND BARS\, CHRONIC HATE\, CONTRACT KILLER\, DETHRONE THE CORRUPTED\, DEZAZTRE NATURAL\, ETERNAL STRUGGLE\, FALSE CROWN\, KAMRA\, NEKRODEUS\, PATRONESS\, PUBLIC GRAVE. SAMPERIUM\, SLAVE TO SIRENS\, SOVRAG\, THY LEGION \nTolminator Festival\nDal 24 al 28 luglio\nTolmino – Slovenia \nBiglietti:\nGiornaliero 70€\nAbbonamento: 170€\nLe prevendite sono disponibili a questo indirizzo \nEvento Facebook QUI \nInfo:\nBiglietti\, indicazioni su come raggiungere il festival\, contatti\, accomodation e tutto quello che riguarda il Tolminator Festival è disponibile sul sito ufficiale QUI.
URL:https://www.metalhead.it/evento/tolminator-festival-tolmino-slovenia/
LOCATION:Tolmino\, Slovenia
ATTACH;FMTTYPE=image/jpeg:https://www.metalhead.it/wp-content/uploads/2024/03/Ntolminatorfestival_20240311.jpg
END:VEVENT
BEGIN:VEVENT
DTSTART;TZID=Europe/Rome:20240720T193000
DTEND;TZID=Europe/Rome:20240720T233000
DTSTAMP:20260425T183009
CREATED:20240624T180037Z
LAST-MODIFIED:20240624T180037Z
UID:284777-1721503800-1721518200@www.metalhead.it
SUMMARY:PENTAGRAM CHILE @ Erba (CO)
DESCRIPTION:Al Centrale Rock Pub con Blasphemer \nEvento Facebook QUI\nIngresso: 20€\nStart: 21:30\nApertura porte: 18:00
URL:https://www.metalhead.it/evento/pentagram-chile-erba-co/
LOCATION:Erba (CO)
ATTACH;FMTTYPE=image/jpeg:https://www.metalhead.it/wp-content/uploads/2024/06/Npentagramchile_20240624.jpg
END:VEVENT
BEGIN:VEVENT
DTSTART;TZID=Europe/Rome:20240720T180000
DTEND;TZID=Europe/Rome:20240720T233000
DTSTAMP:20260425T183009
CREATED:20240711T184711Z
LAST-MODIFIED:20240711T185721Z
UID:286212-1721498400-1721518200@www.metalhead.it
SUMMARY:MOTORCITY SUMMER FEST VOL.4 @ Torino
DESCRIPTION:Al Bunker con: \nNON SERVIUM (Madrid \, unica data italiana)\nBULL BRIGADE (Torino)\nNABAT (Bologna)\nMADBEAT (Torino)\nTHE BILLOWS (Torino) \n\nLaboratorio Grafico con:\nZerocalcare\nGigio Bonizio\nMotorcity Graphics\nINFO
URL:https://www.metalhead.it/evento/motorcity-summer-fest-vol-4-torino/
LOCATION:Bunker\, Associazione Culturale Variante\, Via Niccolò Paganini\, 0/200\, Torino\, 10154\, Italia
ATTACH;FMTTYPE=image/jpeg:https://www.metalhead.it/wp-content/uploads/2024/07/Nmotorcitysummerfest_20240711_1.jpg
END:VEVENT
BEGIN:VEVENT
DTSTART;TZID=Europe/Rome:20240719T193000
DTEND;TZID=Europe/Rome:20240719T233000
DTSTAMP:20260425T183009
CREATED:20240624T175757Z
LAST-MODIFIED:20240624T175757Z
UID:284776-1721417400-1721431800@www.metalhead.it
SUMMARY:PENTAGRAM CHILE @ Bologna
DESCRIPTION:Al Freakout Club con Necroblasphemer \nEvento Facebook QUI\nPrevendite QUI\nIngresso: 15€\nStart: 21:30\nApertura porte: 20:30
URL:https://www.metalhead.it/evento/pentagram-chile-bologna/
LOCATION:Freakout Club\, Via Emilio Zago\, 7c\, Bologna\, BO\, 40128\, Italia
ATTACH;FMTTYPE=image/jpeg:https://www.metalhead.it/wp-content/uploads/2024/06/Npentagramchile_20240624.jpg
END:VEVENT
BEGIN:VEVENT
DTSTART;TZID=Europe/Rome:20240713T120000
DTEND;TZID=Europe/Rome:20240713T233000
DTSTAMP:20260425T183009
CREATED:20240509T162040Z
LAST-MODIFIED:20240702T184340Z
UID:277320-1720872000-1720913400@www.metalhead.it
SUMMARY:AMBRIA METAL FESTIVAL @ Ambria di Zogno (BG)
DESCRIPTION:Ambria Metal Festival \nVOIVOD  23:15\nCRYPTOSIS 22:00\nDISTRUZIONE 20:55\nEXILED ON EARTH 20:00\nRAWFOIL 19:10 \nApertura Cancelli: 17:30 \nAmbria Metal Festival\nSabato 13 Luglio 2024\nAmbria di Zogno (BG)\nIngresso gratuito \nEvento Facebook QUI \nCerberus Booking \nAll Things Live \n \n 
URL:https://www.metalhead.it/evento/ambria-metal-festival-ambria-di-zogno-bg/
LOCATION:RM
ATTACH;FMTTYPE=image/jpeg:https://www.metalhead.it/wp-content/uploads/2024/07/Nambriametalfestival_20240702.jpg
END:VEVENT
BEGIN:VEVENT
DTSTART;VALUE=DATE:20240712
DTEND;VALUE=DATE:20240715
DTSTAMP:20260425T183009
CREATED:20240709T194958Z
LAST-MODIFIED:20240709T195623Z
UID:286142-1720742400-1721001599@www.metalhead.it
SUMMARY:PORRETTA PROG LEGACY @ Porretta Terme (BO)
DESCRIPTION:PORRETTA PROG LEGACY \nRufus Thomas Park – Porretta Terme (BO)\nBox Office: dalle 18.00\nApertura porte: 19.00 \nVenerdì 12 Luglio DAY 1\nLining Redox: 19.30\nIl Segno del Comando: 20.15\nLa Maschera di Cera: 21.00\nBalletto di Bronzo: 22.00 \nSabato 13 Luglio DAY 2\nMerging Beats: 19.30\nSintesi del Viaggio di Es 20.15\nLa Cruna del Lago: 21.00\nBanco del Mutuo Soccorso: 22.00 \nDomenica 14 Luglio DAY 3\nEvelyn Roger: 19.30\nMethodica: 20.15\nInner Vitriol: 21.00\nRiverside: 22.00
URL:https://www.metalhead.it/evento/porretta-prog-legacy-porretta-terme-bo/
LOCATION:Porretta Prog Legacy\, Porretta Terme
END:VEVENT
BEGIN:VEVENT
DTSTART;TZID=Europe/Rome:20240711T190000
DTEND;TZID=Europe/Rome:20240713T230000
DTSTAMP:20260425T183009
CREATED:20240620T115708Z
LAST-MODIFIED:20240620T115708Z
UID:284224-1720724400-1720911600@www.metalhead.it
SUMMARY:ERESIA METAL FEST 2024 @ Resia (UD)
DESCRIPTION:ERESIA METAL FEST 2024 \nCampo sportivo di Resia\, Résia\, Italy \n 
URL:https://www.metalhead.it/evento/eresia-metal-fest-2024-resia-ud/
LOCATION:VAL RESIA (UD)\, Italia
ATTACH;FMTTYPE=image/jpeg:https://www.metalhead.it/wp-content/uploads/2024/06/locandinaEresia_2024.jpg
END:VEVENT
END:VCALENDAR