BEGIN:VCALENDAR
VERSION:2.0
PRODID:-//Metalhead - ECPv6.15.20//NONSGML v1.0//EN
CALSCALE:GREGORIAN
METHOD:PUBLISH
X-WR-CALNAME:Metalhead
X-ORIGINAL-URL:https://www.metalhead.it
X-WR-CALDESC:Eventi per Metalhead
REFRESH-INTERVAL;VALUE=DURATION:PT1H
X-Robots-Tag:noindex
X-PUBLISHED-TTL:PT1H
BEGIN:VTIMEZONE
TZID:Europe/Rome
BEGIN:DAYLIGHT
TZOFFSETFROM:+0100
TZOFFSETTO:+0200
TZNAME:CEST
DTSTART:20230326T010000
END:DAYLIGHT
BEGIN:STANDARD
TZOFFSETFROM:+0200
TZOFFSETTO:+0100
TZNAME:CET
DTSTART:20231029T010000
END:STANDARD
BEGIN:DAYLIGHT
TZOFFSETFROM:+0100
TZOFFSETTO:+0200
TZNAME:CEST
DTSTART:20240331T010000
END:DAYLIGHT
BEGIN:STANDARD
TZOFFSETFROM:+0200
TZOFFSETTO:+0100
TZNAME:CET
DTSTART:20241027T010000
END:STANDARD
BEGIN:DAYLIGHT
TZOFFSETFROM:+0100
TZOFFSETTO:+0200
TZNAME:CEST
DTSTART:20250330T010000
END:DAYLIGHT
BEGIN:STANDARD
TZOFFSETFROM:+0200
TZOFFSETTO:+0100
TZNAME:CET
DTSTART:20251026T010000
END:STANDARD
END:VTIMEZONE
BEGIN:VEVENT
DTSTART;TZID=Europe/Rome:20240525T193000
DTEND;TZID=Europe/Rome:20240525T233000
DTSTAMP:20260426T062355
CREATED:20240202T194426Z
LAST-MODIFIED:20240202T194426Z
UID:271842-1716665400-1716679800@www.metalhead.it
SUMMARY:TIME TO KILL RECORDS @ Torino
DESCRIPTION:Evento sponsorizzato dalla Time To Kill Records allo Ziggy di Torino con Undertakers e Sepolcral. \nEvento Facebook QUI \nBiglietti disponibili a 10 euro in prevendita | 12 euro in cassa
URL:https://www.metalhead.it/evento/time-to-kill-records-torino/
LOCATION:Ziggy Club\, via Madama Cristina 66\, Torino\, TO\, Italia
ATTACH;FMTTYPE=image/jpeg:https://www.metalhead.it/wp-content/uploads/2024/02/Ntimetokillnight_20240202.jpg
END:VEVENT
BEGIN:VEVENT
DTSTART;TZID=Europe/Rome:20240525T190000
DTEND;TZID=Europe/Rome:20240525T235900
DTSTAMP:20260426T062355
CREATED:20240212T145254Z
LAST-MODIFIED:20240212T145254Z
UID:272284-1716663600-1716681540@www.metalhead.it
SUMMARY:AC/DC @ Reggio Emilia
DESCRIPTION:AC/DC \nSabato 25 Maggio 2024 \nReggio Emilia\, Italy – RCF Arena
URL:https://www.metalhead.it/evento/ac-dc-reggio-emilia/
LOCATION:RCF Arena\, Via dell'Aeronautica\, Reggio Emilia\, RE\, 42122\, Italia
ATTACH;FMTTYPE=image/jpeg:https://www.metalhead.it/wp-content/uploads/2024/02/nACDC_20240212.jpg
END:VEVENT
BEGIN:VEVENT
DTSTART;TZID=Europe/Rome:20240525T190000
DTEND;TZID=Europe/Rome:20240525T233000
DTSTAMP:20260426T062355
CREATED:20240208T141721Z
LAST-MODIFIED:20240208T141721Z
UID:272101-1716663600-1716679800@www.metalhead.it
SUMMARY:SECRET SPHERE @ Bologna
DESCRIPTION:SECRET SPHERE + INNER VITRIOL\, MVP \n25 Maggio\nAlchemica Music Club – Bologna\nEvento Facebook QUI \n  \n \n 
URL:https://www.metalhead.it/evento/secret-sphere-bologna/
LOCATION:Alchemica\, Via dei Lapidari\, 8/B\, Bologna\, BO\, Italia
ATTACH;FMTTYPE=image/jpeg:https://www.metalhead.it/wp-content/uploads/2024/02/nSECRETSPHERE_20240208_1.jpg
END:VEVENT
BEGIN:VEVENT
DTSTART;TZID=Europe/Rome:20240524T210000
DTEND;TZID=Europe/Rome:20240524T233000
DTSTAMP:20260426T062355
CREATED:20231227T090441Z
LAST-MODIFIED:20231227T090441Z
UID:270239-1716584400-1716593400@www.metalhead.it
SUMMARY:GAME OVER @ Modena
DESCRIPTION:Al Centrale 66 con Explorer e Ignobleth   \nINGRESSO 10 Euro\nEvento Facebook QUI
URL:https://www.metalhead.it/evento/game-over-modena/
LOCATION:Centrale 66\, via Nicolò dell’Abate 66\, Modena\, Italia
ATTACH;FMTTYPE=image/jpeg:https://www.metalhead.it/wp-content/uploads/2023/12/Ngameover_20231227.jpg
END:VEVENT
BEGIN:VEVENT
DTSTART;TZID=Europe/Rome:20240524T190000
DTEND;TZID=Europe/Rome:20240524T233000
DTSTAMP:20260426T062355
CREATED:20240208T141909Z
LAST-MODIFIED:20240208T141909Z
UID:272104-1716577200-1716593400@www.metalhead.it
SUMMARY:SECRET SPHERE @ San Marino
DESCRIPTION:SECRET SPHERE + INNER VITRIOL\, MVP \n24 Maggio\nSkulls Club San Marino\nEvento Facebook QUI \n  \n \n 
URL:https://www.metalhead.it/evento/secret-sphere-san-marino/
LOCATION:Skulls Club\, strada degli angariari 25\, Serravalle\, 47891\, San Marino
ATTACH;FMTTYPE=image/jpeg:https://www.metalhead.it/wp-content/uploads/2024/02/nSECRETSPHERE_20240208_1.jpg
END:VEVENT
BEGIN:VEVENT
DTSTART;TZID=Europe/Rome:20240524T120000
DTEND;TZID=Europe/Rome:20240625T233000
DTSTAMP:20260426T062355
CREATED:20240228T164518Z
LAST-MODIFIED:20240228T164518Z
UID:273015-1716552000-1719358200@www.metalhead.it
SUMMARY:VENEZIA HARDCORE FEST @ Venezia
DESCRIPTION:Edizione 2024 al Centro Sociale Rivolta con: \nINFEST (unico show per il 2024)\, BLOWFUSE\, GRADE2\, RIVIERA\, BOLOGNA VIOLENTA\, GRUMO\, GUERRA\, INFALL\, INSTRUCTOR\, MIND KNOT NARKAN\, ORGAN\, OZONE DEHUMANIZER& ALFMOB\, PEASANT\, PEST CONTROL\, PROSPECTIVE\, PROWL\, RADURA\, RAINSWEPT\, RESCUE CAT\, SLOWCHAMBER\, SKULLD\, THE DEVIL’S\, TONS\, UGUAGLIANZA\, UNDERTAKERS\, WOJTEK\, WORLD PEACE
URL:https://www.metalhead.it/evento/venezia-hardcore-fest-venezia/
LOCATION:Centro Sociale Rivolta\, Via Fratelli Bandiera\, 45\, Venezia\, 30175\, Italia
ATTACH;FMTTYPE=image/jpeg:https://www.metalhead.it/wp-content/uploads/2024/02/Nveneziahardcorefest_20240228.jpg
END:VEVENT
BEGIN:VEVENT
DTSTART;TZID=Europe/Rome:20240523T193000
DTEND;TZID=Europe/Rome:20240523T233000
DTSTAMP:20260426T062355
CREATED:20240109T173512Z
LAST-MODIFIED:20240109T173512Z
UID:270598-1716492600-1716507000@www.metalhead.it
SUMMARY:WOLVES IN THE THRONE ROOM @ Parma
DESCRIPTION:Al Campus con Gaerea e Mortiferum
URL:https://www.metalhead.it/evento/wolves-in-the-throne-room-parma/
LOCATION:Campus
ATTACH;FMTTYPE=image/jpeg:https://www.metalhead.it/wp-content/uploads/2024/01/Nwolvesinthetrhoneroom_20240109.jpg
END:VEVENT
BEGIN:VEVENT
DTSTART;TZID=Europe/Rome:20240522T193000
DTEND;TZID=Europe/Rome:20240522T233000
DTSTAMP:20260426T062355
CREATED:20231023T184223Z
LAST-MODIFIED:20231023T184223Z
UID:267911-1716406200-1716420600@www.metalhead.it
SUMMARY:GLENN HUGHES @ Milano
DESCRIPTION:All’Alcatraz
URL:https://www.metalhead.it/evento/glenn-hughes-milano/
LOCATION:Alcatraz\, via Valtellina 25\, Milano\, MI\, Italia
ATTACH;FMTTYPE=image/jpeg:https://www.metalhead.it/wp-content/uploads/2023/10/copGlennHugghes_20231023.jpg
END:VEVENT
BEGIN:VEVENT
DTSTART;TZID=Europe/Rome:20240521T193000
DTEND;TZID=Europe/Rome:20240521T233000
DTSTAMP:20260426T062355
CREATED:20231023T184052Z
LAST-MODIFIED:20231023T184052Z
UID:267910-1716319800-1716334200@www.metalhead.it
SUMMARY:GLENN HUGHES @ Ciampino (RM)
DESCRIPTION:All’Orion
URL:https://www.metalhead.it/evento/glenn-hughes-ciampino-rm/
LOCATION:ORION Viale John Fitzgerald Kennedy\, 52\, 00043 Ciampino Roma\, Viale John Fitzgerald Kennedy\, 52\,\, Ciampino Roma\, 00043
ATTACH;FMTTYPE=image/jpeg:https://www.metalhead.it/wp-content/uploads/2023/10/copGlennHugghes_20231023.jpg
END:VEVENT
BEGIN:VEVENT
DTSTART;TZID=Europe/Rome:20240519T210000
DTEND;TZID=Europe/Rome:20240519T233000
DTSTAMP:20260426T062355
CREATED:20240303T180725Z
LAST-MODIFIED:20240303T180725Z
UID:273173-1716152400-1716161400@www.metalhead.it
SUMMARY:OCTOBER TIDE @ Modena
DESCRIPTION:Al Centrale 66 \nOctober Tide + Echo + For the Storms   \nContributo band : 15 Euro  \nLink evento Facebook QUI
URL:https://www.metalhead.it/evento/october-tide-modena/
LOCATION:Centrale 66\, via Nicolò dell’Abate 66\, Modena\, Italia
ATTACH;FMTTYPE=image/jpeg:https://www.metalhead.it/wp-content/uploads/2024/03/Noctobertide_20240303.jpg
END:VEVENT
BEGIN:VEVENT
DTSTART;TZID=Europe/Rome:20240519T153000
DTEND;TZID=Europe/Rome:20240519T233000
DTSTAMP:20260426T062355
CREATED:20240419T062531Z
LAST-MODIFIED:20240419T062531Z
UID:276568-1716132600-1716161400@www.metalhead.it
SUMMARY:FEUDALESIMO E LIBERTA @ Trezzo Sull'Adda (MI)
DESCRIPTION:Feudalesimo e Libertà sabato 18/ domenica 19 Live Music Club – Trezzo sull’Adda (MI)\nBiglietti € 25 + ddp su TicketOne e Mailticket \nEvento Facebook QUI \nDOMENICA 19 MAGGIO APERTURA CANCELLI ORE 12:30 \nPALCO IMPERATORE\n13.45  CANALE TEST SHOW\n14.00  TG FEL\n14.35  STORIA D’ITALIA\n15.30  MELODICKA BROS \n16.15  contest MIGLIOR COSTUME\n16.45  REY SCIUTTO \n17.30  GOTTO ESPLOSIVO \n19.00  CORNOLTIS \n20.00  DARIDEL \n21.15  BARDOMAGNO \nPALCO HOSTARIA\n14.00  DARIDEL – acoustic –\n15.10  DUOSTERIA \n15.50  contest GARA DELLA CERVOGIA  \n16.30  RUTT MYSTERIO \n16:45  contest RUTTO SONORO\n17.50  RIMATTORE \n18.40  contest ORDALIA DEL FUOCO\n19.20  IRON MAIS \nLOCANDA NERD\n14:00 GDRRANTE 1° TAV. E BRANCALONIA 2° TAV.\n15:30 TAVOLI APERTI (FINO AL TRAMONTO)\n15:50 1347 BOARDGAME E SCRIBABS\n16:30 BRANCALONIA 2° TAV.\n17:00 GDRRANTE 2° TAV. \nAREA DELLA PUGNA\nDALLE 15:00 AL TRAMONTO\nMEDIEVAL SOFT COMBAT a cura di TAURUS MFC
URL:https://www.metalhead.it/evento/feudalesimo-e-liberta-trezzo-sulladda-mi-2/
LOCATION:Live Club\, Trezzo Sull’Adda\, Trezzo sull'Adda\, Italia
ATTACH;FMTTYPE=image/jpeg:https://www.metalhead.it/wp-content/uploads/2024/04/Nfeudalesimoeliberta_20240419_2.jpg
END:VEVENT
BEGIN:VEVENT
DTSTART;TZID=Europe/Rome:20240518T190000
DTEND;TZID=Europe/Rome:20240518T233000
DTSTAMP:20260426T062355
CREATED:20240307T195639Z
LAST-MODIFIED:20240513T180543Z
UID:273852-1716058800-1716075000@www.metalhead.it
SUMMARY:KILL THE BRAIN FEST @ Roma
DESCRIPTION:Traffic Live\nvia Prenestina 738\, Roma \n19:00 – porte\n19:45 – VIBRATACORE\n20:30 – INTRACRANIAL PURULENCY\n21:15 – DR. GORE\n22:00 – GUINEAPIG\n23:00 – EXCREMENTORY GRINDFUCKERS\n23:55 – BIRDFLESH \nPrevendite QUI
URL:https://www.metalhead.it/evento/kill-the-brain-fest-roma/
LOCATION:TRAFFIC CLUB\, Via Prenestina\, 738\, Roma\, RM\, 00155\, Italia
ATTACH;FMTTYPE=image/jpeg:https://www.metalhead.it/wp-content/uploads/2024/03/Nkillthebrain_20240307.jpg
END:VEVENT
BEGIN:VEVENT
DTSTART;TZID=Europe/Rome:20240518T173000
DTEND;TZID=Europe/Rome:20240518T233000
DTSTAMP:20260426T062355
CREATED:20240222T194207Z
LAST-MODIFIED:20240222T194207Z
UID:272882-1716053400-1716075000@www.metalhead.it
SUMMARY:OCTOBER TIDE @ Tivoli (RM)
DESCRIPTION:Al Dissesto Cult con Echo e For The Storm \nEvento Facebook QUI
URL:https://www.metalhead.it/evento/october-tide-tivoli-rm/
LOCATION:Dissesto Cult\, Via del Barco\, Strada del Barco\, 7\, 00019 Tivoli Terme\, Tivoli Terme\, 00019\, Italia
ATTACH;FMTTYPE=image/jpeg:https://www.metalhead.it/wp-content/uploads/2024/02/Noctobertide_20240222.jpg
END:VEVENT
BEGIN:VEVENT
DTSTART;TZID=Europe/Rome:20240518T163000
DTEND;TZID=Europe/Rome:20240518T233000
DTSTAMP:20260426T062355
CREATED:20240513T181812Z
LAST-MODIFIED:20240513T182133Z
UID:277554-1716049800-1716075000@www.metalhead.it
SUMMARY:MOLTO MALE FEST @ Bergamo
DESCRIPTION:Al CSA Pacì Paciana \n16:30 – apertura porte\n17:00 – CRANIAL PUTREFACTION\n17:50 – MISOPHONIA\n18:30 – PUGNALE\n19:20 – PONTE DEL DIAVOLO\n20:20 – INFALL\n21:15 – HATE&MERDA\n22:10 – GRUMO\n23:10 – RAW POWER\n00:30 – BONGZILLA\n1:45 – CROCE 666 \nAnche quest’anno il Molto Male Fest aprirà le porte al pubblico nel pomeriggio e saranno presenti bar e zona food a prezzi popolari e area merch/distro/esposizioni. Il festival si terrà anche in caso di pioggia. \nIngresso 10€ – nessuna tessera necessaria\nCena (vegan e onnivora) e bar a prezzi popolari\nSOLO CONTANTI in tutta l’area del festival \nEvento Facebook QUI\nGruppo Telegram ufficiale del MMF QUI
URL:https://www.metalhead.it/evento/molto-male-fest-bergamo/
LOCATION:CSA Pacì Paciana\, Via Mario Cermenati\, Bergamo\, 24127\, Italia
ATTACH;FMTTYPE=image/jpeg:https://www.metalhead.it/wp-content/uploads/2024/03/nMoltoMaleFest_20240326.jpg
END:VEVENT
BEGIN:VEVENT
DTSTART;TZID=Europe/Rome:20240518T153000
DTEND;TZID=Europe/Rome:20240518T233000
DTSTAMP:20260426T062355
CREATED:20240419T062147Z
LAST-MODIFIED:20240419T062147Z
UID:276566-1716046200-1716075000@www.metalhead.it
SUMMARY:FEUDALESIMO E LIBERTA @ Trezzo Sull'Adda (MI)
DESCRIPTION:Feudalesimo e Libertà sabato 18 / domenica 19 \nLive Music Club – Trezzo sull’Adda (MI)\nBiglietti € 28 + ddp su TicketOne e Mailticket \nSABATO 18 MAGGIO APERTURA CANCELLI ore 15:00 \nPALCO IMPERATORE\n15:30 CANALE TEST SHOW\n15:45 QUANDO SI STAVA METAL Live Podcast\n16:40 DERDIAN \n17:30 VALLORCH \n18:15 contest MR E MISS FEUDO\n19:00 TRICK OR TREAT \n20:05 ALL FOR METAL \n21:50 RHAPSODY OF FIRE \n23:30 AD ASTRA JAM BAND \nPALCO HOSTARIA\n15.30 CISAL \n16.10 contest LONGOBARBA\n16.50 WARG FOLK MUSIC\n17.30 contest GARA DELLA SALSICCIA\n18.15 HAEGEN \n19.00 LANTO \nLOCANDA NERD \n15:10 GDRRANTE E BRANCALONIA 1° TAV.\n15:40 TAVOLI APERTI (FINO AL TRAMONTO)\n16:40 1347 BOARDGAME E SCRIBABS\n17:00 BRANCALONIA 2° TAV.\n17:30 GDRRANTE 2° TAV. \nAREA DELLA PUGNA\nDALLE 15:00 AL TRAMONTO\nMEDIEVAL SOFT COMBAT a cura di TAURUS MFC \nEvento Facebook QUI
URL:https://www.metalhead.it/evento/feudalesimo-e-liberta-trezzo-sulladda-mi/
LOCATION:Live Club\, Trezzo Sull’Adda\, Trezzo sull'Adda\, Italia
ATTACH;FMTTYPE=image/jpeg:https://www.metalhead.it/wp-content/uploads/2024/04/Nfeudalesimoeliberta_20240419_1.jpg
END:VEVENT
BEGIN:VEVENT
DTSTART;TZID=Europe/Rome:20240517T210000
DTEND;TZID=Europe/Rome:20240517T235900
DTSTAMP:20260426T062355
CREATED:20240306T144458Z
LAST-MODIFIED:20240306T144458Z
UID:273792-1715979600-1715990340@www.metalhead.it
SUMMARY:HOUR OF PENANCE @ Costabissara (VI)
DESCRIPTION:Mostro Production\, Ursus Production e The Abyss Booking annunciano HOUR OF PENANCE\, con il Release Party dei SUM HERALD e SEPOLCRAL! \nHour Of Penance + Sum Herald + Sepolcral\nVenerdì 17 Maggio | Birreria San Giorgio\, Costabissara (VI)\nContributo band: 12 euro all’ingresso\nEvento facebook QUI \n \n 
URL:https://www.metalhead.it/evento/hour-of-penance-costabissara-vi/
LOCATION:Birreria San Giorgio\, via Marconi 4\, Costabissara\, VI\, Italia
ATTACH;FMTTYPE=image/jpeg:https://www.metalhead.it/wp-content/uploads/2024/03/nHourOfPenance_20240306.jpg
END:VEVENT
BEGIN:VEVENT
DTSTART;TZID=Europe/Rome:20240517T193000
DTEND;TZID=Europe/Rome:20240517T233000
DTSTAMP:20260426T062355
CREATED:20240222T193920Z
LAST-MODIFIED:20240515T180659Z
UID:272880-1715974200-1715988600@www.metalhead.it
SUMMARY:OCTOBER TIDE @ SCHIO (VI)
DESCRIPTION:Al CSA Arcadia con Echo e For The Storm \nApertura porte\n19:45 \nFOR THE STORMS\n20:15 – 20:55 \nECHO\n21:15 – 21:55 \nPONTE DEL DIAVOLO\n22:15 – 22:55 \nOCTOBER TIDE\n23:15 – 00:05 \nIngresso 20€ \nCSA Arcadia – Schio (VI)\nEvento Facebook QUI
URL:https://www.metalhead.it/evento/october-tide-schio-vi/
LOCATION:CSA Arcadia\, Via Lago di Tovel\, 18\, Schio (VI)\, 36015\, Italia
ATTACH;FMTTYPE=image/jpeg:https://www.metalhead.it/wp-content/uploads/2024/05/Noctobertide_20250515.jpg
END:VEVENT
BEGIN:VEVENT
DTSTART;TZID=Europe/Rome:20240517T193000
DTEND;TZID=Europe/Rome:20240517T233000
DTSTAMP:20260426T062355
CREATED:20240122T203319Z
LAST-MODIFIED:20240122T203319Z
UID:271438-1715974200-1715988600@www.metalhead.it
SUMMARY:GLI ATROCI @ Torino
DESCRIPTION:Allo Ziggy \nGuest TBA \nBiglietti a 12 euro in prevendita e 15 euro direttamente in cassa \nEvento Facebook QUI
URL:https://www.metalhead.it/evento/gli-atroci-torino/
LOCATION:Ziggy Club\, via Madama Cristina 66\, Torino\, TO\, Italia
ATTACH;FMTTYPE=image/jpeg:https://www.metalhead.it/wp-content/uploads/2024/01/Ngliatroci_20240122.jpg
END:VEVENT
BEGIN:VEVENT
DTSTART;TZID=Europe/Rome:20240516T193000
DTEND;TZID=Europe/Rome:20240516T233000
DTSTAMP:20260426T062355
CREATED:20240208T174025Z
LAST-MODIFIED:20240208T174025Z
UID:272152-1715887800-1715902200@www.metalhead.it
SUMMARY:CULTURA TRES @ Milano
DESCRIPTION:Al Legend Club \nCULTURA TRES\, Camino De Brujos Tour 2024 \nGiovedì 16 maggio 2024 – Legend Club – Milano\nBiglietto € 20 + ddp su  TicketOne e Mailticket 
URL:https://www.metalhead.it/evento/cultura-tres-milano/
LOCATION:RM
ATTACH;FMTTYPE=image/jpeg:https://www.metalhead.it/wp-content/uploads/2024/02/Nculturatres_20240208.jpg
END:VEVENT
BEGIN:VEVENT
DTSTART;TZID=Europe/Rome:20240515T193000
DTEND;TZID=Europe/Rome:20240515T233000
DTSTAMP:20260426T062355
CREATED:20240208T173751Z
LAST-MODIFIED:20240208T173751Z
UID:272148-1715801400-1715815800@www.metalhead.it
SUMMARY:CULTURA TRES @ San Donà di Piave (VE)
DESCRIPTION:Al Revolver \nCULTURA TRES\, Camino De Brujos Tour 2024 \n\nMercoledì 15 maggio 2024 – Revolver – San Donà di Piave (VE)\nBiglietto € 20 + ddp su Ciaotickets e Ticketsms 
URL:https://www.metalhead.it/evento/cultura-tres-san-dona-di-piave-ve/
LOCATION:Revolver Club\, via Kennedy 39\, San Donà di Piave\, VE\, 30027\, Italia
ATTACH;FMTTYPE=image/jpeg:https://www.metalhead.it/wp-content/uploads/2024/02/Nculturatres_20240208.jpg
END:VEVENT
BEGIN:VEVENT
DTSTART;TZID=Europe/Rome:20240514T193000
DTEND;TZID=Europe/Rome:20240514T233000
DTSTAMP:20260426T062355
CREATED:20240509T163100Z
LAST-MODIFIED:20240509T163100Z
UID:277328-1715715000-1715729400@www.metalhead.it
SUMMARY:VENDED @ Milano
DESCRIPTION:Al Legend Club \nEvento Facebook QUI
URL:https://www.metalhead.it/evento/vended-milano/
LOCATION:LEGEND CLUB\, Viale Enrico Fermi\, 98\, Milano
END:VEVENT
BEGIN:VEVENT
DTSTART;TZID=Europe/Rome:20240511T200000
DTEND;TZID=Europe/Rome:20240511T235900
DTSTAMP:20260426T062355
CREATED:20240414T075219Z
LAST-MODIFIED:20240414T075219Z
UID:276189-1715457600-1715471940@www.metalhead.it
SUMMARY:ALPENACHT IV @ Castello di Godego (TV)
DESCRIPTION:In arrivo la quarta edizione della serata gestita dal Venetic Black Metal Front \nL’evento avrà luogo presso il DadaArt Live di Castello di Godego (TV). \nSul palco: \nBrünndl (i quali suoneranno “Brünndl III“) \nHarkane \nInfernal Angels \nBlack Legion \nSabato 11 Maggio 2024 \nDadaArt Live \nVicolo Caprera\, 4\, 31030 Castello di Godego (TV) \nEvento Facebook QUI
URL:https://www.metalhead.it/evento/alpenacht-iv-castello-di-godego-tv/
LOCATION:DadaArt Live\, Vicolo Caprera\, 4\, Castello di Godego\, TV\, 31030
ATTACH;FMTTYPE=image/jpeg:https://www.metalhead.it/wp-content/uploads/2024/04/nALPENACHT_IV_20240414.jpg
END:VEVENT
BEGIN:VEVENT
DTSTART;TZID=Europe/Rome:20240511T193000
DTEND;TZID=Europe/Rome:20240511T233000
DTSTAMP:20260426T062355
CREATED:20240422T185600Z
LAST-MODIFIED:20240422T185600Z
UID:276638-1715455800-1715470200@www.metalhead.it
SUMMARY:GENUS ORDINIS DEI @ Genova
DESCRIPTION:Al Crazy Bull con Path Of Sorrow e gli Arkfallen. \nIngresso 15€ \nCrazy Bull – Genova\nEvento Facebook QUI
URL:https://www.metalhead.it/evento/genus-ordinis-dei-genova/
LOCATION:CRAZY BULL\, Via Eustachio Degola\, 4R\, Genova Sampierdarena\, GE\, 16151\, Italia
ATTACH;FMTTYPE=image/jpeg:https://www.metalhead.it/wp-content/uploads/2024/04/Ngenusordinisdei_20240422.jpg
END:VEVENT
BEGIN:VEVENT
DTSTART;TZID=Europe/Rome:20240511T193000
DTEND;TZID=Europe/Rome:20240511T233000
DTSTAMP:20260426T062355
CREATED:20240410T064929Z
LAST-MODIFIED:20240410T064929Z
UID:275823-1715455800-1715470200@www.metalhead.it
SUMMARY:NWOIBM FEST @ Tivoli (RM)
DESCRIPTION:Al Dissesto Cult con Sedna\, Goat Vomit Noise\, Vultur\, Exiled On Earth\, Najing\, Orgg\, Svart Vinter. \nL’ingresso sarà di €10 alla porta e le porte apriranno alle ore 19:00\, con inizio delle esibizioni previsto per le 20:00. Tesserati ENAC avranno accesso gratuito con pre-adesione. \nEvento Facebook QUI
URL:https://www.metalhead.it/evento/nwoibm-fest-tivoli-rm/
LOCATION:Dissesto Cult\, Via del Barco\, Strada del Barco\, 7\, 00019 Tivoli Terme\, Tivoli Terme\, 00019\, Italia
ATTACH;FMTTYPE=image/jpeg:https://www.metalhead.it/wp-content/uploads/2024/04/Nnwoibm_20240410.jpg
END:VEVENT
BEGIN:VEVENT
DTSTART;TZID=Europe/Rome:20240511T193000
DTEND;TZID=Europe/Rome:20240511T233000
DTSTAMP:20260426T062355
CREATED:20240130T175622Z
LAST-MODIFIED:20240227T183032Z
UID:271669-1715455800-1715470200@www.metalhead.it
SUMMARY:DISMEMBER @ Parma
DESCRIPTION:“Rise From The Grave” \nDISMEMBER\nVOMITORY\nDISTRUZIONE (Bus 666)\nPESSIMIST\nCADAVERIC CREMATORIUM\nDEAD CHASM\nCampus Industry\nLargo Francesco Antonio Simonini\, 1 – Parma \nEvento Facebook QUI \nBiglietti:\nPrezzo del biglietto in prevendita: €45 | in cassa la sera dello show: €55\nPrevendite disponibili sui circuiti Ciaoticket e su Ticketone
URL:https://www.metalhead.it/evento/dismember-parma/
LOCATION:Campus Industry\, Parma\, Parma
ATTACH;FMTTYPE=image/jpeg:https://www.metalhead.it/wp-content/uploads/2024/02/Ndismember_20240227.jpg
END:VEVENT
BEGIN:VEVENT
DTSTART;VALUE=DATE:20240511
DTEND;VALUE=DATE:20240513
DTSTAMP:20260426T062355
CREATED:20231113T201648Z
LAST-MODIFIED:20231213T172229Z
UID:268607-1715385600-1715558399@www.metalhead.it
SUMMARY:NOFX @ Sesto San Giovanni (MI)
DESCRIPTION:A Carroponte per un doppio concerto nel loro tour d’addio
URL:https://www.metalhead.it/evento/nofx-sesto-san-giovanni-mi/
LOCATION:Spazio MIl Carroponte\, Via Luigi Granelli\, 1\,\, Sesto San Giovanni (MI)\, 20099\, Italia
ATTACH;FMTTYPE=image/jpeg:https://www.metalhead.it/wp-content/uploads/2023/11/Nnofx_20231113.jpg
END:VEVENT
BEGIN:VEVENT
DTSTART;TZID=Europe/Rome:20240510T210000
DTEND;TZID=Europe/Rome:20240510T233000
DTSTAMP:20260426T062355
CREATED:20240319T192314Z
LAST-MODIFIED:20240319T192314Z
UID:274358-1715374800-1715383800@www.metalhead.it
SUMMARY:CRIPPLE BASTARDS & TONS @ Torino
DESCRIPTION:Allo sPAZIO211 con i So Close \nDOORS H 21 \n️BIGLIETTO IN PREVENDITA EU 16 + DDP \n️DOOR TICKET EU 20 \nPREVENDITE ATTIVE SU DICE \n \n 
URL:https://www.metalhead.it/evento/cripple-bastards-tons-torino/
LOCATION:sPAZIO211\, Via Francesco Cigna\, 211\, Torino\, 10155\, Italia
ATTACH;FMTTYPE=image/jpeg:https://www.metalhead.it/wp-content/uploads/2024/03/Ncripplebastards_20240319.jpg
END:VEVENT
BEGIN:VEVENT
DTSTART;TZID=Europe/Rome:20240505T203000
DTEND;TZID=Europe/Rome:20240505T233000
DTSTAMP:20260426T062355
CREATED:20231222T174615Z
LAST-MODIFIED:20231222T174615Z
UID:270161-1714941000-1714951800@www.metalhead.it
SUMMARY:EXPIATORIA @ Pinerolo (TO)
DESCRIPTION:Sala concerti Italo Tajo con Shape of Despair\, Dawn of Winter\, Black Revelation\, Black Oath and more TBC \nOre 20.30 \nPrezzo giornata singola: 32€ – Abbonamento due giorni: 50€ \nEvento Facebook QUI
URL:https://www.metalhead.it/evento/expiatoria-pinerolo-to/
LOCATION:Sala Concerti Italo Tajo\, via San Giuseppe\, Pinerolo (TO)\, 10064\, Italia
ATTACH;FMTTYPE=image/jpeg:https://www.metalhead.it/wp-content/uploads/2023/12/Nexpiatoria_20231222.jpg
END:VEVENT
BEGIN:VEVENT
DTSTART;TZID=Europe/Rome:20240505T193000
DTEND;TZID=Europe/Rome:20240505T233000
DTSTAMP:20260426T062355
CREATED:20240226T135638Z
LAST-MODIFIED:20240226T135638Z
UID:272966-1714937400-1714951800@www.metalhead.it
SUMMARY:ME AND THAT MAN @ Milano
DESCRIPTION:Al Legend Club \nEvento Facebook QUI \nPrezzo del biglietto in prevendita: €30 | in cassa la sera dello show: €35 \nPrevendite presto disponibili su Dice
URL:https://www.metalhead.it/evento/me-and-that-man-milano/
LOCATION:LEGEND CLUB\, Viale Enrico Fermi\, 98\, Milano
ATTACH;FMTTYPE=image/jpeg:https://www.metalhead.it/wp-content/uploads/2024/02/Nmeandthatman_20240226.jpg
END:VEVENT
BEGIN:VEVENT
DTSTART;TZID=Europe/Rome:20240504T193000
DTEND;TZID=Europe/Rome:20240504T233000
DTSTAMP:20260426T062355
CREATED:20240226T135851Z
LAST-MODIFIED:20240414T091138Z
UID:272968-1714851000-1714865400@www.metalhead.it
SUMMARY:ME AND THAT MAN @ Modena
DESCRIPTION:Al NotteTempio \nEvento Facebook QUI \nPrezzo del biglietto in prevendita: €30 | in cassa la sera dello show: €35 \nPrevendite presto disponibili su Super Ticket \nI Me And That Man saranno per la prima volta in Italia a maggio per uno spettacolo unico\, dalle atmosfere Metal\, Folk e Country\, dalle forti tinte Blues\, ma comunque oscuro\, come del resto lo è il suo creatore. \nDue band a completare la line up: \nIl progetto Ponte Del Diavolo colma il divario tra due mondi separati. La band propone un sound Doom/Black metal con radici old school\, aggiungendo un sottofondo New Wave moderno e fuori dagli schemi. Hanno recentemente pubblicato il loro primo album\, “Fire Blades From The Tomb”\, che forgia il Doom Metal classico e cult con le moderne inclinazioni del Post-Punk. \nIl compito di aprire la serata è affidato ai Fakir Thongs\, band nata nel 2012 iniziando fin da subito un’intensa attività live nella zona di Modena. La loro musica si ispira allo Stoner Rock anni ’90 e allo Space Rock degli anni ’70 e unisce melodie orecchiabili e atmosfere psichedeliche in un sapiente miscuglio sonoro.
URL:https://www.metalhead.it/evento/me-and-that-man-modena/
LOCATION:NotteTempio\, Via Nicolò Biondo\, 194\, 41126 Modena\, Modena\, 41126\, Italia
ATTACH;FMTTYPE=image/jpeg:https://www.metalhead.it/wp-content/uploads/2024/02/nMeAndThatMan_20240414.jpg
END:VEVENT
END:VCALENDAR